BEGIN:VCALENDAR
VERSION:2.0
PRODID:-//Family First Community Center - ECPv6.15.17//NONSGML v1.0//EN
CALSCALE:GREGORIAN
METHOD:PUBLISH
X-WR-CALNAME:Family First Community Center
X-ORIGINAL-URL:https://familyfirstrenton.org
X-WR-CALDESC:Events for Family First Community Center
REFRESH-INTERVAL;VALUE=DURATION:PT1H
X-Robots-Tag:noindex
X-PUBLISHED-TTL:PT1H
BEGIN:VTIMEZONE
TZID:America/Los_Angeles
BEGIN:DAYLIGHT
TZOFFSETFROM:-0800
TZOFFSETTO:-0700
TZNAME:PDT
DTSTART:20240310T100000
END:DAYLIGHT
BEGIN:STANDARD
TZOFFSETFROM:-0700
TZOFFSETTO:-0800
TZNAME:PST
DTSTART:20241103T090000
END:STANDARD
BEGIN:DAYLIGHT
TZOFFSETFROM:-0800
TZOFFSETTO:-0700
TZNAME:PDT
DTSTART:20250309T100000
END:DAYLIGHT
BEGIN:STANDARD
TZOFFSETFROM:-0700
TZOFFSETTO:-0800
TZNAME:PST
DTSTART:20251102T090000
END:STANDARD
BEGIN:DAYLIGHT
TZOFFSETFROM:-0800
TZOFFSETTO:-0700
TZNAME:PDT
DTSTART:20260308T100000
END:DAYLIGHT
BEGIN:STANDARD
TZOFFSETFROM:-0700
TZOFFSETTO:-0800
TZNAME:PST
DTSTART:20261101T090000
END:STANDARD
END:VTIMEZONE
BEGIN:VEVENT
DTSTART;TZID=America/Los_Angeles:20251209T100000
DTEND;TZID=America/Los_Angeles:20251209T110000
DTSTAMP:20260425T054415
CREATED:20231218T182719Z
LAST-MODIFIED:20260305T235509Z
UID:10006808-1765274400-1765278000@familyfirstrenton.org
SUMMARY:Family Story Times at the Family First Community Center
DESCRIPTION:Join Bernadette Salgado from King County Library Systems and enjoy half an hour of stories\, music\, and activities that develop your child’s early literacy skills.
URL:https://familyfirstrenton.org/schedule/family-story-times-at-the-family-first-community-center/2025-12-09/
LOCATION:Family First Community Center: Community Meeting Room\, 16200 116th Ave SE\, Renton\, WA\, 98058\, United States
CATEGORIES:Toddlers,Young Children
ATTACH;FMTTYPE=image/jpeg:https://familyfirstrenton.org/wp-content/uploads/2023/11/20230616_DOUG_BALDWIN_FAMILY_CENTER-45-scaled.jpg
END:VEVENT
BEGIN:VEVENT
DTSTART;TZID=America/Los_Angeles:20251204T113000
DTEND;TZID=America/Los_Angeles:20251204T130000
DTSTAMP:20260425T054415
CREATED:20251020T225306Z
LAST-MODIFIED:20251020T225307Z
UID:10006782-1764847800-1764853200@familyfirstrenton.org
SUMMARY:Weaver's Dream - Ornamental Weaving \, Open Weave
DESCRIPTION:Weaver’s Dream is about learning the joy of weaving on tapestry looms\, circular looms\, and makeshift looms. \nDrop-ins are accepted!
URL:https://familyfirstrenton.org/schedule/weavers-dream-9/
LOCATION:Family First Community Center: Community Meeting Room\, 16200 116th Ave SE\, Renton\, WA\, 98058\, United States
CATEGORIES:Adults and Seniors
ATTACH;FMTTYPE=image/jpeg:https://familyfirstrenton.org/wp-content/uploads/2024/09/pexels-karolina-grabowska-4219653-scaled.jpeg
END:VEVENT
BEGIN:VEVENT
DTSTART;TZID=America/Los_Angeles:20251203T110000
DTEND;TZID=America/Los_Angeles:20251203T120000
DTSTAMP:20260425T054415
CREATED:20240405T224220Z
LAST-MODIFIED:20260112T222231Z
UID:10007501-1764759600-1764763200@familyfirstrenton.org
SUMMARY:Spanish Story Time / Hora de cuentos en español
DESCRIPTION:Enjoy stories\, music\, movement\, and rhymes that develop your child’s early literacy skills. A play session will be offered afterward.
URL:https://familyfirstrenton.org/schedule/spanish-story-time-hora-de-cuentos-en-espanol/2025-12-03/
LOCATION:Family First Community Center: Community Meeting Room\, 16200 116th Ave SE\, Renton\, WA\, 98058\, United States
CATEGORIES:Families,Toddlers,Young Children
ATTACH;FMTTYPE=image/jpeg:https://familyfirstrenton.org/wp-content/uploads/2023/05/20230616_DOUG_BALDWIN_FAMILY_CENTER-73-scaled.jpg
END:VEVENT
BEGIN:VEVENT
DTSTART;TZID=America/Los_Angeles:20251120T103000
DTEND;TZID=America/Los_Angeles:20251120T120000
DTSTAMP:20260425T054415
CREATED:20251020T225010Z
LAST-MODIFIED:20251113T175534Z
UID:10006781-1763634600-1763640000@familyfirstrenton.org
SUMMARY:Weaver's Dream - Mini Weavings/Ornaments
DESCRIPTION:Weaver’s Dream is about learning the joy of weaving on tapestry looms\, circular looms\, and makeshift looms. \nDrop-ins are accepted!
URL:https://familyfirstrenton.org/schedule/weavers-dream-8/
LOCATION:Family First Community Center: Community Meeting Room\, 16200 116th Ave SE\, Renton\, WA\, 98058\, United States
CATEGORIES:Adults and Seniors
ATTACH;FMTTYPE=image/jpeg:https://familyfirstrenton.org/wp-content/uploads/2024/09/pexels-karolina-grabowska-4219653-scaled.jpeg
END:VEVENT
BEGIN:VEVENT
DTSTART;TZID=America/Los_Angeles:20251119T110000
DTEND;TZID=America/Los_Angeles:20251119T120000
DTSTAMP:20260425T054415
CREATED:20240405T224220Z
LAST-MODIFIED:20260112T222231Z
UID:10006212-1763550000-1763553600@familyfirstrenton.org
SUMMARY:Spanish Story Time / Hora de cuentos en español
DESCRIPTION:Enjoy stories\, music\, movement\, and rhymes that develop your child’s early literacy skills. A play session will be offered afterward.
URL:https://familyfirstrenton.org/schedule/spanish-story-time-hora-de-cuentos-en-espanol/2025-11-19/
LOCATION:Family First Community Center: Community Meeting Room\, 16200 116th Ave SE\, Renton\, WA\, 98058\, United States
CATEGORIES:Families,Toddlers,Young Children
ATTACH;FMTTYPE=image/jpeg:https://familyfirstrenton.org/wp-content/uploads/2023/05/20230616_DOUG_BALDWIN_FAMILY_CENTER-73-scaled.jpg
END:VEVENT
BEGIN:VEVENT
DTSTART;TZID=America/Los_Angeles:20251113T113000
DTEND;TZID=America/Los_Angeles:20251113T130000
DTSTAMP:20260425T054415
CREATED:20251020T224937Z
LAST-MODIFIED:20251020T224938Z
UID:10006780-1763033400-1763038800@familyfirstrenton.org
SUMMARY:Weaver's Dream - Color Blending/Fall scape
DESCRIPTION:Weaver’s Dream is about learning the joy of weaving on tapestry looms\, circular looms\, and makeshift looms. \nDrop-ins are accepted!
URL:https://familyfirstrenton.org/schedule/weavers-dream-7/
LOCATION:Family First Community Center: Community Meeting Room\, 16200 116th Ave SE\, Renton\, WA\, 98058\, United States
CATEGORIES:Adults and Seniors
ATTACH;FMTTYPE=image/jpeg:https://familyfirstrenton.org/wp-content/uploads/2024/09/pexels-karolina-grabowska-4219653-scaled.jpeg
END:VEVENT
BEGIN:VEVENT
DTSTART;TZID=America/Los_Angeles:20251112T110000
DTEND;TZID=America/Los_Angeles:20251112T120000
DTSTAMP:20260425T054415
CREATED:20240405T224220Z
LAST-MODIFIED:20260112T222231Z
UID:10006211-1762945200-1762948800@familyfirstrenton.org
SUMMARY:Spanish Story Time / Hora de cuentos en español
DESCRIPTION:Enjoy stories\, music\, movement\, and rhymes that develop your child’s early literacy skills. A play session will be offered afterward.
URL:https://familyfirstrenton.org/schedule/spanish-story-time-hora-de-cuentos-en-espanol/2025-11-12/
LOCATION:Family First Community Center: Community Meeting Room\, 16200 116th Ave SE\, Renton\, WA\, 98058\, United States
CATEGORIES:Families,Toddlers,Young Children
ATTACH;FMTTYPE=image/jpeg:https://familyfirstrenton.org/wp-content/uploads/2023/05/20230616_DOUG_BALDWIN_FAMILY_CENTER-73-scaled.jpg
END:VEVENT
BEGIN:VEVENT
DTSTART;TZID=America/Los_Angeles:20251106T113000
DTEND;TZID=America/Los_Angeles:20251106T130000
DTSTAMP:20260425T054415
CREATED:20251020T224850Z
LAST-MODIFIED:20251020T224850Z
UID:10006779-1762428600-1762434000@familyfirstrenton.org
SUMMARY:Weaver's Dream - Color Blending/Fall scape
DESCRIPTION:Weaver’s Dream is about learning the joy of weaving on tapestry looms\, circular looms\, and makeshift looms. \nDrop-ins are accepted!
URL:https://familyfirstrenton.org/schedule/weavers-dream-6/
LOCATION:Family First Community Center: Community Meeting Room\, 16200 116th Ave SE\, Renton\, WA\, 98058\, United States
CATEGORIES:Adults and Seniors
ATTACH;FMTTYPE=image/jpeg:https://familyfirstrenton.org/wp-content/uploads/2024/09/pexels-karolina-grabowska-4219653-scaled.jpeg
END:VEVENT
BEGIN:VEVENT
DTSTART;TZID=America/Los_Angeles:20251105T110000
DTEND;TZID=America/Los_Angeles:20251105T120000
DTSTAMP:20260425T054415
CREATED:20240405T224220Z
LAST-MODIFIED:20260112T222231Z
UID:10006210-1762340400-1762344000@familyfirstrenton.org
SUMMARY:Spanish Story Time / Hora de cuentos en español
DESCRIPTION:Enjoy stories\, music\, movement\, and rhymes that develop your child’s early literacy skills. A play session will be offered afterward.
URL:https://familyfirstrenton.org/schedule/spanish-story-time-hora-de-cuentos-en-espanol/2025-11-05/
LOCATION:Family First Community Center: Community Meeting Room\, 16200 116th Ave SE\, Renton\, WA\, 98058\, United States
CATEGORIES:Families,Toddlers,Young Children
ATTACH;FMTTYPE=image/jpeg:https://familyfirstrenton.org/wp-content/uploads/2023/05/20230616_DOUG_BALDWIN_FAMILY_CENTER-73-scaled.jpg
END:VEVENT
BEGIN:VEVENT
DTSTART;TZID=America/Los_Angeles:20251104T180000
DTEND;TZID=America/Los_Angeles:20251104T190000
DTSTAMP:20260425T054415
CREATED:20250905T204616Z
LAST-MODIFIED:20251020T150504Z
UID:10006673-1762279200-1762282800@familyfirstrenton.org
SUMMARY:Ukulele Workshop
DESCRIPTION:Join musicians from The Rhapsody Project! You will learn essential music skills\, a few chords\, and how to play a song on the ukulele. There will be an emphasis on the history and context of the songs taught. \nAge specific 12-adults \nMust register in advance. Click here to register.
URL:https://familyfirstrenton.org/schedule/ukulele-workshop/
LOCATION:Family First Community Center: Community Meeting Room\, 16200 116th Ave SE\, Renton\, WA\, 98058\, United States
CATEGORIES:Teens,Adults and Seniors
ATTACH;FMTTYPE=image/jpeg:https://familyfirstrenton.org/wp-content/uploads/2025/09/hannah-busing-VlVAlwAH2_E-unsplash-scaled.jpg
END:VEVENT
BEGIN:VEVENT
DTSTART;TZID=America/Los_Angeles:20251104T100000
DTEND;TZID=America/Los_Angeles:20251104T110000
DTSTAMP:20260425T054415
CREATED:20231218T182719Z
LAST-MODIFIED:20260305T235509Z
UID:10006807-1762250400-1762254000@familyfirstrenton.org
SUMMARY:Family Story Times at the Family First Community Center
DESCRIPTION:Join Bernadette Salgado from King County Library Systems and enjoy half an hour of stories\, music\, and activities that develop your child’s early literacy skills.
URL:https://familyfirstrenton.org/schedule/family-story-times-at-the-family-first-community-center/2025-11-04/
LOCATION:Family First Community Center: Community Meeting Room\, 16200 116th Ave SE\, Renton\, WA\, 98058\, United States
CATEGORIES:Toddlers,Young Children
ATTACH;FMTTYPE=image/jpeg:https://familyfirstrenton.org/wp-content/uploads/2023/11/20230616_DOUG_BALDWIN_FAMILY_CENTER-45-scaled.jpg
END:VEVENT
BEGIN:VEVENT
DTSTART;TZID=America/Los_Angeles:20251030T113000
DTEND;TZID=America/Los_Angeles:20251030T130000
DTSTAMP:20260425T054415
CREATED:20251020T224801Z
LAST-MODIFIED:20251020T224802Z
UID:10006778-1761823800-1761829200@familyfirstrenton.org
SUMMARY:Weaver's Dream - Texture and Mixed Media
DESCRIPTION:Weaver’s Dream is about learning the joy of weaving on tapestry looms\, circular looms\, and makeshift looms. \nDrop-ins are accepted!
URL:https://familyfirstrenton.org/schedule/weavers-dream-5/
LOCATION:Family First Community Center: Community Meeting Room\, 16200 116th Ave SE\, Renton\, WA\, 98058\, United States
CATEGORIES:Adults and Seniors
ATTACH;FMTTYPE=image/jpeg:https://familyfirstrenton.org/wp-content/uploads/2024/09/pexels-karolina-grabowska-4219653-scaled.jpeg
END:VEVENT
BEGIN:VEVENT
DTSTART;TZID=America/Los_Angeles:20251029T110000
DTEND;TZID=America/Los_Angeles:20251029T120000
DTSTAMP:20260425T054415
CREATED:20240405T224220Z
LAST-MODIFIED:20260112T222231Z
UID:10006209-1761735600-1761739200@familyfirstrenton.org
SUMMARY:Spanish Story Time / Hora de cuentos en español
DESCRIPTION:Enjoy stories\, music\, movement\, and rhymes that develop your child’s early literacy skills. A play session will be offered afterward.
URL:https://familyfirstrenton.org/schedule/spanish-story-time-hora-de-cuentos-en-espanol/2025-10-29/
LOCATION:Family First Community Center: Community Meeting Room\, 16200 116th Ave SE\, Renton\, WA\, 98058\, United States
CATEGORIES:Families,Toddlers,Young Children
ATTACH;FMTTYPE=image/jpeg:https://familyfirstrenton.org/wp-content/uploads/2023/05/20230616_DOUG_BALDWIN_FAMILY_CENTER-73-scaled.jpg
END:VEVENT
BEGIN:VEVENT
DTSTART;TZID=America/Los_Angeles:20251023T113000
DTEND;TZID=America/Los_Angeles:20251023T130000
DTSTAMP:20260425T054415
CREATED:20251020T224727Z
LAST-MODIFIED:20251020T224727Z
UID:10006777-1761219000-1761224400@familyfirstrenton.org
SUMMARY:Weaver's Dream - Texture and Mixed Media
DESCRIPTION:Weaver’s Dream is about learning the joy of weaving on tapestry looms\, circular looms\, and makeshift looms. \nDrop-ins are accepted!
URL:https://familyfirstrenton.org/schedule/weavers-dream-4/
LOCATION:Family First Community Center: Community Meeting Room\, 16200 116th Ave SE\, Renton\, WA\, 98058\, United States
CATEGORIES:Adults and Seniors
ATTACH;FMTTYPE=image/jpeg:https://familyfirstrenton.org/wp-content/uploads/2024/09/pexels-karolina-grabowska-4219653-scaled.jpeg
END:VEVENT
BEGIN:VEVENT
DTSTART;TZID=America/Los_Angeles:20251008T110000
DTEND;TZID=America/Los_Angeles:20251008T120000
DTSTAMP:20260425T054415
CREATED:20240405T224220Z
LAST-MODIFIED:20260112T222231Z
UID:10006208-1759921200-1759924800@familyfirstrenton.org
SUMMARY:Spanish Story Time / Hora de cuentos en español
DESCRIPTION:Enjoy stories\, music\, movement\, and rhymes that develop your child’s early literacy skills. A play session will be offered afterward.
URL:https://familyfirstrenton.org/schedule/spanish-story-time-hora-de-cuentos-en-espanol/2025-10-08/
LOCATION:Family First Community Center: Community Meeting Room\, 16200 116th Ave SE\, Renton\, WA\, 98058\, United States
CATEGORIES:Families,Toddlers,Young Children
ATTACH;FMTTYPE=image/jpeg:https://familyfirstrenton.org/wp-content/uploads/2023/05/20230616_DOUG_BALDWIN_FAMILY_CENTER-73-scaled.jpg
END:VEVENT
BEGIN:VEVENT
DTSTART;TZID=America/Los_Angeles:20251002T173000
DTEND;TZID=America/Los_Angeles:20251002T183000
DTSTAMP:20260425T054415
CREATED:20250910T204934Z
LAST-MODIFIED:20260326T182310Z
UID:10007177-1759426200-1759429800@familyfirstrenton.org
SUMMARY:Guitar & Ukulele Class with The Rhapsody Project
DESCRIPTION:Students of all musical levels are welcome to learn guitar or ukulele in a relaxed\, community setting for 10 weeks! The Rhapsody Project can provide an instrument if you do not have one\, and our instructors welcome you to bring the whole family to attend! Open registration during the winter season. \nDo you need to borrow an instrument for the class? Click here to request an instrument. \nDrop-ins are welcome.
URL:https://familyfirstrenton.org/schedule/guitar-ukulele-class-with-the-rhapsody-project/2025-10-02/
LOCATION:Family First Community Center: Community Meeting Room\, 16200 116th Ave SE\, Renton\, WA\, 98058\, United States
CATEGORIES:Teens,Families,Adults and Seniors,Young Children
ATTACH;FMTTYPE=image/jpeg:https://familyfirstrenton.org/wp-content/uploads/2025/09/hannah-busing-VlVAlwAH2_E-unsplash-scaled.jpg
END:VEVENT
BEGIN:VEVENT
DTSTART;TZID=America/Los_Angeles:20251001T110000
DTEND;TZID=America/Los_Angeles:20251001T120000
DTSTAMP:20260425T054415
CREATED:20240405T224220Z
LAST-MODIFIED:20260112T222231Z
UID:10006207-1759316400-1759320000@familyfirstrenton.org
SUMMARY:Spanish Story Time / Hora de cuentos en español
DESCRIPTION:Enjoy stories\, music\, movement\, and rhymes that develop your child’s early literacy skills. A play session will be offered afterward.
URL:https://familyfirstrenton.org/schedule/spanish-story-time-hora-de-cuentos-en-espanol/2025-10-01/
LOCATION:Family First Community Center: Community Meeting Room\, 16200 116th Ave SE\, Renton\, WA\, 98058\, United States
CATEGORIES:Families,Toddlers,Young Children
ATTACH;FMTTYPE=image/jpeg:https://familyfirstrenton.org/wp-content/uploads/2023/05/20230616_DOUG_BALDWIN_FAMILY_CENTER-73-scaled.jpg
END:VEVENT
BEGIN:VEVENT
DTSTART;TZID=America/Los_Angeles:20250924T110000
DTEND;TZID=America/Los_Angeles:20250924T120000
DTSTAMP:20260425T054415
CREATED:20240405T224220Z
LAST-MODIFIED:20260112T222231Z
UID:10006206-1758711600-1758715200@familyfirstrenton.org
SUMMARY:Spanish Story Time / Hora de cuentos en español
DESCRIPTION:Enjoy stories\, music\, movement\, and rhymes that develop your child’s early literacy skills. A play session will be offered afterward.
URL:https://familyfirstrenton.org/schedule/spanish-story-time-hora-de-cuentos-en-espanol/2025-09-24/
LOCATION:Family First Community Center: Community Meeting Room\, 16200 116th Ave SE\, Renton\, WA\, 98058\, United States
CATEGORIES:Families,Toddlers,Young Children
ATTACH;FMTTYPE=image/jpeg:https://familyfirstrenton.org/wp-content/uploads/2023/05/20230616_DOUG_BALDWIN_FAMILY_CENTER-73-scaled.jpg
END:VEVENT
BEGIN:VEVENT
DTSTART;TZID=America/Los_Angeles:20250912T100000
DTEND;TZID=America/Los_Angeles:20250912T110000
DTSTAMP:20260425T054415
CREATED:20250910T210015Z
LAST-MODIFIED:20260422T235237Z
UID:10007187-1757671200-1757674800@familyfirstrenton.org
SUMMARY:Nature Storytime
DESCRIPTION:Join Katy K. from the Environmental Science Center for stories\, movement\, and science activities as we learn about the natural world around us. Themes rotate each month. \nThis program is for families and toddlers 5 and under. \nDrop-ins are accepted.
URL:https://familyfirstrenton.org/schedule/nature-storytime/2025-09-12/
LOCATION:Family First Community Center: Community Meeting Room\, 16200 116th Ave SE\, Renton\, WA\, 98058\, United States
CATEGORIES:Families,Toddlers
ATTACH;FMTTYPE=image/jpeg:https://familyfirstrenton.org/wp-content/uploads/2025/01/Image_20241213_112859_152-scaled-e1757538041404.jpeg
END:VEVENT
BEGIN:VEVENT
DTSTART;TZID=America/Los_Angeles:20250910T110000
DTEND;TZID=America/Los_Angeles:20250910T120000
DTSTAMP:20260425T054415
CREATED:20250909T233459Z
LAST-MODIFIED:20250909T233459Z
UID:10006204-1757502000-1757505600@familyfirstrenton.org
SUMMARY:Spanish Story Time / Hora de cuentos en español
DESCRIPTION:Enjoy stories\, music\, movement\, and rhymes that develop your child’s early literacy skills. A play session will be offered afterward.
URL:https://familyfirstrenton.org/schedule/spanish-story-time-hora-de-cuentos-en-espanol-2/
LOCATION:Family First Community Center: Community Meeting Room\, 16200 116th Ave SE\, Renton\, WA\, 98058\, United States
CATEGORIES:Families,Toddlers,Young Children
ATTACH;FMTTYPE=image/jpeg:https://familyfirstrenton.org/wp-content/uploads/2023/05/20230616_DOUG_BALDWIN_FAMILY_CENTER-73-scaled.jpg
END:VEVENT
BEGIN:VEVENT
DTSTART;TZID=America/Los_Angeles:20250827T100000
DTEND;TZID=America/Los_Angeles:20250827T113000
DTSTAMP:20260425T054415
CREATED:20230912T190031Z
LAST-MODIFIED:20250604T220227Z
UID:10005923-1756288800-1756294200@familyfirstrenton.org
SUMMARY:Acrylic Painting with Jordan Bye Fine Arts- Adults & Seniors
DESCRIPTION:Artists will learn basic art skills\, including composition and color theory. Both students with no previous art experience and a previous art interest are welcome! We will be painting a variety of styles\, from realism to abstract. Supplies are included in cost and classes will result in a finished painting each week. \nDrop-ins are accepted!
URL:https://familyfirstrenton.org/schedule/fine-arts-class-jordan-bye/2025-08-27/
LOCATION:Family First Community Center: Community Meeting Room\, 16200 116th Ave SE\, Renton\, WA\, 98058\, United States
CATEGORIES:Adults and Seniors
ATTACH;FMTTYPE=image/jpeg:https://familyfirstrenton.org/wp-content/uploads/2024/08/IMG_3959-scaled.jpeg
END:VEVENT
BEGIN:VEVENT
DTSTART;TZID=America/Los_Angeles:20250820T100000
DTEND;TZID=America/Los_Angeles:20250820T113000
DTSTAMP:20260425T054415
CREATED:20230912T190031Z
LAST-MODIFIED:20250604T220227Z
UID:10005922-1755684000-1755689400@familyfirstrenton.org
SUMMARY:Acrylic Painting with Jordan Bye Fine Arts- Adults & Seniors
DESCRIPTION:Artists will learn basic art skills\, including composition and color theory. Both students with no previous art experience and a previous art interest are welcome! We will be painting a variety of styles\, from realism to abstract. Supplies are included in cost and classes will result in a finished painting each week. \nDrop-ins are accepted!
URL:https://familyfirstrenton.org/schedule/fine-arts-class-jordan-bye/2025-08-20/
LOCATION:Family First Community Center: Community Meeting Room\, 16200 116th Ave SE\, Renton\, WA\, 98058\, United States
CATEGORIES:Adults and Seniors
ATTACH;FMTTYPE=image/jpeg:https://familyfirstrenton.org/wp-content/uploads/2024/08/IMG_3959-scaled.jpeg
END:VEVENT
BEGIN:VEVENT
DTSTART;TZID=America/Los_Angeles:20250815T100000
DTEND;TZID=America/Los_Angeles:20250815T110000
DTSTAMP:20260425T054415
CREATED:20240316T191904Z
LAST-MODIFIED:20250710T221324Z
UID:10006172-1755252000-1755255600@familyfirstrenton.org
SUMMARY:Science Story Time
DESCRIPTION:Join the Environmental Science Center for stories\, movement\, and science activities as we learn about the natural world around us. Themes rotate each month. Great for ages 2-5 with their caregivers.
URL:https://familyfirstrenton.org/schedule/science-story-time/2025-08-15/
LOCATION:Family First Community Center: Community Meeting Room\, 16200 116th Ave SE\, Renton\, WA\, 98058\, United States
CATEGORIES:Families,Toddlers,Young Children
ATTACH;FMTTYPE=image/jpeg:https://familyfirstrenton.org/wp-content/uploads/2023/05/20230616_DOUG_BALDWIN_FAMILY_CENTER-73-scaled.jpg
END:VEVENT
BEGIN:VEVENT
DTSTART;TZID=America/Los_Angeles:20250814T160000
DTEND;TZID=America/Los_Angeles:20250814T174500
DTSTAMP:20260425T054415
CREATED:20250630T232216Z
LAST-MODIFIED:20250630T232216Z
UID:10006140-1755187200-1755193500@familyfirstrenton.org
SUMMARY:Home Grown
DESCRIPTION:Home buying education and any real estate education: The *Home Grown* workshop is an in-depth educational program designed to guide individuals and families through the journey of homeownership. Whether you’re a first-time homebuyer\, considering upgrading\, or simply seeking to understand the ins and outs of owning a home\, this workshop provides valuable knowledge and practical tools. The program is crafted to address the unique needs of the local community\, offering resources\, expertise\, and hands-on guidance tailored to help residents make informed decisions. *Home Grown* is built on the belief that sustainable homeownership begins with education\, and through this program\, we aim to create a well-informed\, empowered community of homeowners. \nDrop-ins are accepted.
URL:https://familyfirstrenton.org/schedule/home-grown-4/
LOCATION:Family First Community Center: Community Meeting Room\, 16200 116th Ave SE\, Renton\, WA\, 98058\, United States
CATEGORIES:Families,Adults and Seniors
ATTACH;FMTTYPE=image/jpeg:https://familyfirstrenton.org/wp-content/uploads/2023/09/christin-hume-Hcfwew744z4-unsplash-scaled.jpg
END:VEVENT
BEGIN:VEVENT
DTSTART;TZID=America/Los_Angeles:20250813T160000
DTEND;TZID=America/Los_Angeles:20250813T180000
DTSTAMP:20260425T054415
CREATED:20250701T212535Z
LAST-MODIFIED:20250701T212737Z
UID:10006160-1755100800-1755108000@familyfirstrenton.org
SUMMARY:Cookin’ Up Conversations – with Next Level Chef Finalist Megan Keno!
DESCRIPTION:Residents of the Cascade Neighborhood are invited to learn how to make a beautiful cast iron meal and have open conversations with Parks & Recreation staff and Neighborhood leadership regarding the Cascade Neighborhood.
URL:https://familyfirstrenton.org/schedule/cookin-up-conversations-with-next-level-chef-finalist-megan-keno/
LOCATION:Family First Community Center: Community Meeting Room\, 16200 116th Ave SE\, Renton\, WA\, 98058\, United States
CATEGORIES:Adults and Seniors
ATTACH;FMTTYPE=image/jpeg:https://familyfirstrenton.org/wp-content/uploads/2025/07/Megan-Keno-e1751405251881.jpg
END:VEVENT
BEGIN:VEVENT
DTSTART;TZID=America/Los_Angeles:20250813T100000
DTEND;TZID=America/Los_Angeles:20250813T113000
DTSTAMP:20260425T054415
CREATED:20230912T190031Z
LAST-MODIFIED:20250604T220227Z
UID:10005921-1755079200-1755084600@familyfirstrenton.org
SUMMARY:Acrylic Painting with Jordan Bye Fine Arts- Adults & Seniors
DESCRIPTION:Artists will learn basic art skills\, including composition and color theory. Both students with no previous art experience and a previous art interest are welcome! We will be painting a variety of styles\, from realism to abstract. Supplies are included in cost and classes will result in a finished painting each week. \nDrop-ins are accepted!
URL:https://familyfirstrenton.org/schedule/fine-arts-class-jordan-bye/2025-08-13/
LOCATION:Family First Community Center: Community Meeting Room\, 16200 116th Ave SE\, Renton\, WA\, 98058\, United States
CATEGORIES:Adults and Seniors
ATTACH;FMTTYPE=image/jpeg:https://familyfirstrenton.org/wp-content/uploads/2024/08/IMG_3959-scaled.jpeg
END:VEVENT
BEGIN:VEVENT
DTSTART;TZID=America/Los_Angeles:20250807T113000
DTEND;TZID=America/Los_Angeles:20250807T130000
DTSTAMP:20260425T054415
CREATED:20250806T182012Z
LAST-MODIFIED:20250806T182012Z
UID:10005901-1754566200-1754571600@familyfirstrenton.org
SUMMARY:Weaver's Dream
DESCRIPTION:Weaver’s Dream is about learning the joy of weaving on tapestry loom\, circular looms\, and makeshift looms. \nPre-register online at MyActiveCenter or at the front desk. \nClass Themes \n\n7/17- Chunky bags (10:30am-1:00pm)\n7/24- Chunky bag pt. 2\n7/31- Warp/vertical trees\, weaving it on frame\n8/7- Warp/tress\n8/14- Uneven edges\n8/21- Finish warp\n8/28- Texture studies
URL:https://familyfirstrenton.org/schedule/weavers-dream-3/
LOCATION:Family First Community Center: Community Meeting Room\, 16200 116th Ave SE\, Renton\, WA\, 98058\, United States
CATEGORIES:Adults and Seniors
ATTACH;FMTTYPE=image/jpeg:https://familyfirstrenton.org/wp-content/uploads/2024/09/pexels-karolina-grabowska-4219653-scaled.jpeg
END:VEVENT
BEGIN:VEVENT
DTSTART;TZID=America/Los_Angeles:20250806T100000
DTEND;TZID=America/Los_Angeles:20250806T113000
DTSTAMP:20260425T054415
CREATED:20230912T190031Z
LAST-MODIFIED:20250604T220227Z
UID:10005920-1754474400-1754479800@familyfirstrenton.org
SUMMARY:Acrylic Painting with Jordan Bye Fine Arts- Adults & Seniors
DESCRIPTION:Artists will learn basic art skills\, including composition and color theory. Both students with no previous art experience and a previous art interest are welcome! We will be painting a variety of styles\, from realism to abstract. Supplies are included in cost and classes will result in a finished painting each week. \nDrop-ins are accepted!
URL:https://familyfirstrenton.org/schedule/fine-arts-class-jordan-bye/2025-08-06/
LOCATION:Family First Community Center: Community Meeting Room\, 16200 116th Ave SE\, Renton\, WA\, 98058\, United States
CATEGORIES:Adults and Seniors
ATTACH;FMTTYPE=image/jpeg:https://familyfirstrenton.org/wp-content/uploads/2024/08/IMG_3959-scaled.jpeg
END:VEVENT
BEGIN:VEVENT
DTSTART;TZID=America/Los_Angeles:20250730T100000
DTEND;TZID=America/Los_Angeles:20250730T113000
DTSTAMP:20260425T054415
CREATED:20230912T190031Z
LAST-MODIFIED:20250604T220227Z
UID:10005919-1753869600-1753875000@familyfirstrenton.org
SUMMARY:Acrylic Painting with Jordan Bye Fine Arts- Adults & Seniors
DESCRIPTION:Artists will learn basic art skills\, including composition and color theory. Both students with no previous art experience and a previous art interest are welcome! We will be painting a variety of styles\, from realism to abstract. Supplies are included in cost and classes will result in a finished painting each week. \nDrop-ins are accepted!
URL:https://familyfirstrenton.org/schedule/fine-arts-class-jordan-bye/2025-07-30/
LOCATION:Family First Community Center: Community Meeting Room\, 16200 116th Ave SE\, Renton\, WA\, 98058\, United States
CATEGORIES:Adults and Seniors
ATTACH;FMTTYPE=image/jpeg:https://familyfirstrenton.org/wp-content/uploads/2024/08/IMG_3959-scaled.jpeg
END:VEVENT
BEGIN:VEVENT
DTSTART;TZID=America/Los_Angeles:20250723T100000
DTEND;TZID=America/Los_Angeles:20250723T113000
DTSTAMP:20260425T054415
CREATED:20230912T190031Z
LAST-MODIFIED:20250604T220227Z
UID:10005918-1753264800-1753270200@familyfirstrenton.org
SUMMARY:Acrylic Painting with Jordan Bye Fine Arts- Adults & Seniors
DESCRIPTION:Artists will learn basic art skills\, including composition and color theory. Both students with no previous art experience and a previous art interest are welcome! We will be painting a variety of styles\, from realism to abstract. Supplies are included in cost and classes will result in a finished painting each week. \nDrop-ins are accepted!
URL:https://familyfirstrenton.org/schedule/fine-arts-class-jordan-bye/2025-07-23/
LOCATION:Family First Community Center: Community Meeting Room\, 16200 116th Ave SE\, Renton\, WA\, 98058\, United States
CATEGORIES:Adults and Seniors
ATTACH;FMTTYPE=image/jpeg:https://familyfirstrenton.org/wp-content/uploads/2024/08/IMG_3959-scaled.jpeg
END:VEVENT
END:VCALENDAR