BEGIN:VCALENDAR
VERSION:2.0
PRODID:-//Family First Community Center - ECPv6.15.17//NONSGML v1.0//EN
CALSCALE:GREGORIAN
METHOD:PUBLISH
X-WR-CALNAME:Family First Community Center
X-ORIGINAL-URL:https://familyfirstrenton.org
X-WR-CALDESC:Events for Family First Community Center
REFRESH-INTERVAL;VALUE=DURATION:PT1H
X-Robots-Tag:noindex
X-PUBLISHED-TTL:PT1H
BEGIN:VTIMEZONE
TZID:America/Los_Angeles
BEGIN:DAYLIGHT
TZOFFSETFROM:-0800
TZOFFSETTO:-0700
TZNAME:PDT
DTSTART:20250309T100000
END:DAYLIGHT
BEGIN:STANDARD
TZOFFSETFROM:-0700
TZOFFSETTO:-0800
TZNAME:PST
DTSTART:20251102T090000
END:STANDARD
BEGIN:DAYLIGHT
TZOFFSETFROM:-0800
TZOFFSETTO:-0700
TZNAME:PDT
DTSTART:20260308T100000
END:DAYLIGHT
BEGIN:STANDARD
TZOFFSETFROM:-0700
TZOFFSETTO:-0800
TZNAME:PST
DTSTART:20261101T090000
END:STANDARD
BEGIN:DAYLIGHT
TZOFFSETFROM:-0800
TZOFFSETTO:-0700
TZNAME:PDT
DTSTART:20270314T100000
END:DAYLIGHT
BEGIN:STANDARD
TZOFFSETFROM:-0700
TZOFFSETTO:-0800
TZNAME:PST
DTSTART:20271107T090000
END:STANDARD
END:VTIMEZONE
BEGIN:VEVENT
DTSTART;TZID=America/Los_Angeles:20260506T090000
DTEND;TZID=America/Los_Angeles:20260506T140000
DTSTAMP:20260424T065133
CREATED:20230907T173359Z
LAST-MODIFIED:20260422T224131Z
UID:10008564-1778058000-1778076000@familyfirstrenton.org
SUMMARY:Mari Lou's Foot Care
DESCRIPTION:Foot care for those unable to provide for themselves. In addition to assessing the feet of patients taking blood thinners or those that are diabetics. \nPre-register at the front desk or register in advance on MyActiveCenter and you will receive a confirmation of your time slot. Registration required! \nMax capacity is 10 for the entire program\, each 30-minute session is a 1-1.
URL:https://familyfirstrenton.org/schedule/mari-lous-foot-care/2026-05-06/
LOCATION:Family First Community Center: Activities Lounge Quiet Room
CATEGORIES:Adults and Seniors
ATTACH;FMTTYPE=image/jpeg:https://familyfirstrenton.org/wp-content/uploads/2023/06/FFCC-Activities-Lounge-2023-scaled.jpg
END:VEVENT
BEGIN:VEVENT
DTSTART;TZID=America/Los_Angeles:20260610T090000
DTEND;TZID=America/Los_Angeles:20260610T140000
DTSTAMP:20260424T065133
CREATED:20230907T173359Z
LAST-MODIFIED:20260422T224131Z
UID:10006223-1781082000-1781100000@familyfirstrenton.org
SUMMARY:Mari Lou's Foot Care
DESCRIPTION:Foot care for those unable to provide for themselves. In addition to assessing the feet of patients taking blood thinners or those that are diabetics. \nPre-register at the front desk or register in advance on MyActiveCenter and you will receive a confirmation of your time slot. Registration required! \nMax capacity is 10 for the entire program\, each 30-minute session is a 1-1.
URL:https://familyfirstrenton.org/schedule/mari-lous-foot-care/2026-06-10/
LOCATION:Family First Community Center: Activities Lounge Quiet Room
CATEGORIES:Adults and Seniors
ATTACH;FMTTYPE=image/jpeg:https://familyfirstrenton.org/wp-content/uploads/2023/06/FFCC-Activities-Lounge-2023-scaled.jpg
END:VEVENT
BEGIN:VEVENT
DTSTART;TZID=America/Los_Angeles:20260715T100000
DTEND;TZID=America/Los_Angeles:20260715T150000
DTSTAMP:20260424T065133
CREATED:20230907T173359Z
LAST-MODIFIED:20260422T224131Z
UID:10006224-1784109600-1784127600@familyfirstrenton.org
SUMMARY:Mari Lou's Foot Care
DESCRIPTION:Foot care for those unable to provide for themselves. In addition to assessing the feet of patients taking blood thinners or those that are diabetics. \nPre-register at the front desk or register in advance on MyActiveCenter and you will receive a confirmation of your time slot. Registration required! \nMax capacity is 10 for the entire program\, each 30-minute session is a 1-1.
URL:https://familyfirstrenton.org/schedule/mari-lous-foot-care/2026-07-15/
LOCATION:Family First Community Center: Activities Lounge Quiet Room
CATEGORIES:Adults and Seniors
ATTACH;FMTTYPE=image/jpeg:https://familyfirstrenton.org/wp-content/uploads/2023/06/FFCC-Activities-Lounge-2023-scaled.jpg
END:VEVENT
END:VCALENDAR