BEGIN:VCALENDAR
VERSION:2.0
PRODID:-//Family First Community Center - ECPv6.15.17//NONSGML v1.0//EN
CALSCALE:GREGORIAN
METHOD:PUBLISH
X-WR-CALNAME:Family First Community Center
X-ORIGINAL-URL:https://familyfirstrenton.org
X-WR-CALDESC:Events for Family First Community Center
REFRESH-INTERVAL;VALUE=DURATION:PT1H
X-Robots-Tag:noindex
X-PUBLISHED-TTL:PT1H
BEGIN:VTIMEZONE
TZID:America/Los_Angeles
BEGIN:DAYLIGHT
TZOFFSETFROM:-0800
TZOFFSETTO:-0700
TZNAME:PDT
DTSTART:20250309T100000
END:DAYLIGHT
BEGIN:STANDARD
TZOFFSETFROM:-0700
TZOFFSETTO:-0800
TZNAME:PST
DTSTART:20251102T090000
END:STANDARD
BEGIN:DAYLIGHT
TZOFFSETFROM:-0800
TZOFFSETTO:-0700
TZNAME:PDT
DTSTART:20260308T100000
END:DAYLIGHT
BEGIN:STANDARD
TZOFFSETFROM:-0700
TZOFFSETTO:-0800
TZNAME:PST
DTSTART:20261101T090000
END:STANDARD
BEGIN:DAYLIGHT
TZOFFSETFROM:-0800
TZOFFSETTO:-0700
TZNAME:PDT
DTSTART:20270314T100000
END:DAYLIGHT
BEGIN:STANDARD
TZOFFSETFROM:-0700
TZOFFSETTO:-0800
TZNAME:PST
DTSTART:20271107T090000
END:STANDARD
END:VTIMEZONE
BEGIN:VEVENT
DTSTART;TZID=America/Los_Angeles:20260804T110000
DTEND;TZID=America/Los_Angeles:20260804T120000
DTSTAMP:20260425T052200
CREATED:20260116T235513Z
LAST-MODIFIED:20260422T234345Z
UID:10009170-1785841200-1785844800@familyfirstrenton.org
SUMMARY:Soft Style Kung Fu for Seniors
DESCRIPTION:Join Ricky Thatsanavongsa from Golden Sun Athletics for Soft Style Kung Fu for Seniors! \nThis soft style Kung Fu for Seniors class includes Baat Ying Baat Faat\, Chinese martial arts\, to practice balance\, coordination\, and breathing exercises through traditional techniques. \nDrop-ins are accepted.
URL:https://familyfirstrenton.org/schedule/soft-style-kung-fu-for-seniors/2026-08-04/
LOCATION:Family First Community Center: Dance Studio
CATEGORIES:Adults and Seniors
ATTACH;FMTTYPE=image/jpeg:https://familyfirstrenton.org/wp-content/uploads/2023/12/IMG_9726-scaled.jpg
END:VEVENT
BEGIN:VEVENT
DTSTART;TZID=America/Los_Angeles:20260804T123000
DTEND;TZID=America/Los_Angeles:20260804T133000
DTSTAMP:20260425T052200
CREATED:20250428T175335Z
LAST-MODIFIED:20260422T231825Z
UID:10009134-1785846600-1785850200@familyfirstrenton.org
SUMMARY:Kung Fu Staff Class
DESCRIPTION:Join Sifu Ricky Thatsanavongsa for an introduction to the traditional Chinese staff. This class is designed for senior adults and emphasizes gentle movement\, proper alignment\, and functional mobility\, drawing from classical Kung Fu principles in a supportive\, friendly environment. \nStaff required for the participation of the classes. Staff rentals and purchases can be made directly with the program instructor ($50 for rental\, $130 for purchase). \nRegister and pay online at MyActiveCenter or in-person.
URL:https://familyfirstrenton.org/schedule/kung-fu-staff-class/2026-08-04/
LOCATION:Family First Community Center: Gymnasium 1/2\, 16200 116th Ave SE\, Renton\, WA\, 98058
CATEGORIES:Adults and Seniors
ATTACH;FMTTYPE=image/jpeg:https://familyfirstrenton.org/wp-content/uploads/2023/12/IMG_9726-scaled.jpg
END:VEVENT
BEGIN:VEVENT
DTSTART;TZID=America/Los_Angeles:20260805T154500
DTEND;TZID=America/Los_Angeles:20260805T164500
DTSTAMP:20260425T052200
CREATED:20231218T183126Z
LAST-MODIFIED:20260422T225527Z
UID:10009104-1785944700-1785948300@familyfirstrenton.org
SUMMARY:Ballard FC: Free Weekly Youth Soccer Clinic (Ages 5-9)
DESCRIPTION:Free access to all youth to work on soccer skills every Wednesday! Soccer cleats and shin guards are encouraged if possible! Brought to you by Bridges United Foundation\, associated with Ballard FC Foundation \nDrop-ins are accepted. 16 participants max\, so we encourage pre-registration in advance with the FFCC front desk to ensure your spot is secured! This program occurs on the outdoor field(s) and Cascade Elementary gymnasium when there is inclement weather \nRules & Expectations: \n\nRespect the staff\nRespect the building\nRespect each other\nAthletic footwear during the program\nHave a growth mindset to learn\nBe ready to have fun\nPrevious soccer experience not required\nShinguards are encouraged but not required\nWhen experiencing inclement weather\, we will move inside when available.\nWater breaks are provided during the session but we do not have designated snack breaks.\nEach session is designed to create a fun learning environment for young participants to grow their foundational skills in the game of soccer.
URL:https://familyfirstrenton.org/schedule/free-weekly-youth-soccer-clinic/2026-08-05/
LOCATION:Outdoor Fields
CATEGORIES:Young Children
ATTACH;FMTTYPE=image/jpeg:https://familyfirstrenton.org/wp-content/uploads/2023/09/IMG_1930-scaled.jpg
END:VEVENT
BEGIN:VEVENT
DTSTART;TZID=America/Los_Angeles:20260806T110000
DTEND;TZID=America/Los_Angeles:20260806T120000
DTSTAMP:20260425T052200
CREATED:20260116T235513Z
LAST-MODIFIED:20260422T234345Z
UID:10009171-1786014000-1786017600@familyfirstrenton.org
SUMMARY:Soft Style Kung Fu for Seniors
DESCRIPTION:Join Ricky Thatsanavongsa from Golden Sun Athletics for Soft Style Kung Fu for Seniors! \nThis soft style Kung Fu for Seniors class includes Baat Ying Baat Faat\, Chinese martial arts\, to practice balance\, coordination\, and breathing exercises through traditional techniques. \nDrop-ins are accepted.
URL:https://familyfirstrenton.org/schedule/soft-style-kung-fu-for-seniors/2026-08-06/
LOCATION:Family First Community Center: Dance Studio
CATEGORIES:Adults and Seniors
ATTACH;FMTTYPE=image/jpeg:https://familyfirstrenton.org/wp-content/uploads/2023/12/IMG_9726-scaled.jpg
END:VEVENT
BEGIN:VEVENT
DTSTART;TZID=America/Los_Angeles:20260811T110000
DTEND;TZID=America/Los_Angeles:20260811T120000
DTSTAMP:20260425T052200
CREATED:20260116T235513Z
LAST-MODIFIED:20260422T234345Z
UID:10009172-1786446000-1786449600@familyfirstrenton.org
SUMMARY:Soft Style Kung Fu for Seniors
DESCRIPTION:Join Ricky Thatsanavongsa from Golden Sun Athletics for Soft Style Kung Fu for Seniors! \nThis soft style Kung Fu for Seniors class includes Baat Ying Baat Faat\, Chinese martial arts\, to practice balance\, coordination\, and breathing exercises through traditional techniques. \nDrop-ins are accepted.
URL:https://familyfirstrenton.org/schedule/soft-style-kung-fu-for-seniors/2026-08-11/
LOCATION:Family First Community Center: Dance Studio
CATEGORIES:Adults and Seniors
ATTACH;FMTTYPE=image/jpeg:https://familyfirstrenton.org/wp-content/uploads/2023/12/IMG_9726-scaled.jpg
END:VEVENT
BEGIN:VEVENT
DTSTART;TZID=America/Los_Angeles:20260811T123000
DTEND;TZID=America/Los_Angeles:20260811T133000
DTSTAMP:20260425T052200
CREATED:20250428T175335Z
LAST-MODIFIED:20260422T231825Z
UID:10009135-1786451400-1786455000@familyfirstrenton.org
SUMMARY:Kung Fu Staff Class
DESCRIPTION:Join Sifu Ricky Thatsanavongsa for an introduction to the traditional Chinese staff. This class is designed for senior adults and emphasizes gentle movement\, proper alignment\, and functional mobility\, drawing from classical Kung Fu principles in a supportive\, friendly environment. \nStaff required for the participation of the classes. Staff rentals and purchases can be made directly with the program instructor ($50 for rental\, $130 for purchase). \nRegister and pay online at MyActiveCenter or in-person.
URL:https://familyfirstrenton.org/schedule/kung-fu-staff-class/2026-08-11/
LOCATION:Family First Community Center: Gymnasium 1/2\, 16200 116th Ave SE\, Renton\, WA\, 98058
CATEGORIES:Adults and Seniors
ATTACH;FMTTYPE=image/jpeg:https://familyfirstrenton.org/wp-content/uploads/2023/12/IMG_9726-scaled.jpg
END:VEVENT
BEGIN:VEVENT
DTSTART;TZID=America/Los_Angeles:20260812T154500
DTEND;TZID=America/Los_Angeles:20260812T164500
DTSTAMP:20260425T052200
CREATED:20231218T183126Z
LAST-MODIFIED:20260422T225527Z
UID:10009105-1786549500-1786553100@familyfirstrenton.org
SUMMARY:Ballard FC: Free Weekly Youth Soccer Clinic (Ages 5-9)
DESCRIPTION:Free access to all youth to work on soccer skills every Wednesday! Soccer cleats and shin guards are encouraged if possible! Brought to you by Bridges United Foundation\, associated with Ballard FC Foundation \nDrop-ins are accepted. 16 participants max\, so we encourage pre-registration in advance with the FFCC front desk to ensure your spot is secured! This program occurs on the outdoor field(s) and Cascade Elementary gymnasium when there is inclement weather \nRules & Expectations: \n\nRespect the staff\nRespect the building\nRespect each other\nAthletic footwear during the program\nHave a growth mindset to learn\nBe ready to have fun\nPrevious soccer experience not required\nShinguards are encouraged but not required\nWhen experiencing inclement weather\, we will move inside when available.\nWater breaks are provided during the session but we do not have designated snack breaks.\nEach session is designed to create a fun learning environment for young participants to grow their foundational skills in the game of soccer.
URL:https://familyfirstrenton.org/schedule/free-weekly-youth-soccer-clinic/2026-08-12/
LOCATION:Outdoor Fields
CATEGORIES:Young Children
ATTACH;FMTTYPE=image/jpeg:https://familyfirstrenton.org/wp-content/uploads/2023/09/IMG_1930-scaled.jpg
END:VEVENT
BEGIN:VEVENT
DTSTART;TZID=America/Los_Angeles:20260813T110000
DTEND;TZID=America/Los_Angeles:20260813T120000
DTSTAMP:20260425T052200
CREATED:20260116T235513Z
LAST-MODIFIED:20260422T234345Z
UID:10009173-1786618800-1786622400@familyfirstrenton.org
SUMMARY:Soft Style Kung Fu for Seniors
DESCRIPTION:Join Ricky Thatsanavongsa from Golden Sun Athletics for Soft Style Kung Fu for Seniors! \nThis soft style Kung Fu for Seniors class includes Baat Ying Baat Faat\, Chinese martial arts\, to practice balance\, coordination\, and breathing exercises through traditional techniques. \nDrop-ins are accepted.
URL:https://familyfirstrenton.org/schedule/soft-style-kung-fu-for-seniors/2026-08-13/
LOCATION:Family First Community Center: Dance Studio
CATEGORIES:Adults and Seniors
ATTACH;FMTTYPE=image/jpeg:https://familyfirstrenton.org/wp-content/uploads/2023/12/IMG_9726-scaled.jpg
END:VEVENT
BEGIN:VEVENT
DTSTART;TZID=America/Los_Angeles:20260818T110000
DTEND;TZID=America/Los_Angeles:20260818T120000
DTSTAMP:20260425T052200
CREATED:20260116T235513Z
LAST-MODIFIED:20260422T234345Z
UID:10009174-1787050800-1787054400@familyfirstrenton.org
SUMMARY:Soft Style Kung Fu for Seniors
DESCRIPTION:Join Ricky Thatsanavongsa from Golden Sun Athletics for Soft Style Kung Fu for Seniors! \nThis soft style Kung Fu for Seniors class includes Baat Ying Baat Faat\, Chinese martial arts\, to practice balance\, coordination\, and breathing exercises through traditional techniques. \nDrop-ins are accepted.
URL:https://familyfirstrenton.org/schedule/soft-style-kung-fu-for-seniors/2026-08-18/
LOCATION:Family First Community Center: Dance Studio
CATEGORIES:Adults and Seniors
ATTACH;FMTTYPE=image/jpeg:https://familyfirstrenton.org/wp-content/uploads/2023/12/IMG_9726-scaled.jpg
END:VEVENT
BEGIN:VEVENT
DTSTART;TZID=America/Los_Angeles:20260818T123000
DTEND;TZID=America/Los_Angeles:20260818T133000
DTSTAMP:20260425T052200
CREATED:20250428T175335Z
LAST-MODIFIED:20260422T231825Z
UID:10009136-1787056200-1787059800@familyfirstrenton.org
SUMMARY:Kung Fu Staff Class
DESCRIPTION:Join Sifu Ricky Thatsanavongsa for an introduction to the traditional Chinese staff. This class is designed for senior adults and emphasizes gentle movement\, proper alignment\, and functional mobility\, drawing from classical Kung Fu principles in a supportive\, friendly environment. \nStaff required for the participation of the classes. Staff rentals and purchases can be made directly with the program instructor ($50 for rental\, $130 for purchase). \nRegister and pay online at MyActiveCenter or in-person.
URL:https://familyfirstrenton.org/schedule/kung-fu-staff-class/2026-08-18/
LOCATION:Family First Community Center: Gymnasium 1/2\, 16200 116th Ave SE\, Renton\, WA\, 98058
CATEGORIES:Adults and Seniors
ATTACH;FMTTYPE=image/jpeg:https://familyfirstrenton.org/wp-content/uploads/2023/12/IMG_9726-scaled.jpg
END:VEVENT
BEGIN:VEVENT
DTSTART;TZID=America/Los_Angeles:20260819T154500
DTEND;TZID=America/Los_Angeles:20260819T164500
DTSTAMP:20260425T052200
CREATED:20231218T183126Z
LAST-MODIFIED:20260422T225527Z
UID:10009106-1787154300-1787157900@familyfirstrenton.org
SUMMARY:Ballard FC: Free Weekly Youth Soccer Clinic (Ages 5-9)
DESCRIPTION:Free access to all youth to work on soccer skills every Wednesday! Soccer cleats and shin guards are encouraged if possible! Brought to you by Bridges United Foundation\, associated with Ballard FC Foundation \nDrop-ins are accepted. 16 participants max\, so we encourage pre-registration in advance with the FFCC front desk to ensure your spot is secured! This program occurs on the outdoor field(s) and Cascade Elementary gymnasium when there is inclement weather \nRules & Expectations: \n\nRespect the staff\nRespect the building\nRespect each other\nAthletic footwear during the program\nHave a growth mindset to learn\nBe ready to have fun\nPrevious soccer experience not required\nShinguards are encouraged but not required\nWhen experiencing inclement weather\, we will move inside when available.\nWater breaks are provided during the session but we do not have designated snack breaks.\nEach session is designed to create a fun learning environment for young participants to grow their foundational skills in the game of soccer.
URL:https://familyfirstrenton.org/schedule/free-weekly-youth-soccer-clinic/2026-08-19/
LOCATION:Outdoor Fields
CATEGORIES:Young Children
ATTACH;FMTTYPE=image/jpeg:https://familyfirstrenton.org/wp-content/uploads/2023/09/IMG_1930-scaled.jpg
END:VEVENT
BEGIN:VEVENT
DTSTART;TZID=America/Los_Angeles:20260820T110000
DTEND;TZID=America/Los_Angeles:20260820T120000
DTSTAMP:20260425T052200
CREATED:20260116T235513Z
LAST-MODIFIED:20260422T234345Z
UID:10009175-1787223600-1787227200@familyfirstrenton.org
SUMMARY:Soft Style Kung Fu for Seniors
DESCRIPTION:Join Ricky Thatsanavongsa from Golden Sun Athletics for Soft Style Kung Fu for Seniors! \nThis soft style Kung Fu for Seniors class includes Baat Ying Baat Faat\, Chinese martial arts\, to practice balance\, coordination\, and breathing exercises through traditional techniques. \nDrop-ins are accepted.
URL:https://familyfirstrenton.org/schedule/soft-style-kung-fu-for-seniors/2026-08-20/
LOCATION:Family First Community Center: Dance Studio
CATEGORIES:Adults and Seniors
ATTACH;FMTTYPE=image/jpeg:https://familyfirstrenton.org/wp-content/uploads/2023/12/IMG_9726-scaled.jpg
END:VEVENT
BEGIN:VEVENT
DTSTART;TZID=America/Los_Angeles:20260825T110000
DTEND;TZID=America/Los_Angeles:20260825T120000
DTSTAMP:20260425T052200
CREATED:20260116T235513Z
LAST-MODIFIED:20260422T234345Z
UID:10009176-1787655600-1787659200@familyfirstrenton.org
SUMMARY:Soft Style Kung Fu for Seniors
DESCRIPTION:Join Ricky Thatsanavongsa from Golden Sun Athletics for Soft Style Kung Fu for Seniors! \nThis soft style Kung Fu for Seniors class includes Baat Ying Baat Faat\, Chinese martial arts\, to practice balance\, coordination\, and breathing exercises through traditional techniques. \nDrop-ins are accepted.
URL:https://familyfirstrenton.org/schedule/soft-style-kung-fu-for-seniors/2026-08-25/
LOCATION:Family First Community Center: Dance Studio
CATEGORIES:Adults and Seniors
ATTACH;FMTTYPE=image/jpeg:https://familyfirstrenton.org/wp-content/uploads/2023/12/IMG_9726-scaled.jpg
END:VEVENT
BEGIN:VEVENT
DTSTART;TZID=America/Los_Angeles:20260825T123000
DTEND;TZID=America/Los_Angeles:20260825T133000
DTSTAMP:20260425T052200
CREATED:20250428T175335Z
LAST-MODIFIED:20260422T231825Z
UID:10009137-1787661000-1787664600@familyfirstrenton.org
SUMMARY:Kung Fu Staff Class
DESCRIPTION:Join Sifu Ricky Thatsanavongsa for an introduction to the traditional Chinese staff. This class is designed for senior adults and emphasizes gentle movement\, proper alignment\, and functional mobility\, drawing from classical Kung Fu principles in a supportive\, friendly environment. \nStaff required for the participation of the classes. Staff rentals and purchases can be made directly with the program instructor ($50 for rental\, $130 for purchase). \nRegister and pay online at MyActiveCenter or in-person.
URL:https://familyfirstrenton.org/schedule/kung-fu-staff-class/2026-08-25/
LOCATION:Family First Community Center: Gymnasium 1/2\, 16200 116th Ave SE\, Renton\, WA\, 98058
CATEGORIES:Adults and Seniors
ATTACH;FMTTYPE=image/jpeg:https://familyfirstrenton.org/wp-content/uploads/2023/12/IMG_9726-scaled.jpg
END:VEVENT
BEGIN:VEVENT
DTSTART;TZID=America/Los_Angeles:20260826T154500
DTEND;TZID=America/Los_Angeles:20260826T164500
DTSTAMP:20260425T052200
CREATED:20231218T183126Z
LAST-MODIFIED:20260422T225527Z
UID:10009107-1787759100-1787762700@familyfirstrenton.org
SUMMARY:Ballard FC: Free Weekly Youth Soccer Clinic (Ages 5-9)
DESCRIPTION:Free access to all youth to work on soccer skills every Wednesday! Soccer cleats and shin guards are encouraged if possible! Brought to you by Bridges United Foundation\, associated with Ballard FC Foundation \nDrop-ins are accepted. 16 participants max\, so we encourage pre-registration in advance with the FFCC front desk to ensure your spot is secured! This program occurs on the outdoor field(s) and Cascade Elementary gymnasium when there is inclement weather \nRules & Expectations: \n\nRespect the staff\nRespect the building\nRespect each other\nAthletic footwear during the program\nHave a growth mindset to learn\nBe ready to have fun\nPrevious soccer experience not required\nShinguards are encouraged but not required\nWhen experiencing inclement weather\, we will move inside when available.\nWater breaks are provided during the session but we do not have designated snack breaks.\nEach session is designed to create a fun learning environment for young participants to grow their foundational skills in the game of soccer.
URL:https://familyfirstrenton.org/schedule/free-weekly-youth-soccer-clinic/2026-08-26/
LOCATION:Outdoor Fields
CATEGORIES:Young Children
ATTACH;FMTTYPE=image/jpeg:https://familyfirstrenton.org/wp-content/uploads/2023/09/IMG_1930-scaled.jpg
END:VEVENT
BEGIN:VEVENT
DTSTART;TZID=America/Los_Angeles:20260826T154500
DTEND;TZID=America/Los_Angeles:20260826T164500
DTSTAMP:20260425T052200
CREATED:20260401T173357Z
LAST-MODIFIED:20260422T225014Z
UID:10009097-1787759100-1787762700@familyfirstrenton.org
SUMMARY:Ballard FC: Monthly Girls Youth Soccer Clinic
DESCRIPTION:Free access to youth to work on soccer skills every month on Wednesday! Soccer cleats and shin guards are encouraged if possible! \nBrought to you by: Bridges United Foundation\, formerly known as Ballard FC Foundation \nDrop-ins are accepted. 16 participants max\, so we encourage pre-registration in advance with the FFCC front desk to ensure your spot is secured! \nThis program takes place on the outdoor field(s) and the Cascade Elementary gymnasium when there is inclement weather. \nProgram Details \n\nPrevious soccer experience not required\nShinguards are encouraged but not required\nWhen experiencing inclement weather\, we will move inside when available.\nWater breaks are provided during the session\, but we do not have designated snack breaks.\nEach session is designed to create a fun learning environment for young participants to grow their foundational skills in the game of soccer.\n\nExpectations \n\nRespect the building\nRespect the staff\nRespect each other\nAthletic footwear during the program\nHave a growth mindset to learn\nBe ready to have fun
URL:https://familyfirstrenton.org/schedule/ballard-fc-monthly-girls-youth-soccer-clinic/2026-08-26/
LOCATION:Outdoor Fields
CATEGORIES:Young Children
ATTACH;FMTTYPE=image/jpeg:https://familyfirstrenton.org/wp-content/uploads/2024/01/IMG_1939-scaled.jpg
END:VEVENT
BEGIN:VEVENT
DTSTART;TZID=America/Los_Angeles:20260827T110000
DTEND;TZID=America/Los_Angeles:20260827T120000
DTSTAMP:20260425T052200
CREATED:20260116T235513Z
LAST-MODIFIED:20260422T234345Z
UID:10009177-1787828400-1787832000@familyfirstrenton.org
SUMMARY:Soft Style Kung Fu for Seniors
DESCRIPTION:Join Ricky Thatsanavongsa from Golden Sun Athletics for Soft Style Kung Fu for Seniors! \nThis soft style Kung Fu for Seniors class includes Baat Ying Baat Faat\, Chinese martial arts\, to practice balance\, coordination\, and breathing exercises through traditional techniques. \nDrop-ins are accepted.
URL:https://familyfirstrenton.org/schedule/soft-style-kung-fu-for-seniors/2026-08-27/
LOCATION:Family First Community Center: Dance Studio
CATEGORIES:Adults and Seniors
ATTACH;FMTTYPE=image/jpeg:https://familyfirstrenton.org/wp-content/uploads/2023/12/IMG_9726-scaled.jpg
END:VEVENT
END:VCALENDAR