BEGIN:VCALENDAR
VERSION:2.0
PRODID:-//Family First Community Center - ECPv6.15.17//NONSGML v1.0//EN
CALSCALE:GREGORIAN
METHOD:PUBLISH
X-WR-CALNAME:Family First Community Center
X-ORIGINAL-URL:https://familyfirstrenton.org
X-WR-CALDESC:Events for Family First Community Center
REFRESH-INTERVAL;VALUE=DURATION:PT1H
X-Robots-Tag:noindex
X-PUBLISHED-TTL:PT1H
BEGIN:VTIMEZONE
TZID:America/Los_Angeles
BEGIN:DAYLIGHT
TZOFFSETFROM:-0800
TZOFFSETTO:-0700
TZNAME:PDT
DTSTART:20230312T100000
END:DAYLIGHT
BEGIN:STANDARD
TZOFFSETFROM:-0700
TZOFFSETTO:-0800
TZNAME:PST
DTSTART:20231105T090000
END:STANDARD
BEGIN:DAYLIGHT
TZOFFSETFROM:-0800
TZOFFSETTO:-0700
TZNAME:PDT
DTSTART:20240310T100000
END:DAYLIGHT
BEGIN:STANDARD
TZOFFSETFROM:-0700
TZOFFSETTO:-0800
TZNAME:PST
DTSTART:20241103T090000
END:STANDARD
BEGIN:DAYLIGHT
TZOFFSETFROM:-0800
TZOFFSETTO:-0700
TZNAME:PDT
DTSTART:20250309T100000
END:DAYLIGHT
BEGIN:STANDARD
TZOFFSETFROM:-0700
TZOFFSETTO:-0800
TZNAME:PST
DTSTART:20251102T090000
END:STANDARD
END:VTIMEZONE
BEGIN:VEVENT
DTSTART;TZID=America/Los_Angeles:20240506T180000
DTEND;TZID=America/Los_Angeles:20240506T200000
DTSTAMP:20260424T084122
CREATED:20240325T214544Z
LAST-MODIFIED:20240405T160051Z
UID:10003660-1715018400-1715025600@familyfirstrenton.org
SUMMARY:Generations in Groove
DESCRIPTION:People of all ages & experience levels are welcome to join leaders of The Rhapsody Project for weekly\, social music-making sessions. \nThis program is $15/individual drop-in for 1 session or $120/entire quarter. \nReduced rates & instruments are available upon request\, simply email info@therhapsodyproject.org.
URL:https://familyfirstrenton.org/schedule/generations-in-groove/2024-05-06/
LOCATION:Family First Community Center: Community Meeting Room\, 16200 116th Ave SE\, Renton\, WA\, 98058\, United States
CATEGORIES:Teens,Families,Adults and Seniors,Young Children
ATTACH;FMTTYPE=image/jpeg:https://familyfirstrenton.org/wp-content/uploads/2023/11/20230616_DOUG_BALDWIN_FAMILY_CENTER-39-scaled.jpg
END:VEVENT
BEGIN:VEVENT
DTSTART;TZID=America/Los_Angeles:20240513T180000
DTEND;TZID=America/Los_Angeles:20240513T200000
DTSTAMP:20260424T084122
CREATED:20240325T214544Z
LAST-MODIFIED:20240405T160051Z
UID:10003661-1715623200-1715630400@familyfirstrenton.org
SUMMARY:Generations in Groove
DESCRIPTION:People of all ages & experience levels are welcome to join leaders of The Rhapsody Project for weekly\, social music-making sessions. \nThis program is $15/individual drop-in for 1 session or $120/entire quarter. \nReduced rates & instruments are available upon request\, simply email info@therhapsodyproject.org.
URL:https://familyfirstrenton.org/schedule/generations-in-groove/2024-05-13/
LOCATION:Family First Community Center: Community Meeting Room\, 16200 116th Ave SE\, Renton\, WA\, 98058\, United States
CATEGORIES:Teens,Families,Adults and Seniors,Young Children
ATTACH;FMTTYPE=image/jpeg:https://familyfirstrenton.org/wp-content/uploads/2023/11/20230616_DOUG_BALDWIN_FAMILY_CENTER-39-scaled.jpg
END:VEVENT
BEGIN:VEVENT
DTSTART;TZID=America/Los_Angeles:20240520T180000
DTEND;TZID=America/Los_Angeles:20240520T200000
DTSTAMP:20260424T084122
CREATED:20240325T214544Z
LAST-MODIFIED:20240405T160051Z
UID:10003662-1716228000-1716235200@familyfirstrenton.org
SUMMARY:Generations in Groove
DESCRIPTION:People of all ages & experience levels are welcome to join leaders of The Rhapsody Project for weekly\, social music-making sessions. \nThis program is $15/individual drop-in for 1 session or $120/entire quarter. \nReduced rates & instruments are available upon request\, simply email info@therhapsodyproject.org.
URL:https://familyfirstrenton.org/schedule/generations-in-groove/2024-05-20/
LOCATION:Family First Community Center: Community Meeting Room\, 16200 116th Ave SE\, Renton\, WA\, 98058\, United States
CATEGORIES:Teens,Families,Adults and Seniors,Young Children
ATTACH;FMTTYPE=image/jpeg:https://familyfirstrenton.org/wp-content/uploads/2023/11/20230616_DOUG_BALDWIN_FAMILY_CENTER-39-scaled.jpg
END:VEVENT
END:VCALENDAR