BEGIN:VCALENDAR
VERSION:2.0
PRODID:-//Family First Community Center - ECPv6.15.17//NONSGML v1.0//EN
CALSCALE:GREGORIAN
METHOD:PUBLISH
X-ORIGINAL-URL:https://familyfirstrenton.org
X-WR-CALDESC:Events for Family First Community Center
REFRESH-INTERVAL;VALUE=DURATION:PT1H
X-Robots-Tag:noindex
X-PUBLISHED-TTL:PT1H
BEGIN:VTIMEZONE
TZID:America/Los_Angeles
BEGIN:DAYLIGHT
TZOFFSETFROM:-0800
TZOFFSETTO:-0700
TZNAME:PDT
DTSTART:20230312T100000
END:DAYLIGHT
BEGIN:STANDARD
TZOFFSETFROM:-0700
TZOFFSETTO:-0800
TZNAME:PST
DTSTART:20231105T090000
END:STANDARD
BEGIN:DAYLIGHT
TZOFFSETFROM:-0800
TZOFFSETTO:-0700
TZNAME:PDT
DTSTART:20240310T100000
END:DAYLIGHT
BEGIN:STANDARD
TZOFFSETFROM:-0700
TZOFFSETTO:-0800
TZNAME:PST
DTSTART:20241103T090000
END:STANDARD
BEGIN:DAYLIGHT
TZOFFSETFROM:-0800
TZOFFSETTO:-0700
TZNAME:PDT
DTSTART:20250309T100000
END:DAYLIGHT
BEGIN:STANDARD
TZOFFSETFROM:-0700
TZOFFSETTO:-0800
TZNAME:PST
DTSTART:20251102T090000
END:STANDARD
END:VTIMEZONE
BEGIN:VEVENT
DTSTART;TZID=America/Los_Angeles:20240302T130000
DTEND;TZID=America/Los_Angeles:20240302T160000
DTSTAMP:20260424T121332
CREATED:20231218T183625Z
LAST-MODIFIED:20240125T004445Z
UID:10002925-1709384400-1709395200@familyfirstrenton.org
SUMMARY:Family Math Fun with SUMM + Zeno
DESCRIPTION:We will engage with parents/caregivers and kids\, demonstrating playing with math with their children ages 3-10\, and providing free take-away materials to continue the math learning experience at home. Each session will include circle time\, a mathy moment for parents\, math based play stations\, giveaways and resources.   \nJoin the SUMM and Zeno team in the Makerspace! \nPlease register here for this event as space is limited. \n 
URL:https://familyfirstrenton.org/schedule/family-math-fun-with-summ-zeno/2024-03-02/
CATEGORIES:Families,Young Children
ATTACH;FMTTYPE=image/jpeg:https://familyfirstrenton.org/wp-content/uploads/2023/11/20230616_DOUG_BALDWIN_FAMILY_CENTER-35-scaled.jpg
END:VEVENT
BEGIN:VEVENT
DTSTART;TZID=America/Los_Angeles:20240309T130000
DTEND;TZID=America/Los_Angeles:20240309T160000
DTSTAMP:20260424T121332
CREATED:20231218T183625Z
LAST-MODIFIED:20240125T004445Z
UID:10002926-1709989200-1710000000@familyfirstrenton.org
SUMMARY:Family Math Fun with SUMM + Zeno
DESCRIPTION:We will engage with parents/caregivers and kids\, demonstrating playing with math with their children ages 3-10\, and providing free take-away materials to continue the math learning experience at home. Each session will include circle time\, a mathy moment for parents\, math based play stations\, giveaways and resources.   \nJoin the SUMM and Zeno team in the Makerspace! \nPlease register here for this event as space is limited. \n 
URL:https://familyfirstrenton.org/schedule/family-math-fun-with-summ-zeno/2024-03-09/
CATEGORIES:Families,Young Children
ATTACH;FMTTYPE=image/jpeg:https://familyfirstrenton.org/wp-content/uploads/2023/11/20230616_DOUG_BALDWIN_FAMILY_CENTER-35-scaled.jpg
END:VEVENT
BEGIN:VEVENT
DTSTART;TZID=America/Los_Angeles:20240316T100000
DTEND;TZID=America/Los_Angeles:20240316T120000
DTSTAMP:20260424T121332
CREATED:20240124T234440Z
LAST-MODIFIED:20240124T234729Z
UID:10003227-1710583200-1710590400@familyfirstrenton.org
SUMMARY:Fired Art Pottery Classes by Studio 2 You - Duck Pond
DESCRIPTION:Come get messy with clay! Fired Arts are fun hands-on pottery classes where you’ll hand-make a project based on a trading technique and glaze your masterpiece. \nPlease pre-register for this program at the front desk at the Family First Community Center. \nThis class will combine all the techniques of pinch pot\, slab\, and coils in this fun creative little miniature nature scene made of pottery. Students will spend the second half of class glazing their projects. After the pieces are fired\, Mrs. D will add glow-in-the-dark resin to their water! All projects can be picked up 1 week later from the front desk.
URL:https://familyfirstrenton.org/schedule/fired-art-pottery-classes-by-studio-2-you-3/
LOCATION:Family First Community Center: Makerspace 1
CATEGORIES:Young Children
ATTACH;FMTTYPE=image/jpeg:https://familyfirstrenton.org/wp-content/uploads/2024/01/earl-wilcox-iUbsw_VOkbM-unsplash-scaled.jpg
END:VEVENT
BEGIN:VEVENT
DTSTART;TZID=America/Los_Angeles:20240316T130000
DTEND;TZID=America/Los_Angeles:20240316T160000
DTSTAMP:20260424T121332
CREATED:20231218T183625Z
LAST-MODIFIED:20240125T004445Z
UID:10002927-1710594000-1710604800@familyfirstrenton.org
SUMMARY:Family Math Fun with SUMM + Zeno
DESCRIPTION:We will engage with parents/caregivers and kids\, demonstrating playing with math with their children ages 3-10\, and providing free take-away materials to continue the math learning experience at home. Each session will include circle time\, a mathy moment for parents\, math based play stations\, giveaways and resources.   \nJoin the SUMM and Zeno team in the Makerspace! \nPlease register here for this event as space is limited. \n 
URL:https://familyfirstrenton.org/schedule/family-math-fun-with-summ-zeno/2024-03-16/
CATEGORIES:Families,Young Children
ATTACH;FMTTYPE=image/jpeg:https://familyfirstrenton.org/wp-content/uploads/2023/11/20230616_DOUG_BALDWIN_FAMILY_CENTER-35-scaled.jpg
END:VEVENT
BEGIN:VEVENT
DTSTART;TZID=America/Los_Angeles:20240323T130000
DTEND;TZID=America/Los_Angeles:20240323T160000
DTSTAMP:20260424T121332
CREATED:20231218T183625Z
LAST-MODIFIED:20240125T004445Z
UID:10002928-1711198800-1711209600@familyfirstrenton.org
SUMMARY:Family Math Fun with SUMM + Zeno
DESCRIPTION:We will engage with parents/caregivers and kids\, demonstrating playing with math with their children ages 3-10\, and providing free take-away materials to continue the math learning experience at home. Each session will include circle time\, a mathy moment for parents\, math based play stations\, giveaways and resources.   \nJoin the SUMM and Zeno team in the Makerspace! \nPlease register here for this event as space is limited. \n 
URL:https://familyfirstrenton.org/schedule/family-math-fun-with-summ-zeno/2024-03-23/
CATEGORIES:Families,Young Children
ATTACH;FMTTYPE=image/jpeg:https://familyfirstrenton.org/wp-content/uploads/2023/11/20230616_DOUG_BALDWIN_FAMILY_CENTER-35-scaled.jpg
END:VEVENT
END:VCALENDAR