BEGIN:VCALENDAR
VERSION:2.0
PRODID:-//Family First Community Center - ECPv6.15.17//NONSGML v1.0//EN
CALSCALE:GREGORIAN
METHOD:PUBLISH
X-ORIGINAL-URL:https://familyfirstrenton.org
X-WR-CALDESC:Events for Family First Community Center
REFRESH-INTERVAL;VALUE=DURATION:PT1H
X-Robots-Tag:noindex
X-PUBLISHED-TTL:PT1H
BEGIN:VTIMEZONE
TZID:America/Los_Angeles
BEGIN:DAYLIGHT
TZOFFSETFROM:-0800
TZOFFSETTO:-0700
TZNAME:PDT
DTSTART:20230312T100000
END:DAYLIGHT
BEGIN:STANDARD
TZOFFSETFROM:-0700
TZOFFSETTO:-0800
TZNAME:PST
DTSTART:20231105T090000
END:STANDARD
BEGIN:DAYLIGHT
TZOFFSETFROM:-0800
TZOFFSETTO:-0700
TZNAME:PDT
DTSTART:20240310T100000
END:DAYLIGHT
BEGIN:STANDARD
TZOFFSETFROM:-0700
TZOFFSETTO:-0800
TZNAME:PST
DTSTART:20241103T090000
END:STANDARD
BEGIN:DAYLIGHT
TZOFFSETFROM:-0800
TZOFFSETTO:-0700
TZNAME:PDT
DTSTART:20250309T100000
END:DAYLIGHT
BEGIN:STANDARD
TZOFFSETFROM:-0700
TZOFFSETTO:-0800
TZNAME:PST
DTSTART:20251102T090000
END:STANDARD
END:VTIMEZONE
BEGIN:VEVENT
DTSTART;TZID=America/Los_Angeles:20240117T180000
DTEND;TZID=America/Los_Angeles:20240117T193000
DTSTAMP:20260424T153724
CREATED:20231218T231455Z
LAST-MODIFIED:20260422T184928Z
UID:10002988-1705514400-1705519800@familyfirstrenton.org
SUMMARY:Acrylic Painting with Jordan Bye Fine Arts - Young Children
DESCRIPTION:Artists will learn basic art skills\, including composition and color theory. Both students with no previous art experience and a previous art interest are welcome! We will be painting a variety of styles\, from realism to abstract. Supplies are included in cost and classes will result in a finished painting each week. \nThis program is for children ages 6-12. \nRegister and pay online at MyActiveCenter under your FFCC membership account or in-person.
URL:https://familyfirstrenton.org/schedule/acrylic-painting-with-jordan-bye-fine-arts-young-children/2024-01-17/
LOCATION:Family First Community Center: Makerspace 1
CATEGORIES:Young Children
ATTACH;FMTTYPE=image/jpeg:https://familyfirstrenton.org/wp-content/uploads/2023/10/IMG_8400-scaled-e1698711468527.jpg
END:VEVENT
BEGIN:VEVENT
DTSTART;TZID=America/Los_Angeles:20240127T130000
DTEND;TZID=America/Los_Angeles:20240127T160000
DTSTAMP:20260424T153724
CREATED:20231218T183625Z
LAST-MODIFIED:20240125T004445Z
UID:10002921-1706360400-1706371200@familyfirstrenton.org
SUMMARY:Family Math Fun with SUMM + Zeno
DESCRIPTION:We will engage with parents/caregivers and kids\, demonstrating playing with math with their children ages 3-10\, and providing free take-away materials to continue the math learning experience at home. Each session will include circle time\, a mathy moment for parents\, math based play stations\, giveaways and resources.   \nJoin the SUMM and Zeno team in the Makerspace! \nPlease register here for this event as space is limited. \n 
URL:https://familyfirstrenton.org/schedule/family-math-fun-with-summ-zeno/2024-01-27/
CATEGORIES:Families,Young Children
ATTACH;FMTTYPE=image/jpeg:https://familyfirstrenton.org/wp-content/uploads/2023/11/20230616_DOUG_BALDWIN_FAMILY_CENTER-35-scaled.jpg
END:VEVENT
END:VCALENDAR