BEGIN:VCALENDAR
VERSION:2.0
PRODID:-//Family First Community Center - ECPv6.15.17//NONSGML v1.0//EN
CALSCALE:GREGORIAN
METHOD:PUBLISH
X-ORIGINAL-URL:https://familyfirstrenton.org
X-WR-CALDESC:Events for Family First Community Center
REFRESH-INTERVAL;VALUE=DURATION:PT1H
X-Robots-Tag:noindex
X-PUBLISHED-TTL:PT1H
BEGIN:VTIMEZONE
TZID:America/Los_Angeles
BEGIN:DAYLIGHT
TZOFFSETFROM:-0800
TZOFFSETTO:-0700
TZNAME:PDT
DTSTART:20250309T100000
END:DAYLIGHT
BEGIN:STANDARD
TZOFFSETFROM:-0700
TZOFFSETTO:-0800
TZNAME:PST
DTSTART:20251102T090000
END:STANDARD
BEGIN:DAYLIGHT
TZOFFSETFROM:-0800
TZOFFSETTO:-0700
TZNAME:PDT
DTSTART:20260308T100000
END:DAYLIGHT
BEGIN:STANDARD
TZOFFSETFROM:-0700
TZOFFSETTO:-0800
TZNAME:PST
DTSTART:20261101T090000
END:STANDARD
BEGIN:DAYLIGHT
TZOFFSETFROM:-0800
TZOFFSETTO:-0700
TZNAME:PDT
DTSTART:20270314T100000
END:DAYLIGHT
BEGIN:STANDARD
TZOFFSETFROM:-0700
TZOFFSETTO:-0800
TZNAME:PST
DTSTART:20271107T090000
END:STANDARD
END:VTIMEZONE
BEGIN:VEVENT
DTSTART;TZID=America/Los_Angeles:20260624T103000
DTEND;TZID=America/Los_Angeles:20260624T120000
DTSTAMP:20260423T225350
CREATED:20260423T214456Z
LAST-MODIFIED:20260423T214456Z
UID:10009193-1782297000-1782302400@familyfirstrenton.org
SUMMARY:Fiestas: Early Literacy
DESCRIPTION:Hosted by KCLS\, Fiestas are free workshops that help children prepare for kindergarten and are conducted in Spanish. \nAt each Fiesta\, families will learn new songs\, reading techniques\, and do craft activities. In addition\, each family will receive a free children’s book in Spanish for each Fiesta they attend\, and there will be a pizza party at week 8. \nHere are the topics covered each week: \n1)The importance of bilingualism\n2)Speaking\n3)Playing\n4)Singing\n5)Letters and sounds\n6)Reading\n7)The school system in the United States\n8)Writing
URL:https://familyfirstrenton.org/schedule/fiestas-early-literacy/2026-06-24/
LOCATION:Family First Community Center: Community Meeting Room\, 16200 116th Ave SE\, Renton\, WA\, 98058\, United States
CATEGORIES:Families,Young Children
ATTACH;FMTTYPE=image/jpeg:https://familyfirstrenton.org/wp-content/uploads/2026/04/dnessa-franklin-JHru76ILeY-unsplash-scaled.jpeg
END:VEVENT
BEGIN:VEVENT
DTSTART;TZID=America/Los_Angeles:20260701T103000
DTEND;TZID=America/Los_Angeles:20260701T120000
DTSTAMP:20260423T225350
CREATED:20260423T214456Z
LAST-MODIFIED:20260423T214456Z
UID:10009194-1782901800-1782907200@familyfirstrenton.org
SUMMARY:Fiestas: Early Literacy
DESCRIPTION:Hosted by KCLS\, Fiestas are free workshops that help children prepare for kindergarten and are conducted in Spanish. \nAt each Fiesta\, families will learn new songs\, reading techniques\, and do craft activities. In addition\, each family will receive a free children’s book in Spanish for each Fiesta they attend\, and there will be a pizza party at week 8. \nHere are the topics covered each week: \n1)The importance of bilingualism\n2)Speaking\n3)Playing\n4)Singing\n5)Letters and sounds\n6)Reading\n7)The school system in the United States\n8)Writing
URL:https://familyfirstrenton.org/schedule/fiestas-early-literacy/2026-07-01/
LOCATION:Family First Community Center: Community Meeting Room\, 16200 116th Ave SE\, Renton\, WA\, 98058\, United States
CATEGORIES:Families,Young Children
ATTACH;FMTTYPE=image/jpeg:https://familyfirstrenton.org/wp-content/uploads/2026/04/dnessa-franklin-JHru76ILeY-unsplash-scaled.jpeg
END:VEVENT
BEGIN:VEVENT
DTSTART;TZID=America/Los_Angeles:20260708T103000
DTEND;TZID=America/Los_Angeles:20260708T120000
DTSTAMP:20260423T225350
CREATED:20260423T214456Z
LAST-MODIFIED:20260423T214456Z
UID:10009195-1783506600-1783512000@familyfirstrenton.org
SUMMARY:Fiestas: Early Literacy
DESCRIPTION:Hosted by KCLS\, Fiestas are free workshops that help children prepare for kindergarten and are conducted in Spanish. \nAt each Fiesta\, families will learn new songs\, reading techniques\, and do craft activities. In addition\, each family will receive a free children’s book in Spanish for each Fiesta they attend\, and there will be a pizza party at week 8. \nHere are the topics covered each week: \n1)The importance of bilingualism\n2)Speaking\n3)Playing\n4)Singing\n5)Letters and sounds\n6)Reading\n7)The school system in the United States\n8)Writing
URL:https://familyfirstrenton.org/schedule/fiestas-early-literacy/2026-07-08/
LOCATION:Family First Community Center: Community Meeting Room\, 16200 116th Ave SE\, Renton\, WA\, 98058\, United States
CATEGORIES:Families,Young Children
ATTACH;FMTTYPE=image/jpeg:https://familyfirstrenton.org/wp-content/uploads/2026/04/dnessa-franklin-JHru76ILeY-unsplash-scaled.jpeg
END:VEVENT
BEGIN:VEVENT
DTSTART;TZID=America/Los_Angeles:20260715T103000
DTEND;TZID=America/Los_Angeles:20260715T120000
DTSTAMP:20260423T225350
CREATED:20260423T214456Z
LAST-MODIFIED:20260423T214456Z
UID:10009196-1784111400-1784116800@familyfirstrenton.org
SUMMARY:Fiestas: Early Literacy
DESCRIPTION:Hosted by KCLS\, Fiestas are free workshops that help children prepare for kindergarten and are conducted in Spanish. \nAt each Fiesta\, families will learn new songs\, reading techniques\, and do craft activities. In addition\, each family will receive a free children’s book in Spanish for each Fiesta they attend\, and there will be a pizza party at week 8. \nHere are the topics covered each week: \n1)The importance of bilingualism\n2)Speaking\n3)Playing\n4)Singing\n5)Letters and sounds\n6)Reading\n7)The school system in the United States\n8)Writing
URL:https://familyfirstrenton.org/schedule/fiestas-early-literacy/2026-07-15/
LOCATION:Family First Community Center: Community Meeting Room\, 16200 116th Ave SE\, Renton\, WA\, 98058\, United States
CATEGORIES:Families,Young Children
ATTACH;FMTTYPE=image/jpeg:https://familyfirstrenton.org/wp-content/uploads/2026/04/dnessa-franklin-JHru76ILeY-unsplash-scaled.jpeg
END:VEVENT
BEGIN:VEVENT
DTSTART;TZID=America/Los_Angeles:20260722T103000
DTEND;TZID=America/Los_Angeles:20260722T120000
DTSTAMP:20260423T225350
CREATED:20260423T214456Z
LAST-MODIFIED:20260423T214456Z
UID:10009197-1784716200-1784721600@familyfirstrenton.org
SUMMARY:Fiestas: Early Literacy
DESCRIPTION:Hosted by KCLS\, Fiestas are free workshops that help children prepare for kindergarten and are conducted in Spanish. \nAt each Fiesta\, families will learn new songs\, reading techniques\, and do craft activities. In addition\, each family will receive a free children’s book in Spanish for each Fiesta they attend\, and there will be a pizza party at week 8. \nHere are the topics covered each week: \n1)The importance of bilingualism\n2)Speaking\n3)Playing\n4)Singing\n5)Letters and sounds\n6)Reading\n7)The school system in the United States\n8)Writing
URL:https://familyfirstrenton.org/schedule/fiestas-early-literacy/2026-07-22/
LOCATION:Family First Community Center: Community Meeting Room\, 16200 116th Ave SE\, Renton\, WA\, 98058\, United States
CATEGORIES:Families,Young Children
ATTACH;FMTTYPE=image/jpeg:https://familyfirstrenton.org/wp-content/uploads/2026/04/dnessa-franklin-JHru76ILeY-unsplash-scaled.jpeg
END:VEVENT
BEGIN:VEVENT
DTSTART;TZID=America/Los_Angeles:20260729T103000
DTEND;TZID=America/Los_Angeles:20260729T120000
DTSTAMP:20260423T225350
CREATED:20260423T214456Z
LAST-MODIFIED:20260423T214456Z
UID:10009198-1785321000-1785326400@familyfirstrenton.org
SUMMARY:Fiestas: Early Literacy
DESCRIPTION:Hosted by KCLS\, Fiestas are free workshops that help children prepare for kindergarten and are conducted in Spanish. \nAt each Fiesta\, families will learn new songs\, reading techniques\, and do craft activities. In addition\, each family will receive a free children’s book in Spanish for each Fiesta they attend\, and there will be a pizza party at week 8. \nHere are the topics covered each week: \n1)The importance of bilingualism\n2)Speaking\n3)Playing\n4)Singing\n5)Letters and sounds\n6)Reading\n7)The school system in the United States\n8)Writing
URL:https://familyfirstrenton.org/schedule/fiestas-early-literacy/2026-07-29/
LOCATION:Family First Community Center: Community Meeting Room\, 16200 116th Ave SE\, Renton\, WA\, 98058\, United States
CATEGORIES:Families,Young Children
ATTACH;FMTTYPE=image/jpeg:https://familyfirstrenton.org/wp-content/uploads/2026/04/dnessa-franklin-JHru76ILeY-unsplash-scaled.jpeg
END:VEVENT
BEGIN:VEVENT
DTSTART;TZID=America/Los_Angeles:20260805T103000
DTEND;TZID=America/Los_Angeles:20260805T120000
DTSTAMP:20260423T225350
CREATED:20260423T214456Z
LAST-MODIFIED:20260423T214456Z
UID:10009199-1785925800-1785931200@familyfirstrenton.org
SUMMARY:Fiestas: Early Literacy
DESCRIPTION:Hosted by KCLS\, Fiestas are free workshops that help children prepare for kindergarten and are conducted in Spanish. \nAt each Fiesta\, families will learn new songs\, reading techniques\, and do craft activities. In addition\, each family will receive a free children’s book in Spanish for each Fiesta they attend\, and there will be a pizza party at week 8. \nHere are the topics covered each week: \n1)The importance of bilingualism\n2)Speaking\n3)Playing\n4)Singing\n5)Letters and sounds\n6)Reading\n7)The school system in the United States\n8)Writing
URL:https://familyfirstrenton.org/schedule/fiestas-early-literacy/2026-08-05/
LOCATION:Family First Community Center: Community Meeting Room\, 16200 116th Ave SE\, Renton\, WA\, 98058\, United States
CATEGORIES:Families,Young Children
ATTACH;FMTTYPE=image/jpeg:https://familyfirstrenton.org/wp-content/uploads/2026/04/dnessa-franklin-JHru76ILeY-unsplash-scaled.jpeg
END:VEVENT
BEGIN:VEVENT
DTSTART;TZID=America/Los_Angeles:20260812T103000
DTEND;TZID=America/Los_Angeles:20260812T120000
DTSTAMP:20260423T225350
CREATED:20260423T214456Z
LAST-MODIFIED:20260423T214456Z
UID:10009200-1786530600-1786536000@familyfirstrenton.org
SUMMARY:Fiestas: Early Literacy
DESCRIPTION:Hosted by KCLS\, Fiestas are free workshops that help children prepare for kindergarten and are conducted in Spanish. \nAt each Fiesta\, families will learn new songs\, reading techniques\, and do craft activities. In addition\, each family will receive a free children’s book in Spanish for each Fiesta they attend\, and there will be a pizza party at week 8. \nHere are the topics covered each week: \n1)The importance of bilingualism\n2)Speaking\n3)Playing\n4)Singing\n5)Letters and sounds\n6)Reading\n7)The school system in the United States\n8)Writing
URL:https://familyfirstrenton.org/schedule/fiestas-early-literacy/2026-08-12/
LOCATION:Family First Community Center: Community Meeting Room\, 16200 116th Ave SE\, Renton\, WA\, 98058\, United States
CATEGORIES:Families,Young Children
ATTACH;FMTTYPE=image/jpeg:https://familyfirstrenton.org/wp-content/uploads/2026/04/dnessa-franklin-JHru76ILeY-unsplash-scaled.jpeg
END:VEVENT
END:VCALENDAR