BEGIN:VCALENDAR
VERSION:2.0
PRODID:-//Family First Community Center - ECPv6.15.17//NONSGML v1.0//EN
CALSCALE:GREGORIAN
METHOD:PUBLISH
X-WR-CALNAME:Family First Community Center
X-ORIGINAL-URL:https://familyfirstrenton.org
X-WR-CALDESC:Events for Family First Community Center
REFRESH-INTERVAL;VALUE=DURATION:PT1H
X-Robots-Tag:noindex
X-PUBLISHED-TTL:PT1H
BEGIN:VTIMEZONE
TZID:America/Los_Angeles
BEGIN:DAYLIGHT
TZOFFSETFROM:-0800
TZOFFSETTO:-0700
TZNAME:PDT
DTSTART:20250309T100000
END:DAYLIGHT
BEGIN:STANDARD
TZOFFSETFROM:-0700
TZOFFSETTO:-0800
TZNAME:PST
DTSTART:20251102T090000
END:STANDARD
BEGIN:DAYLIGHT
TZOFFSETFROM:-0800
TZOFFSETTO:-0700
TZNAME:PDT
DTSTART:20260308T100000
END:DAYLIGHT
BEGIN:STANDARD
TZOFFSETFROM:-0700
TZOFFSETTO:-0800
TZNAME:PST
DTSTART:20261101T090000
END:STANDARD
BEGIN:DAYLIGHT
TZOFFSETFROM:-0800
TZOFFSETTO:-0700
TZNAME:PDT
DTSTART:20270314T100000
END:DAYLIGHT
BEGIN:STANDARD
TZOFFSETFROM:-0700
TZOFFSETTO:-0800
TZNAME:PST
DTSTART:20271107T090000
END:STANDARD
END:VTIMEZONE
BEGIN:VEVENT
DTSTART;TZID=America/Los_Angeles:20260622T100000
DTEND;TZID=America/Los_Angeles:20260622T130000
DTSTAMP:20260423T082658
CREATED:20260422T183734Z
LAST-MODIFIED:20260422T183821Z
UID:10009052-1782122400-1782133200@familyfirstrenton.org
SUMMARY:Ballet Basics - Summer Camp
DESCRIPTION:Join Destiny Wimpye\, of Pacific Northwest Ballet\, for a ballet camp! This camp will introduce basic ballet technique to dancers who may have an interest in ballet. Ballet attire and ballet slippers are required. Please bring a water bottle and a small snack to eat during the 15-20 minute break. Must be age 6-10 to enroll. \nClick here to register.
URL:https://familyfirstrenton.org/schedule/ballet-basics-summer-camp/2026-06-22/
LOCATION:Family First Community Center: Dance Studio
CATEGORIES:Young Children
ATTACH;FMTTYPE=image/jpeg:https://familyfirstrenton.org/wp-content/uploads/2023/11/IMG_8232-scaled.jpg
END:VEVENT
BEGIN:VEVENT
DTSTART;TZID=America/Los_Angeles:20260623T100000
DTEND;TZID=America/Los_Angeles:20260623T130000
DTSTAMP:20260423T082658
CREATED:20260422T183734Z
LAST-MODIFIED:20260422T183821Z
UID:10009053-1782208800-1782219600@familyfirstrenton.org
SUMMARY:Ballet Basics - Summer Camp
DESCRIPTION:Join Destiny Wimpye\, of Pacific Northwest Ballet\, for a ballet camp! This camp will introduce basic ballet technique to dancers who may have an interest in ballet. Ballet attire and ballet slippers are required. Please bring a water bottle and a small snack to eat during the 15-20 minute break. Must be age 6-10 to enroll. \nClick here to register.
URL:https://familyfirstrenton.org/schedule/ballet-basics-summer-camp/2026-06-23/
LOCATION:Family First Community Center: Dance Studio
CATEGORIES:Young Children
ATTACH;FMTTYPE=image/jpeg:https://familyfirstrenton.org/wp-content/uploads/2023/11/IMG_8232-scaled.jpg
END:VEVENT
BEGIN:VEVENT
DTSTART;TZID=America/Los_Angeles:20260624T100000
DTEND;TZID=America/Los_Angeles:20260624T130000
DTSTAMP:20260423T082658
CREATED:20260422T183734Z
LAST-MODIFIED:20260422T183821Z
UID:10009054-1782295200-1782306000@familyfirstrenton.org
SUMMARY:Ballet Basics - Summer Camp
DESCRIPTION:Join Destiny Wimpye\, of Pacific Northwest Ballet\, for a ballet camp! This camp will introduce basic ballet technique to dancers who may have an interest in ballet. Ballet attire and ballet slippers are required. Please bring a water bottle and a small snack to eat during the 15-20 minute break. Must be age 6-10 to enroll. \nClick here to register.
URL:https://familyfirstrenton.org/schedule/ballet-basics-summer-camp/2026-06-24/
LOCATION:Family First Community Center: Dance Studio
CATEGORIES:Young Children
ATTACH;FMTTYPE=image/jpeg:https://familyfirstrenton.org/wp-content/uploads/2023/11/IMG_8232-scaled.jpg
END:VEVENT
BEGIN:VEVENT
DTSTART;TZID=America/Los_Angeles:20260625T100000
DTEND;TZID=America/Los_Angeles:20260625T130000
DTSTAMP:20260423T082658
CREATED:20260422T183734Z
LAST-MODIFIED:20260422T183821Z
UID:10009055-1782381600-1782392400@familyfirstrenton.org
SUMMARY:Ballet Basics - Summer Camp
DESCRIPTION:Join Destiny Wimpye\, of Pacific Northwest Ballet\, for a ballet camp! This camp will introduce basic ballet technique to dancers who may have an interest in ballet. Ballet attire and ballet slippers are required. Please bring a water bottle and a small snack to eat during the 15-20 minute break. Must be age 6-10 to enroll. \nClick here to register.
URL:https://familyfirstrenton.org/schedule/ballet-basics-summer-camp/2026-06-25/
LOCATION:Family First Community Center: Dance Studio
CATEGORIES:Young Children
ATTACH;FMTTYPE=image/jpeg:https://familyfirstrenton.org/wp-content/uploads/2023/11/IMG_8232-scaled.jpg
END:VEVENT
BEGIN:VEVENT
DTSTART;TZID=America/Los_Angeles:20260626T100000
DTEND;TZID=America/Los_Angeles:20260626T130000
DTSTAMP:20260423T082658
CREATED:20260422T183734Z
LAST-MODIFIED:20260422T183821Z
UID:10009056-1782468000-1782478800@familyfirstrenton.org
SUMMARY:Ballet Basics - Summer Camp
DESCRIPTION:Join Destiny Wimpye\, of Pacific Northwest Ballet\, for a ballet camp! This camp will introduce basic ballet technique to dancers who may have an interest in ballet. Ballet attire and ballet slippers are required. Please bring a water bottle and a small snack to eat during the 15-20 minute break. Must be age 6-10 to enroll. \nClick here to register.
URL:https://familyfirstrenton.org/schedule/ballet-basics-summer-camp/2026-06-26/
LOCATION:Family First Community Center: Dance Studio
CATEGORIES:Young Children
ATTACH;FMTTYPE=image/jpeg:https://familyfirstrenton.org/wp-content/uploads/2023/11/IMG_8232-scaled.jpg
END:VEVENT
END:VCALENDAR