BEGIN:VCALENDAR
VERSION:2.0
PRODID:-//Family First Community Center - ECPv6.15.17//NONSGML v1.0//EN
CALSCALE:GREGORIAN
METHOD:PUBLISH
X-WR-CALNAME:Family First Community Center
X-ORIGINAL-URL:https://familyfirstrenton.org
X-WR-CALDESC:Events for Family First Community Center
REFRESH-INTERVAL;VALUE=DURATION:PT1H
X-Robots-Tag:noindex
X-PUBLISHED-TTL:PT1H
BEGIN:VTIMEZONE
TZID:America/Los_Angeles
BEGIN:DAYLIGHT
TZOFFSETFROM:-0800
TZOFFSETTO:-0700
TZNAME:PDT
DTSTART:20230312T100000
END:DAYLIGHT
BEGIN:STANDARD
TZOFFSETFROM:-0700
TZOFFSETTO:-0800
TZNAME:PST
DTSTART:20231105T090000
END:STANDARD
BEGIN:DAYLIGHT
TZOFFSETFROM:-0800
TZOFFSETTO:-0700
TZNAME:PDT
DTSTART:20240310T100000
END:DAYLIGHT
BEGIN:STANDARD
TZOFFSETFROM:-0700
TZOFFSETTO:-0800
TZNAME:PST
DTSTART:20241103T090000
END:STANDARD
BEGIN:DAYLIGHT
TZOFFSETFROM:-0800
TZOFFSETTO:-0700
TZNAME:PDT
DTSTART:20250309T100000
END:DAYLIGHT
BEGIN:STANDARD
TZOFFSETFROM:-0700
TZOFFSETTO:-0800
TZNAME:PST
DTSTART:20251102T090000
END:STANDARD
BEGIN:DAYLIGHT
TZOFFSETFROM:-0800
TZOFFSETTO:-0700
TZNAME:PDT
DTSTART:20260308T100000
END:DAYLIGHT
BEGIN:STANDARD
TZOFFSETFROM:-0700
TZOFFSETTO:-0800
TZNAME:PST
DTSTART:20261101T090000
END:STANDARD
END:VTIMEZONE
BEGIN:VEVENT
DTSTART;TZID=America/Los_Angeles:20251209T100000
DTEND;TZID=America/Los_Angeles:20251209T110000
DTSTAMP:20260419T215851
CREATED:20231218T182719Z
LAST-MODIFIED:20260305T235509Z
UID:10006808-1765274400-1765278000@familyfirstrenton.org
SUMMARY:Family Story Times at the Family First Community Center
DESCRIPTION:Join Bernadette Salgado from King County Library Systems and enjoy half an hour of stories\, music\, and activities that develop your child’s early literacy skills.
URL:https://familyfirstrenton.org/schedule/family-story-times-at-the-family-first-community-center/2025-12-09/
LOCATION:Family First Community Center: Community Meeting Room\, 16200 116th Ave SE\, Renton\, WA\, 98058\, United States
CATEGORIES:Toddlers,Young Children
ATTACH;FMTTYPE=image/jpeg:https://familyfirstrenton.org/wp-content/uploads/2023/11/20230616_DOUG_BALDWIN_FAMILY_CENTER-45-scaled.jpg
END:VEVENT
BEGIN:VEVENT
DTSTART;TZID=America/Los_Angeles:20251203T110000
DTEND;TZID=America/Los_Angeles:20251203T120000
DTSTAMP:20260419T215851
CREATED:20240405T224220Z
LAST-MODIFIED:20260112T222231Z
UID:10007501-1764759600-1764763200@familyfirstrenton.org
SUMMARY:Spanish Story Time / Hora de cuentos en español
DESCRIPTION:Enjoy stories\, music\, movement\, and rhymes that develop your child’s early literacy skills. A play session will be offered afterward.
URL:https://familyfirstrenton.org/schedule/spanish-story-time-hora-de-cuentos-en-espanol/2025-12-03/
LOCATION:Family First Community Center: Community Meeting Room\, 16200 116th Ave SE\, Renton\, WA\, 98058\, United States
CATEGORIES:Families,Toddlers,Young Children
ATTACH;FMTTYPE=image/jpeg:https://familyfirstrenton.org/wp-content/uploads/2023/05/20230616_DOUG_BALDWIN_FAMILY_CENTER-73-scaled.jpg
END:VEVENT
BEGIN:VEVENT
DTSTART;TZID=America/Los_Angeles:20251119T110000
DTEND;TZID=America/Los_Angeles:20251119T120000
DTSTAMP:20260419T215851
CREATED:20240405T224220Z
LAST-MODIFIED:20260112T222231Z
UID:10006212-1763550000-1763553600@familyfirstrenton.org
SUMMARY:Spanish Story Time / Hora de cuentos en español
DESCRIPTION:Enjoy stories\, music\, movement\, and rhymes that develop your child’s early literacy skills. A play session will be offered afterward.
URL:https://familyfirstrenton.org/schedule/spanish-story-time-hora-de-cuentos-en-espanol/2025-11-19/
LOCATION:Family First Community Center: Community Meeting Room\, 16200 116th Ave SE\, Renton\, WA\, 98058\, United States
CATEGORIES:Families,Toddlers,Young Children
ATTACH;FMTTYPE=image/jpeg:https://familyfirstrenton.org/wp-content/uploads/2023/05/20230616_DOUG_BALDWIN_FAMILY_CENTER-73-scaled.jpg
END:VEVENT
BEGIN:VEVENT
DTSTART;TZID=America/Los_Angeles:20251114T100000
DTEND;TZID=America/Los_Angeles:20251114T110000
DTSTAMP:20260419T215851
CREATED:20250910T210015Z
LAST-MODIFIED:20260326T173626Z
UID:10007189-1763114400-1763118000@familyfirstrenton.org
SUMMARY:Nature Storytime
DESCRIPTION:Join Katy K. from the Environmental Science Center for stories\, movement\, and science activities as we learn about the natural world around us. Themes rotate each month. \nThis program is for families and toddlers 5 and under. \nDrop-ins are accepted.
URL:https://familyfirstrenton.org/schedule/nature-storytime/2025-11-14/
LOCATION:Family First Community Center: Community Meeting Room\, 16200 116th Ave SE\, Renton\, WA\, 98058\, United States
CATEGORIES:Families,Toddlers
ATTACH;FMTTYPE=image/jpeg:https://familyfirstrenton.org/wp-content/uploads/2025/01/Image_20241213_112859_152-scaled-e1757538041404.jpeg
END:VEVENT
BEGIN:VEVENT
DTSTART;TZID=America/Los_Angeles:20251112T110000
DTEND;TZID=America/Los_Angeles:20251112T120000
DTSTAMP:20260419T215851
CREATED:20240405T224220Z
LAST-MODIFIED:20260112T222231Z
UID:10006211-1762945200-1762948800@familyfirstrenton.org
SUMMARY:Spanish Story Time / Hora de cuentos en español
DESCRIPTION:Enjoy stories\, music\, movement\, and rhymes that develop your child’s early literacy skills. A play session will be offered afterward.
URL:https://familyfirstrenton.org/schedule/spanish-story-time-hora-de-cuentos-en-espanol/2025-11-12/
LOCATION:Family First Community Center: Community Meeting Room\, 16200 116th Ave SE\, Renton\, WA\, 98058\, United States
CATEGORIES:Families,Toddlers,Young Children
ATTACH;FMTTYPE=image/jpeg:https://familyfirstrenton.org/wp-content/uploads/2023/05/20230616_DOUG_BALDWIN_FAMILY_CENTER-73-scaled.jpg
END:VEVENT
BEGIN:VEVENT
DTSTART;TZID=America/Los_Angeles:20251105T110000
DTEND;TZID=America/Los_Angeles:20251105T120000
DTSTAMP:20260419T215851
CREATED:20240405T224220Z
LAST-MODIFIED:20260112T222231Z
UID:10006210-1762340400-1762344000@familyfirstrenton.org
SUMMARY:Spanish Story Time / Hora de cuentos en español
DESCRIPTION:Enjoy stories\, music\, movement\, and rhymes that develop your child’s early literacy skills. A play session will be offered afterward.
URL:https://familyfirstrenton.org/schedule/spanish-story-time-hora-de-cuentos-en-espanol/2025-11-05/
LOCATION:Family First Community Center: Community Meeting Room\, 16200 116th Ave SE\, Renton\, WA\, 98058\, United States
CATEGORIES:Families,Toddlers,Young Children
ATTACH;FMTTYPE=image/jpeg:https://familyfirstrenton.org/wp-content/uploads/2023/05/20230616_DOUG_BALDWIN_FAMILY_CENTER-73-scaled.jpg
END:VEVENT
BEGIN:VEVENT
DTSTART;TZID=America/Los_Angeles:20251104T100000
DTEND;TZID=America/Los_Angeles:20251104T110000
DTSTAMP:20260419T215851
CREATED:20231218T182719Z
LAST-MODIFIED:20260305T235509Z
UID:10006807-1762250400-1762254000@familyfirstrenton.org
SUMMARY:Family Story Times at the Family First Community Center
DESCRIPTION:Join Bernadette Salgado from King County Library Systems and enjoy half an hour of stories\, music\, and activities that develop your child’s early literacy skills.
URL:https://familyfirstrenton.org/schedule/family-story-times-at-the-family-first-community-center/2025-11-04/
LOCATION:Family First Community Center: Community Meeting Room\, 16200 116th Ave SE\, Renton\, WA\, 98058\, United States
CATEGORIES:Toddlers,Young Children
ATTACH;FMTTYPE=image/jpeg:https://familyfirstrenton.org/wp-content/uploads/2023/11/20230616_DOUG_BALDWIN_FAMILY_CENTER-45-scaled.jpg
END:VEVENT
BEGIN:VEVENT
DTSTART;TZID=America/Los_Angeles:20251029T110000
DTEND;TZID=America/Los_Angeles:20251029T120000
DTSTAMP:20260419T215851
CREATED:20240405T224220Z
LAST-MODIFIED:20260112T222231Z
UID:10006209-1761735600-1761739200@familyfirstrenton.org
SUMMARY:Spanish Story Time / Hora de cuentos en español
DESCRIPTION:Enjoy stories\, music\, movement\, and rhymes that develop your child’s early literacy skills. A play session will be offered afterward.
URL:https://familyfirstrenton.org/schedule/spanish-story-time-hora-de-cuentos-en-espanol/2025-10-29/
LOCATION:Family First Community Center: Community Meeting Room\, 16200 116th Ave SE\, Renton\, WA\, 98058\, United States
CATEGORIES:Families,Toddlers,Young Children
ATTACH;FMTTYPE=image/jpeg:https://familyfirstrenton.org/wp-content/uploads/2023/05/20230616_DOUG_BALDWIN_FAMILY_CENTER-73-scaled.jpg
END:VEVENT
BEGIN:VEVENT
DTSTART;TZID=America/Los_Angeles:20251024T173000
DTEND;TZID=America/Los_Angeles:20251024T194500
DTSTAMP:20260419T215851
CREATED:20241010T193925Z
LAST-MODIFIED:20250909T235400Z
UID:10006770-1761327000-1761335100@familyfirstrenton.org
SUMMARY:Pumpkin Carving
DESCRIPTION:Gather with the community for this fun pumpkin carving event! Artist Jordan Bye will be supervising and guiding carving. Some tools and carving ideas will be provided. This event is free\, but bring your own pumpkin\, as well as additional carving tools! Open to all ages. \nPre-register at the Family First Community Center front desk or under your own online account on My Active Center’s account. Drop-Ins accepted!
URL:https://familyfirstrenton.org/schedule/pumpkin-carving/2025-10-24/
LOCATION:Family First Community Center: Makerspace 1
CATEGORIES:Teens,Families,Toddlers,Adults and Seniors,Young Children
ATTACH;FMTTYPE=image/jpeg:https://familyfirstrenton.org/wp-content/uploads/2024/10/IMG_5039-scaled.jpg
END:VEVENT
BEGIN:VEVENT
DTSTART;TZID=America/Los_Angeles:20251008T110000
DTEND;TZID=America/Los_Angeles:20251008T120000
DTSTAMP:20260419T215851
CREATED:20240405T224220Z
LAST-MODIFIED:20260112T222231Z
UID:10006208-1759921200-1759924800@familyfirstrenton.org
SUMMARY:Spanish Story Time / Hora de cuentos en español
DESCRIPTION:Enjoy stories\, music\, movement\, and rhymes that develop your child’s early literacy skills. A play session will be offered afterward.
URL:https://familyfirstrenton.org/schedule/spanish-story-time-hora-de-cuentos-en-espanol/2025-10-08/
LOCATION:Family First Community Center: Community Meeting Room\, 16200 116th Ave SE\, Renton\, WA\, 98058\, United States
CATEGORIES:Families,Toddlers,Young Children
ATTACH;FMTTYPE=image/jpeg:https://familyfirstrenton.org/wp-content/uploads/2023/05/20230616_DOUG_BALDWIN_FAMILY_CENTER-73-scaled.jpg
END:VEVENT
BEGIN:VEVENT
DTSTART;TZID=America/Los_Angeles:20251001T110000
DTEND;TZID=America/Los_Angeles:20251001T120000
DTSTAMP:20260419T215851
CREATED:20240405T224220Z
LAST-MODIFIED:20260112T222231Z
UID:10006207-1759316400-1759320000@familyfirstrenton.org
SUMMARY:Spanish Story Time / Hora de cuentos en español
DESCRIPTION:Enjoy stories\, music\, movement\, and rhymes that develop your child’s early literacy skills. A play session will be offered afterward.
URL:https://familyfirstrenton.org/schedule/spanish-story-time-hora-de-cuentos-en-espanol/2025-10-01/
LOCATION:Family First Community Center: Community Meeting Room\, 16200 116th Ave SE\, Renton\, WA\, 98058\, United States
CATEGORIES:Families,Toddlers,Young Children
ATTACH;FMTTYPE=image/jpeg:https://familyfirstrenton.org/wp-content/uploads/2023/05/20230616_DOUG_BALDWIN_FAMILY_CENTER-73-scaled.jpg
END:VEVENT
BEGIN:VEVENT
DTSTART;TZID=America/Los_Angeles:20250924T110000
DTEND;TZID=America/Los_Angeles:20250924T120000
DTSTAMP:20260419T215851
CREATED:20240405T224220Z
LAST-MODIFIED:20260112T222231Z
UID:10006206-1758711600-1758715200@familyfirstrenton.org
SUMMARY:Spanish Story Time / Hora de cuentos en español
DESCRIPTION:Enjoy stories\, music\, movement\, and rhymes that develop your child’s early literacy skills. A play session will be offered afterward.
URL:https://familyfirstrenton.org/schedule/spanish-story-time-hora-de-cuentos-en-espanol/2025-09-24/
LOCATION:Family First Community Center: Community Meeting Room\, 16200 116th Ave SE\, Renton\, WA\, 98058\, United States
CATEGORIES:Families,Toddlers,Young Children
ATTACH;FMTTYPE=image/jpeg:https://familyfirstrenton.org/wp-content/uploads/2023/05/20230616_DOUG_BALDWIN_FAMILY_CENTER-73-scaled.jpg
END:VEVENT
BEGIN:VEVENT
DTSTART;TZID=America/Los_Angeles:20250912T100000
DTEND;TZID=America/Los_Angeles:20250912T110000
DTSTAMP:20260419T215851
CREATED:20250910T210015Z
LAST-MODIFIED:20260326T173626Z
UID:10007187-1757671200-1757674800@familyfirstrenton.org
SUMMARY:Nature Storytime
DESCRIPTION:Join Katy K. from the Environmental Science Center for stories\, movement\, and science activities as we learn about the natural world around us. Themes rotate each month. \nThis program is for families and toddlers 5 and under. \nDrop-ins are accepted.
URL:https://familyfirstrenton.org/schedule/nature-storytime/2025-09-12/
LOCATION:Family First Community Center: Community Meeting Room\, 16200 116th Ave SE\, Renton\, WA\, 98058\, United States
CATEGORIES:Families,Toddlers
ATTACH;FMTTYPE=image/jpeg:https://familyfirstrenton.org/wp-content/uploads/2025/01/Image_20241213_112859_152-scaled-e1757538041404.jpeg
END:VEVENT
BEGIN:VEVENT
DTSTART;TZID=America/Los_Angeles:20250910T110000
DTEND;TZID=America/Los_Angeles:20250910T120000
DTSTAMP:20260419T215851
CREATED:20250909T233459Z
LAST-MODIFIED:20250909T233459Z
UID:10006204-1757502000-1757505600@familyfirstrenton.org
SUMMARY:Spanish Story Time / Hora de cuentos en español
DESCRIPTION:Enjoy stories\, music\, movement\, and rhymes that develop your child’s early literacy skills. A play session will be offered afterward.
URL:https://familyfirstrenton.org/schedule/spanish-story-time-hora-de-cuentos-en-espanol-2/
LOCATION:Family First Community Center: Community Meeting Room\, 16200 116th Ave SE\, Renton\, WA\, 98058\, United States
CATEGORIES:Families,Toddlers,Young Children
ATTACH;FMTTYPE=image/jpeg:https://familyfirstrenton.org/wp-content/uploads/2023/05/20230616_DOUG_BALDWIN_FAMILY_CENTER-73-scaled.jpg
END:VEVENT
BEGIN:VEVENT
DTSTART;TZID=America/Los_Angeles:20250827T113000
DTEND;TZID=America/Los_Angeles:20250827T123000
DTSTAMP:20260419T215851
CREATED:20240613T231435Z
LAST-MODIFIED:20250701T214047Z
UID:10006166-1756294200-1756297800@familyfirstrenton.org
SUMMARY:The Wonderful World of Plants
DESCRIPTION:Ignite a passion for plants and gardening. In each class\, participants will learn about different plants and how to grow them. They’ll also be able to plant seeds or small plants to bring home! \n\n8/6: Plant a Summer Flowerpot: Learn which flowers grow well in a pot and how to care for them. Then plant a pot to attract pollinators!\n8/20: Plant a Delicious Herb Container: Herbs are delicious\, healthy additions to meals. Learn how to care for and harvest herbs.\n8/27: Plant an Indoor Cactus & Succulent Bowl: Succulents are easy to care for as indoor plants. Learn more about these unique plants and where they come from.
URL:https://familyfirstrenton.org/schedule/the-wonderful-world-of-plants/2025-08-27/
LOCATION:Family First Community Center: Makerspace 1
CATEGORIES:Teens,Families,Toddlers,Adults and Seniors,Young Children
ATTACH;FMTTYPE=image/jpeg:https://familyfirstrenton.org/wp-content/uploads/2024/08/IMG_3976-scaled.jpg
END:VEVENT
BEGIN:VEVENT
DTSTART;TZID=America/Los_Angeles:20250820T113000
DTEND;TZID=America/Los_Angeles:20250820T123000
DTSTAMP:20260419T215851
CREATED:20240613T231435Z
LAST-MODIFIED:20250701T214047Z
UID:10006165-1755689400-1755693000@familyfirstrenton.org
SUMMARY:The Wonderful World of Plants
DESCRIPTION:Ignite a passion for plants and gardening. In each class\, participants will learn about different plants and how to grow them. They’ll also be able to plant seeds or small plants to bring home! \n\n8/6: Plant a Summer Flowerpot: Learn which flowers grow well in a pot and how to care for them. Then plant a pot to attract pollinators!\n8/20: Plant a Delicious Herb Container: Herbs are delicious\, healthy additions to meals. Learn how to care for and harvest herbs.\n8/27: Plant an Indoor Cactus & Succulent Bowl: Succulents are easy to care for as indoor plants. Learn more about these unique plants and where they come from.
URL:https://familyfirstrenton.org/schedule/the-wonderful-world-of-plants/2025-08-20/
LOCATION:Family First Community Center: Makerspace 1
CATEGORIES:Teens,Families,Toddlers,Adults and Seniors,Young Children
ATTACH;FMTTYPE=image/jpeg:https://familyfirstrenton.org/wp-content/uploads/2024/08/IMG_3976-scaled.jpg
END:VEVENT
BEGIN:VEVENT
DTSTART;TZID=America/Los_Angeles:20250815T100000
DTEND;TZID=America/Los_Angeles:20250815T110000
DTSTAMP:20260419T215851
CREATED:20240316T191904Z
LAST-MODIFIED:20250710T221324Z
UID:10006172-1755252000-1755255600@familyfirstrenton.org
SUMMARY:Science Story Time
DESCRIPTION:Join the Environmental Science Center for stories\, movement\, and science activities as we learn about the natural world around us. Themes rotate each month. Great for ages 2-5 with their caregivers.
URL:https://familyfirstrenton.org/schedule/science-story-time/2025-08-15/
LOCATION:Family First Community Center: Community Meeting Room\, 16200 116th Ave SE\, Renton\, WA\, 98058\, United States
CATEGORIES:Families,Toddlers,Young Children
ATTACH;FMTTYPE=image/jpeg:https://familyfirstrenton.org/wp-content/uploads/2023/05/20230616_DOUG_BALDWIN_FAMILY_CENTER-73-scaled.jpg
END:VEVENT
BEGIN:VEVENT
DTSTART;TZID=America/Los_Angeles:20250806T113000
DTEND;TZID=America/Los_Angeles:20250806T123000
DTSTAMP:20260419T215851
CREATED:20240613T231435Z
LAST-MODIFIED:20250701T214047Z
UID:10006164-1754479800-1754483400@familyfirstrenton.org
SUMMARY:The Wonderful World of Plants
DESCRIPTION:Ignite a passion for plants and gardening. In each class\, participants will learn about different plants and how to grow them. They’ll also be able to plant seeds or small plants to bring home! \n\n8/6: Plant a Summer Flowerpot: Learn which flowers grow well in a pot and how to care for them. Then plant a pot to attract pollinators!\n8/20: Plant a Delicious Herb Container: Herbs are delicious\, healthy additions to meals. Learn how to care for and harvest herbs.\n8/27: Plant an Indoor Cactus & Succulent Bowl: Succulents are easy to care for as indoor plants. Learn more about these unique plants and where they come from.
URL:https://familyfirstrenton.org/schedule/the-wonderful-world-of-plants/2025-08-06/
LOCATION:Family First Community Center: Makerspace 1
CATEGORIES:Teens,Families,Toddlers,Adults and Seniors,Young Children
ATTACH;FMTTYPE=image/jpeg:https://familyfirstrenton.org/wp-content/uploads/2024/08/IMG_3976-scaled.jpg
END:VEVENT
BEGIN:VEVENT
DTSTART;TZID=America/Los_Angeles:20250711T100000
DTEND;TZID=America/Los_Angeles:20250711T110000
DTSTAMP:20260419T215851
CREATED:20240316T191904Z
LAST-MODIFIED:20250710T221324Z
UID:10006154-1752228000-1752231600@familyfirstrenton.org
SUMMARY:Science Story Time
DESCRIPTION:Join the Environmental Science Center for stories\, movement\, and science activities as we learn about the natural world around us. Themes rotate each month. Great for ages 2-5 with their caregivers.
URL:https://familyfirstrenton.org/schedule/science-story-time/2025-07-11/
LOCATION:Family First Community Center: Community Meeting Room\, 16200 116th Ave SE\, Renton\, WA\, 98058\, United States
CATEGORIES:Families,Toddlers,Young Children
ATTACH;FMTTYPE=image/jpeg:https://familyfirstrenton.org/wp-content/uploads/2023/05/20230616_DOUG_BALDWIN_FAMILY_CENTER-73-scaled.jpg
END:VEVENT
BEGIN:VEVENT
DTSTART;TZID=America/Los_Angeles:20250613T100000
DTEND;TZID=America/Los_Angeles:20250613T110000
DTSTAMP:20260419T215851
CREATED:20240316T191904Z
LAST-MODIFIED:20250710T221324Z
UID:10005382-1749808800-1749812400@familyfirstrenton.org
SUMMARY:Science Story Time
DESCRIPTION:Join the Environmental Science Center for stories\, movement\, and science activities as we learn about the natural world around us. Themes rotate each month. Great for ages 2-5 with their caregivers.
URL:https://familyfirstrenton.org/schedule/science-story-time/2025-06-13/
LOCATION:Family First Community Center: Community Meeting Room\, 16200 116th Ave SE\, Renton\, WA\, 98058\, United States
CATEGORIES:Families,Toddlers,Young Children
ATTACH;FMTTYPE=image/jpeg:https://familyfirstrenton.org/wp-content/uploads/2023/05/20230616_DOUG_BALDWIN_FAMILY_CENTER-73-scaled.jpg
END:VEVENT
BEGIN:VEVENT
DTSTART;TZID=America/Los_Angeles:20250517T140000
DTEND;TZID=America/Los_Angeles:20250517T170000
DTSTAMP:20260419T215851
CREATED:20250314T184427Z
LAST-MODIFIED:20250501T153052Z
UID:10005484-1747490400-1747501200@familyfirstrenton.org
SUMMARY:Look\, Listen and Learn TV's 3rd Annual P.A.L. Playdate
DESCRIPTION:Look\, Listen and Learn TV’s 3rd Annual P.A.L. Playdate \nDrop-ins are welcome.
URL:https://familyfirstrenton.org/schedule/look-listen-and-learn-tvs-3rd-annual-p-a-l-playdate/
LOCATION:Family First Community Center: Gymnasium
CATEGORIES:Families,Toddlers,Young Children
ATTACH;FMTTYPE=image/jpeg:https://familyfirstrenton.org/wp-content/uploads/2024/03/Copy-of-IMG_1406.jpeg
END:VEVENT
BEGIN:VEVENT
DTSTART;TZID=America/Los_Angeles:20250509T100000
DTEND;TZID=America/Los_Angeles:20250509T110000
DTSTAMP:20260419T215851
CREATED:20240316T191904Z
LAST-MODIFIED:20250710T221324Z
UID:10005381-1746784800-1746788400@familyfirstrenton.org
SUMMARY:Science Story Time
DESCRIPTION:Join the Environmental Science Center for stories\, movement\, and science activities as we learn about the natural world around us. Themes rotate each month. Great for ages 2-5 with their caregivers.
URL:https://familyfirstrenton.org/schedule/science-story-time/2025-05-09/
LOCATION:Family First Community Center: Community Meeting Room\, 16200 116th Ave SE\, Renton\, WA\, 98058\, United States
CATEGORIES:Families,Toddlers,Young Children
ATTACH;FMTTYPE=image/jpeg:https://familyfirstrenton.org/wp-content/uploads/2023/05/20230616_DOUG_BALDWIN_FAMILY_CENTER-73-scaled.jpg
END:VEVENT
BEGIN:VEVENT
DTSTART;TZID=America/Los_Angeles:20250411T100000
DTEND;TZID=America/Los_Angeles:20250411T110000
DTSTAMP:20260419T215851
CREATED:20240316T191904Z
LAST-MODIFIED:20250710T221324Z
UID:10005380-1744365600-1744369200@familyfirstrenton.org
SUMMARY:Science Story Time
DESCRIPTION:Join the Environmental Science Center for stories\, movement\, and science activities as we learn about the natural world around us. Themes rotate each month. Great for ages 2-5 with their caregivers.
URL:https://familyfirstrenton.org/schedule/science-story-time/2025-04-11/
LOCATION:Family First Community Center: Community Meeting Room\, 16200 116th Ave SE\, Renton\, WA\, 98058\, United States
CATEGORIES:Families,Toddlers,Young Children
ATTACH;FMTTYPE=image/jpeg:https://familyfirstrenton.org/wp-content/uploads/2023/05/20230616_DOUG_BALDWIN_FAMILY_CENTER-73-scaled.jpg
END:VEVENT
BEGIN:VEVENT
DTSTART;TZID=America/Los_Angeles:20250314T100000
DTEND;TZID=America/Los_Angeles:20250314T110000
DTSTAMP:20260419T215852
CREATED:20240316T191904Z
LAST-MODIFIED:20250710T221324Z
UID:10005056-1741946400-1741950000@familyfirstrenton.org
SUMMARY:Science Story Time
DESCRIPTION:Join the Environmental Science Center for stories\, movement\, and science activities as we learn about the natural world around us. Themes rotate each month. Great for ages 2-5 with their caregivers.
URL:https://familyfirstrenton.org/schedule/science-story-time/2025-03-14/
LOCATION:Family First Community Center: Community Meeting Room\, 16200 116th Ave SE\, Renton\, WA\, 98058\, United States
CATEGORIES:Families,Toddlers,Young Children
ATTACH;FMTTYPE=image/jpeg:https://familyfirstrenton.org/wp-content/uploads/2023/05/20230616_DOUG_BALDWIN_FAMILY_CENTER-73-scaled.jpg
END:VEVENT
BEGIN:VEVENT
DTSTART;TZID=America/Los_Angeles:20250214T100000
DTEND;TZID=America/Los_Angeles:20250214T110000
DTSTAMP:20260419T215852
CREATED:20240316T191904Z
LAST-MODIFIED:20250710T221324Z
UID:10005055-1739527200-1739530800@familyfirstrenton.org
SUMMARY:Science Story Time
DESCRIPTION:Join the Environmental Science Center for stories\, movement\, and science activities as we learn about the natural world around us. Themes rotate each month. Great for ages 2-5 with their caregivers.
URL:https://familyfirstrenton.org/schedule/science-story-time/2025-02-14/
LOCATION:Family First Community Center: Community Meeting Room\, 16200 116th Ave SE\, Renton\, WA\, 98058\, United States
CATEGORIES:Families,Toddlers,Young Children
ATTACH;FMTTYPE=image/jpeg:https://familyfirstrenton.org/wp-content/uploads/2023/05/20230616_DOUG_BALDWIN_FAMILY_CENTER-73-scaled.jpg
END:VEVENT
BEGIN:VEVENT
DTSTART;TZID=America/Los_Angeles:20241213T100000
DTEND;TZID=America/Los_Angeles:20241213T110000
DTSTAMP:20260419T215852
CREATED:20240316T191904Z
LAST-MODIFIED:20250710T221324Z
UID:10005054-1734084000-1734087600@familyfirstrenton.org
SUMMARY:Science Story Time
DESCRIPTION:Join the Environmental Science Center for stories\, movement\, and science activities as we learn about the natural world around us. Themes rotate each month. Great for ages 2-5 with their caregivers.
URL:https://familyfirstrenton.org/schedule/science-story-time/2024-12-13/
LOCATION:Family First Community Center: Community Meeting Room\, 16200 116th Ave SE\, Renton\, WA\, 98058\, United States
CATEGORIES:Families,Toddlers,Young Children
ATTACH;FMTTYPE=image/jpeg:https://familyfirstrenton.org/wp-content/uploads/2023/05/20230616_DOUG_BALDWIN_FAMILY_CENTER-73-scaled.jpg
END:VEVENT
BEGIN:VEVENT
DTSTART;TZID=America/Los_Angeles:20241119T180000
DTEND;TZID=America/Los_Angeles:20241119T194500
DTSTAMP:20260419T215852
CREATED:20241010T191149Z
LAST-MODIFIED:20241010T191149Z
UID:10005154-1732039200-1732045500@familyfirstrenton.org
SUMMARY:Family Concert featuring Mariachi Monarcas!
DESCRIPTION:Join Bernadette\, Baily\, and Hyunjoo from KCLS & Studio Vignette Collective for Family Concert featuring Mariachi Monarcas! All ages are welcome! Drop-ins are accepted.
URL:https://familyfirstrenton.org/schedule/family-concert-featuring-mariachi-monarcas/
LOCATION:Family First Community Center: Makerspace 1
CATEGORIES:Teens,Families,Toddlers,Adults and Seniors,Young Children
ATTACH;FMTTYPE=image/jpeg:https://familyfirstrenton.org/wp-content/uploads/2024/10/IMG_9244-scaled.jpg
END:VEVENT
BEGIN:VEVENT
DTSTART;TZID=America/Los_Angeles:20241108T100000
DTEND;TZID=America/Los_Angeles:20241108T110000
DTSTAMP:20260419T215852
CREATED:20240316T191904Z
LAST-MODIFIED:20250710T221324Z
UID:10005106-1731060000-1731063600@familyfirstrenton.org
SUMMARY:Science Story Time
DESCRIPTION:Join the Environmental Science Center for stories\, movement\, and science activities as we learn about the natural world around us. Themes rotate each month. Great for ages 2-5 with their caregivers.
URL:https://familyfirstrenton.org/schedule/science-story-time/2024-11-08/
LOCATION:Family First Community Center: Community Meeting Room\, 16200 116th Ave SE\, Renton\, WA\, 98058\, United States
CATEGORIES:Families,Toddlers,Young Children
ATTACH;FMTTYPE=image/jpeg:https://familyfirstrenton.org/wp-content/uploads/2023/05/20230616_DOUG_BALDWIN_FAMILY_CENTER-73-scaled.jpg
END:VEVENT
BEGIN:VEVENT
DTSTART;TZID=America/Los_Angeles:20241025T173000
DTEND;TZID=America/Los_Angeles:20241025T194500
DTSTAMP:20260419T215852
CREATED:20241010T193925Z
LAST-MODIFIED:20250909T235400Z
UID:10005157-1729877400-1729885500@familyfirstrenton.org
SUMMARY:Pumpkin Carving
DESCRIPTION:Gather with the community for this fun pumpkin carving event! Artist Jordan Bye will be supervising and guiding carving. Some tools and carving ideas will be provided. This event is free\, but bring your own pumpkin\, as well as additional carving tools! Open to all ages. \nPre-register at the Family First Community Center front desk or under your own online account on My Active Center’s account. Drop-Ins accepted!
URL:https://familyfirstrenton.org/schedule/pumpkin-carving/2024-10-25/
LOCATION:Family First Community Center: Makerspace 1
CATEGORIES:Teens,Families,Toddlers,Adults and Seniors,Young Children
ATTACH;FMTTYPE=image/jpeg:https://familyfirstrenton.org/wp-content/uploads/2024/10/IMG_5039-scaled.jpg
END:VEVENT
BEGIN:VEVENT
DTSTART;TZID=America/Los_Angeles:20241011T100000
DTEND;TZID=America/Los_Angeles:20241011T110000
DTSTAMP:20260419T215852
CREATED:20240316T191904Z
LAST-MODIFIED:20250710T221324Z
UID:10005052-1728640800-1728644400@familyfirstrenton.org
SUMMARY:Science Story Time
DESCRIPTION:Join the Environmental Science Center for stories\, movement\, and science activities as we learn about the natural world around us. Themes rotate each month. Great for ages 2-5 with their caregivers.
URL:https://familyfirstrenton.org/schedule/science-story-time/2024-10-11/
LOCATION:Family First Community Center: Community Meeting Room\, 16200 116th Ave SE\, Renton\, WA\, 98058\, United States
CATEGORIES:Families,Toddlers,Young Children
ATTACH;FMTTYPE=image/jpeg:https://familyfirstrenton.org/wp-content/uploads/2023/05/20230616_DOUG_BALDWIN_FAMILY_CENTER-73-scaled.jpg
END:VEVENT
END:VCALENDAR