BEGIN:VCALENDAR
VERSION:2.0
PRODID:-//Family First Community Center - ECPv6.15.17//NONSGML v1.0//EN
CALSCALE:GREGORIAN
METHOD:PUBLISH
X-ORIGINAL-URL:https://familyfirstrenton.org
X-WR-CALDESC:Events for Family First Community Center
REFRESH-INTERVAL;VALUE=DURATION:PT1H
X-Robots-Tag:noindex
X-PUBLISHED-TTL:PT1H
BEGIN:VTIMEZONE
TZID:America/Los_Angeles
BEGIN:DAYLIGHT
TZOFFSETFROM:-0800
TZOFFSETTO:-0700
TZNAME:PDT
DTSTART:20250309T100000
END:DAYLIGHT
BEGIN:STANDARD
TZOFFSETFROM:-0700
TZOFFSETTO:-0800
TZNAME:PST
DTSTART:20251102T090000
END:STANDARD
BEGIN:DAYLIGHT
TZOFFSETFROM:-0800
TZOFFSETTO:-0700
TZNAME:PDT
DTSTART:20260308T100000
END:DAYLIGHT
BEGIN:STANDARD
TZOFFSETFROM:-0700
TZOFFSETTO:-0800
TZNAME:PST
DTSTART:20261101T090000
END:STANDARD
BEGIN:DAYLIGHT
TZOFFSETFROM:-0800
TZOFFSETTO:-0700
TZNAME:PDT
DTSTART:20270314T100000
END:DAYLIGHT
BEGIN:STANDARD
TZOFFSETFROM:-0700
TZOFFSETTO:-0800
TZNAME:PST
DTSTART:20271107T090000
END:STANDARD
END:VTIMEZONE
BEGIN:VEVENT
DTSTART;TZID=America/Los_Angeles:20260630T160000
DTEND;TZID=America/Los_Angeles:20260630T174500
DTSTAMP:20260423T145648
CREATED:20260319T175523Z
LAST-MODIFIED:20260407T163636Z
UID:10008770-1782835200-1782841500@familyfirstrenton.org
SUMMARY:Intergenerational Volleyball with the Family First Community Center (Modified Hours)
DESCRIPTION:Join us at the FFCC for a drop-in time with your friends and/or family!
URL:https://familyfirstrenton.org/schedule/intergenerational-volleyball-with-the-family-first-community-center/2026-06-30/
LOCATION:Family First Community Center: Gymnasium
CATEGORIES:Teens,Families,Adults and Seniors
ATTACH;FMTTYPE=image/jpeg:https://familyfirstrenton.org/wp-content/uploads/2023/12/23016-0023j.jpg
END:VEVENT
BEGIN:VEVENT
DTSTART;TZID=America/Los_Angeles:20260702T160000
DTEND;TZID=America/Los_Angeles:20260702T174500
DTSTAMP:20260423T145648
CREATED:20260319T175523Z
LAST-MODIFIED:20260407T163636Z
UID:10008771-1783008000-1783014300@familyfirstrenton.org
SUMMARY:Intergenerational Volleyball with the Family First Community Center (Modified Hours)
DESCRIPTION:Join us at the FFCC for a drop-in time with your friends and/or family!
URL:https://familyfirstrenton.org/schedule/intergenerational-volleyball-with-the-family-first-community-center/2026-07-02/
LOCATION:Family First Community Center: Gymnasium
CATEGORIES:Teens,Families,Adults and Seniors
ATTACH;FMTTYPE=image/jpeg:https://familyfirstrenton.org/wp-content/uploads/2023/12/23016-0023j.jpg
END:VEVENT
BEGIN:VEVENT
DTSTART;TZID=America/Los_Angeles:20260702T165000
DTEND;TZID=America/Los_Angeles:20260702T175000
DTSTAMP:20260423T145648
CREATED:20231120T161836Z
LAST-MODIFIED:20260422T230932Z
UID:10009119-1783011000-1783014600@familyfirstrenton.org
SUMMARY:Zumba Fitness Basics - Adults and Teens
DESCRIPTION:Stop on by for a series of Zumba Aerobic classes using all dance styles. Every class we will revisit the steps that we’ve covered and build onto a choreographed routine. Come join the fun!
URL:https://familyfirstrenton.org/schedule/zumba-fitness-basics-adults-and-teens/2026-07-02/
LOCATION:Family First Community Center: Gymnasium 1/2\, 16200 116th Ave SE\, Renton\, WA\, 98058
CATEGORIES:Teens,Adults and Seniors
ATTACH;FMTTYPE=image/jpeg:https://familyfirstrenton.org/wp-content/uploads/2023/11/IMG_1410-scaled.jpg
END:VEVENT
BEGIN:VEVENT
DTSTART;TZID=America/Los_Angeles:20260707T160000
DTEND;TZID=America/Los_Angeles:20260707T174500
DTSTAMP:20260423T145648
CREATED:20260319T175523Z
LAST-MODIFIED:20260407T163636Z
UID:10008772-1783440000-1783446300@familyfirstrenton.org
SUMMARY:Intergenerational Volleyball with the Family First Community Center (Modified Hours)
DESCRIPTION:Join us at the FFCC for a drop-in time with your friends and/or family!
URL:https://familyfirstrenton.org/schedule/intergenerational-volleyball-with-the-family-first-community-center/2026-07-07/
LOCATION:Family First Community Center: Gymnasium
CATEGORIES:Teens,Families,Adults and Seniors
ATTACH;FMTTYPE=image/jpeg:https://familyfirstrenton.org/wp-content/uploads/2023/12/23016-0023j.jpg
END:VEVENT
BEGIN:VEVENT
DTSTART;TZID=America/Los_Angeles:20260709T160000
DTEND;TZID=America/Los_Angeles:20260709T174500
DTSTAMP:20260423T145648
CREATED:20260319T175523Z
LAST-MODIFIED:20260407T163636Z
UID:10008773-1783612800-1783619100@familyfirstrenton.org
SUMMARY:Intergenerational Volleyball with the Family First Community Center (Modified Hours)
DESCRIPTION:Join us at the FFCC for a drop-in time with your friends and/or family!
URL:https://familyfirstrenton.org/schedule/intergenerational-volleyball-with-the-family-first-community-center/2026-07-09/
LOCATION:Family First Community Center: Gymnasium
CATEGORIES:Teens,Families,Adults and Seniors
ATTACH;FMTTYPE=image/jpeg:https://familyfirstrenton.org/wp-content/uploads/2023/12/23016-0023j.jpg
END:VEVENT
BEGIN:VEVENT
DTSTART;TZID=America/Los_Angeles:20260709T165000
DTEND;TZID=America/Los_Angeles:20260709T175000
DTSTAMP:20260423T145648
CREATED:20231120T161836Z
LAST-MODIFIED:20260422T230932Z
UID:10009120-1783615800-1783619400@familyfirstrenton.org
SUMMARY:Zumba Fitness Basics - Adults and Teens
DESCRIPTION:Stop on by for a series of Zumba Aerobic classes using all dance styles. Every class we will revisit the steps that we’ve covered and build onto a choreographed routine. Come join the fun!
URL:https://familyfirstrenton.org/schedule/zumba-fitness-basics-adults-and-teens/2026-07-09/
LOCATION:Family First Community Center: Gymnasium 1/2\, 16200 116th Ave SE\, Renton\, WA\, 98058
CATEGORIES:Teens,Adults and Seniors
ATTACH;FMTTYPE=image/jpeg:https://familyfirstrenton.org/wp-content/uploads/2023/11/IMG_1410-scaled.jpg
END:VEVENT
BEGIN:VEVENT
DTSTART;TZID=America/Los_Angeles:20260710T153000
DTEND;TZID=America/Los_Angeles:20260710T163000
DTSTAMP:20260423T145648
CREATED:20240911T160602Z
LAST-MODIFIED:20260422T222349Z
UID:10009081-1783697400-1783701000@familyfirstrenton.org
SUMMARY:Hip Hop Dance/Breaking (Breakdance) with Massive Monkees
DESCRIPTION:The purpose of Hip-Hop Dance/Breaking is to build students’ confidence\, skills\, grit\, creativity\, and musicality—all while having fun as they learn advanced dance moves\, tricks\, choreography\, performance\, and battling. \nDrop-ins are accepted.
URL:https://familyfirstrenton.org/schedule/hip-hop-dance-breaking-breakdance-with-massive-monkees/2026-07-10/
LOCATION:Family First Community Center: Dance Studio
CATEGORIES:Teens
ATTACH;FMTTYPE=image/jpeg:https://familyfirstrenton.org/wp-content/uploads/2023/06/FFCC-Dance-Studio-2023-scaled.jpg
END:VEVENT
BEGIN:VEVENT
DTSTART;TZID=America/Los_Angeles:20260714T160000
DTEND;TZID=America/Los_Angeles:20260714T174500
DTSTAMP:20260423T145648
CREATED:20260319T175523Z
LAST-MODIFIED:20260407T163636Z
UID:10008774-1784044800-1784051100@familyfirstrenton.org
SUMMARY:Intergenerational Volleyball with the Family First Community Center (Modified Hours)
DESCRIPTION:Join us at the FFCC for a drop-in time with your friends and/or family!
URL:https://familyfirstrenton.org/schedule/intergenerational-volleyball-with-the-family-first-community-center/2026-07-14/
LOCATION:Family First Community Center: Gymnasium
CATEGORIES:Teens,Families,Adults and Seniors
ATTACH;FMTTYPE=image/jpeg:https://familyfirstrenton.org/wp-content/uploads/2023/12/23016-0023j.jpg
END:VEVENT
BEGIN:VEVENT
DTSTART;TZID=America/Los_Angeles:20260716T160000
DTEND;TZID=America/Los_Angeles:20260716T174500
DTSTAMP:20260423T145648
CREATED:20260319T175523Z
LAST-MODIFIED:20260407T163636Z
UID:10008775-1784217600-1784223900@familyfirstrenton.org
SUMMARY:Intergenerational Volleyball with the Family First Community Center (Modified Hours)
DESCRIPTION:Join us at the FFCC for a drop-in time with your friends and/or family!
URL:https://familyfirstrenton.org/schedule/intergenerational-volleyball-with-the-family-first-community-center/2026-07-16/
LOCATION:Family First Community Center: Gymnasium
CATEGORIES:Teens,Families,Adults and Seniors
ATTACH;FMTTYPE=image/jpeg:https://familyfirstrenton.org/wp-content/uploads/2023/12/23016-0023j.jpg
END:VEVENT
BEGIN:VEVENT
DTSTART;TZID=America/Los_Angeles:20260716T165000
DTEND;TZID=America/Los_Angeles:20260716T175000
DTSTAMP:20260423T145648
CREATED:20231120T161836Z
LAST-MODIFIED:20260422T230932Z
UID:10009121-1784220600-1784224200@familyfirstrenton.org
SUMMARY:Zumba Fitness Basics - Adults and Teens
DESCRIPTION:Stop on by for a series of Zumba Aerobic classes using all dance styles. Every class we will revisit the steps that we’ve covered and build onto a choreographed routine. Come join the fun!
URL:https://familyfirstrenton.org/schedule/zumba-fitness-basics-adults-and-teens/2026-07-16/
LOCATION:Family First Community Center: Gymnasium 1/2\, 16200 116th Ave SE\, Renton\, WA\, 98058
CATEGORIES:Teens,Adults and Seniors
ATTACH;FMTTYPE=image/jpeg:https://familyfirstrenton.org/wp-content/uploads/2023/11/IMG_1410-scaled.jpg
END:VEVENT
BEGIN:VEVENT
DTSTART;TZID=America/Los_Angeles:20260717T153000
DTEND;TZID=America/Los_Angeles:20260717T163000
DTSTAMP:20260423T145648
CREATED:20240911T160602Z
LAST-MODIFIED:20260422T222349Z
UID:10009082-1784302200-1784305800@familyfirstrenton.org
SUMMARY:Hip Hop Dance/Breaking (Breakdance) with Massive Monkees
DESCRIPTION:The purpose of Hip-Hop Dance/Breaking is to build students’ confidence\, skills\, grit\, creativity\, and musicality—all while having fun as they learn advanced dance moves\, tricks\, choreography\, performance\, and battling. \nDrop-ins are accepted.
URL:https://familyfirstrenton.org/schedule/hip-hop-dance-breaking-breakdance-with-massive-monkees/2026-07-17/
LOCATION:Family First Community Center: Dance Studio
CATEGORIES:Teens
ATTACH;FMTTYPE=image/jpeg:https://familyfirstrenton.org/wp-content/uploads/2023/06/FFCC-Dance-Studio-2023-scaled.jpg
END:VEVENT
BEGIN:VEVENT
DTSTART;TZID=America/Los_Angeles:20260721T160000
DTEND;TZID=America/Los_Angeles:20260721T174500
DTSTAMP:20260423T145648
CREATED:20260319T175523Z
LAST-MODIFIED:20260407T163636Z
UID:10008776-1784649600-1784655900@familyfirstrenton.org
SUMMARY:Intergenerational Volleyball with the Family First Community Center (Modified Hours)
DESCRIPTION:Join us at the FFCC for a drop-in time with your friends and/or family!
URL:https://familyfirstrenton.org/schedule/intergenerational-volleyball-with-the-family-first-community-center/2026-07-21/
LOCATION:Family First Community Center: Gymnasium
CATEGORIES:Teens,Families,Adults and Seniors
ATTACH;FMTTYPE=image/jpeg:https://familyfirstrenton.org/wp-content/uploads/2023/12/23016-0023j.jpg
END:VEVENT
BEGIN:VEVENT
DTSTART;TZID=America/Los_Angeles:20260723T160000
DTEND;TZID=America/Los_Angeles:20260723T174500
DTSTAMP:20260423T145648
CREATED:20260319T175523Z
LAST-MODIFIED:20260407T163636Z
UID:10008777-1784822400-1784828700@familyfirstrenton.org
SUMMARY:Intergenerational Volleyball with the Family First Community Center (Modified Hours)
DESCRIPTION:Join us at the FFCC for a drop-in time with your friends and/or family!
URL:https://familyfirstrenton.org/schedule/intergenerational-volleyball-with-the-family-first-community-center/2026-07-23/
LOCATION:Family First Community Center: Gymnasium
CATEGORIES:Teens,Families,Adults and Seniors
ATTACH;FMTTYPE=image/jpeg:https://familyfirstrenton.org/wp-content/uploads/2023/12/23016-0023j.jpg
END:VEVENT
BEGIN:VEVENT
DTSTART;TZID=America/Los_Angeles:20260723T165000
DTEND;TZID=America/Los_Angeles:20260723T175000
DTSTAMP:20260423T145648
CREATED:20231120T161836Z
LAST-MODIFIED:20260422T230932Z
UID:10009122-1784825400-1784829000@familyfirstrenton.org
SUMMARY:Zumba Fitness Basics - Adults and Teens
DESCRIPTION:Stop on by for a series of Zumba Aerobic classes using all dance styles. Every class we will revisit the steps that we’ve covered and build onto a choreographed routine. Come join the fun!
URL:https://familyfirstrenton.org/schedule/zumba-fitness-basics-adults-and-teens/2026-07-23/
LOCATION:Family First Community Center: Gymnasium 1/2\, 16200 116th Ave SE\, Renton\, WA\, 98058
CATEGORIES:Teens,Adults and Seniors
ATTACH;FMTTYPE=image/jpeg:https://familyfirstrenton.org/wp-content/uploads/2023/11/IMG_1410-scaled.jpg
END:VEVENT
BEGIN:VEVENT
DTSTART;TZID=America/Los_Angeles:20260724T153000
DTEND;TZID=America/Los_Angeles:20260724T163000
DTSTAMP:20260423T145648
CREATED:20240911T160602Z
LAST-MODIFIED:20260422T222349Z
UID:10009083-1784907000-1784910600@familyfirstrenton.org
SUMMARY:Hip Hop Dance/Breaking (Breakdance) with Massive Monkees
DESCRIPTION:The purpose of Hip-Hop Dance/Breaking is to build students’ confidence\, skills\, grit\, creativity\, and musicality—all while having fun as they learn advanced dance moves\, tricks\, choreography\, performance\, and battling. \nDrop-ins are accepted.
URL:https://familyfirstrenton.org/schedule/hip-hop-dance-breaking-breakdance-with-massive-monkees/2026-07-24/
LOCATION:Family First Community Center: Dance Studio
CATEGORIES:Teens
ATTACH;FMTTYPE=image/jpeg:https://familyfirstrenton.org/wp-content/uploads/2023/06/FFCC-Dance-Studio-2023-scaled.jpg
END:VEVENT
BEGIN:VEVENT
DTSTART;TZID=America/Los_Angeles:20260724T160000
DTEND;TZID=America/Los_Angeles:20260724T173000
DTSTAMP:20260423T145648
CREATED:20240502T215512Z
LAST-MODIFIED:20260422T184204Z
UID:10009057-1784908800-1784914200@familyfirstrenton.org
SUMMARY:Teen Leadership Group
DESCRIPTION:Are you passionate about libraries and your community? \nApply to join the new teen leaders group in collaboration with Fairwood Library\, Renton Library\, and the Family First Community Center. Members will earn volunteer credit and have a voice in programs/events offered at the Fairwood Library\, Renton Library\, Family First Community Center\, and the greater community. Students ages 13-18 may apply. \nCompletion of the Interest Form is required to join.
URL:https://familyfirstrenton.org/schedule/teen-leadership-group/2026-07-24/
CATEGORIES:Teens
ATTACH;FMTTYPE=image/jpeg:https://familyfirstrenton.org/wp-content/uploads/2024/08/IMG_3996-scaled.jpg
END:VEVENT
BEGIN:VEVENT
DTSTART;TZID=America/Los_Angeles:20260728T160000
DTEND;TZID=America/Los_Angeles:20260728T174500
DTSTAMP:20260423T145648
CREATED:20260319T175523Z
LAST-MODIFIED:20260407T163636Z
UID:10008778-1785254400-1785260700@familyfirstrenton.org
SUMMARY:Intergenerational Volleyball with the Family First Community Center (Modified Hours)
DESCRIPTION:Join us at the FFCC for a drop-in time with your friends and/or family!
URL:https://familyfirstrenton.org/schedule/intergenerational-volleyball-with-the-family-first-community-center/2026-07-28/
LOCATION:Family First Community Center: Gymnasium
CATEGORIES:Teens,Families,Adults and Seniors
ATTACH;FMTTYPE=image/jpeg:https://familyfirstrenton.org/wp-content/uploads/2023/12/23016-0023j.jpg
END:VEVENT
BEGIN:VEVENT
DTSTART;TZID=America/Los_Angeles:20260730T160000
DTEND;TZID=America/Los_Angeles:20260730T174500
DTSTAMP:20260423T145648
CREATED:20260319T175523Z
LAST-MODIFIED:20260407T163636Z
UID:10008779-1785427200-1785433500@familyfirstrenton.org
SUMMARY:Intergenerational Volleyball with the Family First Community Center (Modified Hours)
DESCRIPTION:Join us at the FFCC for a drop-in time with your friends and/or family!
URL:https://familyfirstrenton.org/schedule/intergenerational-volleyball-with-the-family-first-community-center/2026-07-30/
LOCATION:Family First Community Center: Gymnasium
CATEGORIES:Teens,Families,Adults and Seniors
ATTACH;FMTTYPE=image/jpeg:https://familyfirstrenton.org/wp-content/uploads/2023/12/23016-0023j.jpg
END:VEVENT
BEGIN:VEVENT
DTSTART;TZID=America/Los_Angeles:20260730T165000
DTEND;TZID=America/Los_Angeles:20260730T175000
DTSTAMP:20260423T145648
CREATED:20231120T161836Z
LAST-MODIFIED:20260422T230932Z
UID:10009123-1785430200-1785433800@familyfirstrenton.org
SUMMARY:Zumba Fitness Basics - Adults and Teens
DESCRIPTION:Stop on by for a series of Zumba Aerobic classes using all dance styles. Every class we will revisit the steps that we’ve covered and build onto a choreographed routine. Come join the fun!
URL:https://familyfirstrenton.org/schedule/zumba-fitness-basics-adults-and-teens/2026-07-30/
LOCATION:Family First Community Center: Gymnasium 1/2\, 16200 116th Ave SE\, Renton\, WA\, 98058
CATEGORIES:Teens,Adults and Seniors
ATTACH;FMTTYPE=image/jpeg:https://familyfirstrenton.org/wp-content/uploads/2023/11/IMG_1410-scaled.jpg
END:VEVENT
BEGIN:VEVENT
DTSTART;TZID=America/Los_Angeles:20260731T153000
DTEND;TZID=America/Los_Angeles:20260731T163000
DTSTAMP:20260423T145648
CREATED:20240911T160602Z
LAST-MODIFIED:20260422T222349Z
UID:10009084-1785511800-1785515400@familyfirstrenton.org
SUMMARY:Hip Hop Dance/Breaking (Breakdance) with Massive Monkees
DESCRIPTION:The purpose of Hip-Hop Dance/Breaking is to build students’ confidence\, skills\, grit\, creativity\, and musicality—all while having fun as they learn advanced dance moves\, tricks\, choreography\, performance\, and battling. \nDrop-ins are accepted.
URL:https://familyfirstrenton.org/schedule/hip-hop-dance-breaking-breakdance-with-massive-monkees/2026-07-31/
LOCATION:Family First Community Center: Dance Studio
CATEGORIES:Teens
ATTACH;FMTTYPE=image/jpeg:https://familyfirstrenton.org/wp-content/uploads/2023/06/FFCC-Dance-Studio-2023-scaled.jpg
END:VEVENT
BEGIN:VEVENT
DTSTART;TZID=America/Los_Angeles:20260731T160000
DTEND;TZID=America/Los_Angeles:20260731T173000
DTSTAMP:20260423T145648
CREATED:20240502T215512Z
LAST-MODIFIED:20260422T184204Z
UID:10009058-1785513600-1785519000@familyfirstrenton.org
SUMMARY:Teen Leadership Group
DESCRIPTION:Are you passionate about libraries and your community? \nApply to join the new teen leaders group in collaboration with Fairwood Library\, Renton Library\, and the Family First Community Center. Members will earn volunteer credit and have a voice in programs/events offered at the Fairwood Library\, Renton Library\, Family First Community Center\, and the greater community. Students ages 13-18 may apply. \nCompletion of the Interest Form is required to join.
URL:https://familyfirstrenton.org/schedule/teen-leadership-group/2026-07-31/
CATEGORIES:Teens
ATTACH;FMTTYPE=image/jpeg:https://familyfirstrenton.org/wp-content/uploads/2024/08/IMG_3996-scaled.jpg
END:VEVENT
BEGIN:VEVENT
DTSTART;TZID=America/Los_Angeles:20260804T143000
DTEND;TZID=America/Los_Angeles:20260804T173000
DTSTAMP:20260423T145648
CREATED:20260319T171050Z
LAST-MODIFIED:20260407T173659Z
UID:10008647-1785853800-1785864600@familyfirstrenton.org
SUMMARY:Teen Volleyball with the Family First Community Center
DESCRIPTION:Join us at the FFCC for a teen volleyball drop-in time!
URL:https://familyfirstrenton.org/schedule/teen-volleyball-with-the-family-first-community-center/2026-08-04/
LOCATION:Family First Community Center: Gymnasium
CATEGORIES:Teens
ATTACH;FMTTYPE=image/jpeg:https://familyfirstrenton.org/wp-content/uploads/2023/12/23016-0023j.jpg
END:VEVENT
BEGIN:VEVENT
DTSTART;TZID=America/Los_Angeles:20260806T143000
DTEND;TZID=America/Los_Angeles:20260806T173000
DTSTAMP:20260423T145648
CREATED:20260319T171050Z
LAST-MODIFIED:20260407T173659Z
UID:10008648-1786026600-1786037400@familyfirstrenton.org
SUMMARY:Teen Volleyball with the Family First Community Center
DESCRIPTION:Join us at the FFCC for a teen volleyball drop-in time!
URL:https://familyfirstrenton.org/schedule/teen-volleyball-with-the-family-first-community-center/2026-08-06/
LOCATION:Family First Community Center: Gymnasium
CATEGORIES:Teens
ATTACH;FMTTYPE=image/jpeg:https://familyfirstrenton.org/wp-content/uploads/2023/12/23016-0023j.jpg
END:VEVENT
BEGIN:VEVENT
DTSTART;TZID=America/Los_Angeles:20260806T165000
DTEND;TZID=America/Los_Angeles:20260806T175000
DTSTAMP:20260423T145648
CREATED:20231120T161836Z
LAST-MODIFIED:20260422T230932Z
UID:10009124-1786035000-1786038600@familyfirstrenton.org
SUMMARY:Zumba Fitness Basics - Adults and Teens
DESCRIPTION:Stop on by for a series of Zumba Aerobic classes using all dance styles. Every class we will revisit the steps that we’ve covered and build onto a choreographed routine. Come join the fun!
URL:https://familyfirstrenton.org/schedule/zumba-fitness-basics-adults-and-teens/2026-08-06/
LOCATION:Family First Community Center: Gymnasium 1/2\, 16200 116th Ave SE\, Renton\, WA\, 98058
CATEGORIES:Teens,Adults and Seniors
ATTACH;FMTTYPE=image/jpeg:https://familyfirstrenton.org/wp-content/uploads/2023/11/IMG_1410-scaled.jpg
END:VEVENT
BEGIN:VEVENT
DTSTART;TZID=America/Los_Angeles:20260807T153000
DTEND;TZID=America/Los_Angeles:20260807T163000
DTSTAMP:20260423T145648
CREATED:20240911T160602Z
LAST-MODIFIED:20260422T222349Z
UID:10009085-1786116600-1786120200@familyfirstrenton.org
SUMMARY:Hip Hop Dance/Breaking (Breakdance) with Massive Monkees
DESCRIPTION:The purpose of Hip-Hop Dance/Breaking is to build students’ confidence\, skills\, grit\, creativity\, and musicality—all while having fun as they learn advanced dance moves\, tricks\, choreography\, performance\, and battling. \nDrop-ins are accepted.
URL:https://familyfirstrenton.org/schedule/hip-hop-dance-breaking-breakdance-with-massive-monkees/2026-08-07/
LOCATION:Family First Community Center: Dance Studio
CATEGORIES:Teens
ATTACH;FMTTYPE=image/jpeg:https://familyfirstrenton.org/wp-content/uploads/2023/06/FFCC-Dance-Studio-2023-scaled.jpg
END:VEVENT
BEGIN:VEVENT
DTSTART;TZID=America/Los_Angeles:20260807T160000
DTEND;TZID=America/Los_Angeles:20260807T173000
DTSTAMP:20260423T145648
CREATED:20240502T215512Z
LAST-MODIFIED:20260422T184204Z
UID:10009059-1786118400-1786123800@familyfirstrenton.org
SUMMARY:Teen Leadership Group
DESCRIPTION:Are you passionate about libraries and your community? \nApply to join the new teen leaders group in collaboration with Fairwood Library\, Renton Library\, and the Family First Community Center. Members will earn volunteer credit and have a voice in programs/events offered at the Fairwood Library\, Renton Library\, Family First Community Center\, and the greater community. Students ages 13-18 may apply. \nCompletion of the Interest Form is required to join.
URL:https://familyfirstrenton.org/schedule/teen-leadership-group/2026-08-07/
CATEGORIES:Teens
ATTACH;FMTTYPE=image/jpeg:https://familyfirstrenton.org/wp-content/uploads/2024/08/IMG_3996-scaled.jpg
END:VEVENT
BEGIN:VEVENT
DTSTART;TZID=America/Los_Angeles:20260811T143000
DTEND;TZID=America/Los_Angeles:20260811T173000
DTSTAMP:20260423T145648
CREATED:20260319T171050Z
LAST-MODIFIED:20260407T173659Z
UID:10008649-1786458600-1786469400@familyfirstrenton.org
SUMMARY:Teen Volleyball with the Family First Community Center
DESCRIPTION:Join us at the FFCC for a teen volleyball drop-in time!
URL:https://familyfirstrenton.org/schedule/teen-volleyball-with-the-family-first-community-center/2026-08-11/
LOCATION:Family First Community Center: Gymnasium
CATEGORIES:Teens
ATTACH;FMTTYPE=image/jpeg:https://familyfirstrenton.org/wp-content/uploads/2023/12/23016-0023j.jpg
END:VEVENT
BEGIN:VEVENT
DTSTART;TZID=America/Los_Angeles:20260813T143000
DTEND;TZID=America/Los_Angeles:20260813T173000
DTSTAMP:20260423T145648
CREATED:20260319T171050Z
LAST-MODIFIED:20260407T173659Z
UID:10008650-1786631400-1786642200@familyfirstrenton.org
SUMMARY:Teen Volleyball with the Family First Community Center
DESCRIPTION:Join us at the FFCC for a teen volleyball drop-in time!
URL:https://familyfirstrenton.org/schedule/teen-volleyball-with-the-family-first-community-center/2026-08-13/
LOCATION:Family First Community Center: Gymnasium
CATEGORIES:Teens
ATTACH;FMTTYPE=image/jpeg:https://familyfirstrenton.org/wp-content/uploads/2023/12/23016-0023j.jpg
END:VEVENT
BEGIN:VEVENT
DTSTART;TZID=America/Los_Angeles:20260813T165000
DTEND;TZID=America/Los_Angeles:20260813T175000
DTSTAMP:20260423T145648
CREATED:20231120T161836Z
LAST-MODIFIED:20260422T230932Z
UID:10009125-1786639800-1786643400@familyfirstrenton.org
SUMMARY:Zumba Fitness Basics - Adults and Teens
DESCRIPTION:Stop on by for a series of Zumba Aerobic classes using all dance styles. Every class we will revisit the steps that we’ve covered and build onto a choreographed routine. Come join the fun!
URL:https://familyfirstrenton.org/schedule/zumba-fitness-basics-adults-and-teens/2026-08-13/
LOCATION:Family First Community Center: Gymnasium 1/2\, 16200 116th Ave SE\, Renton\, WA\, 98058
CATEGORIES:Teens,Adults and Seniors
ATTACH;FMTTYPE=image/jpeg:https://familyfirstrenton.org/wp-content/uploads/2023/11/IMG_1410-scaled.jpg
END:VEVENT
BEGIN:VEVENT
DTSTART;TZID=America/Los_Angeles:20260814T153000
DTEND;TZID=America/Los_Angeles:20260814T163000
DTSTAMP:20260423T145648
CREATED:20240911T160602Z
LAST-MODIFIED:20260422T222349Z
UID:10009086-1786721400-1786725000@familyfirstrenton.org
SUMMARY:Hip Hop Dance/Breaking (Breakdance) with Massive Monkees
DESCRIPTION:The purpose of Hip-Hop Dance/Breaking is to build students’ confidence\, skills\, grit\, creativity\, and musicality—all while having fun as they learn advanced dance moves\, tricks\, choreography\, performance\, and battling. \nDrop-ins are accepted.
URL:https://familyfirstrenton.org/schedule/hip-hop-dance-breaking-breakdance-with-massive-monkees/2026-08-14/
LOCATION:Family First Community Center: Dance Studio
CATEGORIES:Teens
ATTACH;FMTTYPE=image/jpeg:https://familyfirstrenton.org/wp-content/uploads/2023/06/FFCC-Dance-Studio-2023-scaled.jpg
END:VEVENT
END:VCALENDAR