BEGIN:VCALENDAR
VERSION:2.0
PRODID:-//Family First Community Center - ECPv6.15.17//NONSGML v1.0//EN
CALSCALE:GREGORIAN
METHOD:PUBLISH
X-ORIGINAL-URL:https://familyfirstrenton.org
X-WR-CALDESC:Events for Family First Community Center
REFRESH-INTERVAL;VALUE=DURATION:PT1H
X-Robots-Tag:noindex
X-PUBLISHED-TTL:PT1H
BEGIN:VTIMEZONE
TZID:America/Los_Angeles
BEGIN:DAYLIGHT
TZOFFSETFROM:-0800
TZOFFSETTO:-0700
TZNAME:PDT
DTSTART:20250309T100000
END:DAYLIGHT
BEGIN:STANDARD
TZOFFSETFROM:-0700
TZOFFSETTO:-0800
TZNAME:PST
DTSTART:20251102T090000
END:STANDARD
BEGIN:DAYLIGHT
TZOFFSETFROM:-0800
TZOFFSETTO:-0700
TZNAME:PDT
DTSTART:20260308T100000
END:DAYLIGHT
BEGIN:STANDARD
TZOFFSETFROM:-0700
TZOFFSETTO:-0800
TZNAME:PST
DTSTART:20261101T090000
END:STANDARD
BEGIN:DAYLIGHT
TZOFFSETFROM:-0800
TZOFFSETTO:-0700
TZNAME:PDT
DTSTART:20270314T100000
END:DAYLIGHT
BEGIN:STANDARD
TZOFFSETFROM:-0700
TZOFFSETTO:-0800
TZNAME:PST
DTSTART:20271107T090000
END:STANDARD
END:VTIMEZONE
BEGIN:VEVENT
DTSTART;TZID=America/Los_Angeles:20260625T160000
DTEND;TZID=America/Los_Angeles:20260625T174500
DTSTAMP:20260424T033605
CREATED:20260319T175523Z
LAST-MODIFIED:20260407T163636Z
UID:10008769-1782403200-1782409500@familyfirstrenton.org
SUMMARY:Intergenerational Volleyball with the Family First Community Center (Modified Hours)
DESCRIPTION:Join us at the FFCC for a drop-in time with your friends and/or family!
URL:https://familyfirstrenton.org/schedule/intergenerational-volleyball-with-the-family-first-community-center/2026-06-25/
LOCATION:Family First Community Center: Gymnasium
CATEGORIES:Teens,Families,Adults and Seniors
ATTACH;FMTTYPE=image/jpeg:https://familyfirstrenton.org/wp-content/uploads/2023/12/23016-0023j.jpg
END:VEVENT
BEGIN:VEVENT
DTSTART;TZID=America/Los_Angeles:20260626T100000
DTEND;TZID=America/Los_Angeles:20260626T110000
DTSTAMP:20260424T033605
CREATED:20260407T165403Z
LAST-MODIFIED:20260407T165448Z
UID:10009001-1782468000-1782471600@familyfirstrenton.org
SUMMARY:Tot Time with The Family First Community Center (Modified Hours)
DESCRIPTION:Join us at the Family First Community Center for a drop-in tot time with toys\, puzzles\, and books provided. A great time to make new friends for you and your little one! *Dates subject to change to accommodate special programs.
URL:https://familyfirstrenton.org/schedule/tot-time-with-the-family-first-community-center-modified-hours/2026-06-26/
CATEGORIES:Families,Toddlers
ATTACH;FMTTYPE=image/jpeg:https://familyfirstrenton.org/wp-content/uploads/2023/05/20230616_DOUG_BALDWIN_FAMILY_CENTER-73-scaled.jpg
END:VEVENT
BEGIN:VEVENT
DTSTART;TZID=America/Los_Angeles:20260629T100000
DTEND;TZID=America/Los_Angeles:20260629T110000
DTSTAMP:20260424T033605
CREATED:20260407T165403Z
LAST-MODIFIED:20260407T165448Z
UID:10009002-1782727200-1782730800@familyfirstrenton.org
SUMMARY:Tot Time with The Family First Community Center (Modified Hours)
DESCRIPTION:Join us at the Family First Community Center for a drop-in tot time with toys\, puzzles\, and books provided. A great time to make new friends for you and your little one! *Dates subject to change to accommodate special programs.
URL:https://familyfirstrenton.org/schedule/tot-time-with-the-family-first-community-center-modified-hours/2026-06-29/
CATEGORIES:Families,Toddlers
ATTACH;FMTTYPE=image/jpeg:https://familyfirstrenton.org/wp-content/uploads/2023/05/20230616_DOUG_BALDWIN_FAMILY_CENTER-73-scaled.jpg
END:VEVENT
BEGIN:VEVENT
DTSTART;TZID=America/Los_Angeles:20260630T160000
DTEND;TZID=America/Los_Angeles:20260630T174500
DTSTAMP:20260424T033606
CREATED:20260319T175523Z
LAST-MODIFIED:20260407T163636Z
UID:10008770-1782835200-1782841500@familyfirstrenton.org
SUMMARY:Intergenerational Volleyball with the Family First Community Center (Modified Hours)
DESCRIPTION:Join us at the FFCC for a drop-in time with your friends and/or family!
URL:https://familyfirstrenton.org/schedule/intergenerational-volleyball-with-the-family-first-community-center/2026-06-30/
LOCATION:Family First Community Center: Gymnasium
CATEGORIES:Teens,Families,Adults and Seniors
ATTACH;FMTTYPE=image/jpeg:https://familyfirstrenton.org/wp-content/uploads/2023/12/23016-0023j.jpg
END:VEVENT
BEGIN:VEVENT
DTSTART;TZID=America/Los_Angeles:20260701T100000
DTEND;TZID=America/Los_Angeles:20260701T110000
DTSTAMP:20260424T033606
CREATED:20260407T165403Z
LAST-MODIFIED:20260407T165448Z
UID:10009003-1782900000-1782903600@familyfirstrenton.org
SUMMARY:Tot Time with The Family First Community Center (Modified Hours)
DESCRIPTION:Join us at the Family First Community Center for a drop-in tot time with toys\, puzzles\, and books provided. A great time to make new friends for you and your little one! *Dates subject to change to accommodate special programs.
URL:https://familyfirstrenton.org/schedule/tot-time-with-the-family-first-community-center-modified-hours/2026-07-01/
CATEGORIES:Families,Toddlers
ATTACH;FMTTYPE=image/jpeg:https://familyfirstrenton.org/wp-content/uploads/2023/05/20230616_DOUG_BALDWIN_FAMILY_CENTER-73-scaled.jpg
END:VEVENT
BEGIN:VEVENT
DTSTART;TZID=America/Los_Angeles:20260701T103000
DTEND;TZID=America/Los_Angeles:20260701T120000
DTSTAMP:20260424T033606
CREATED:20260423T214456Z
LAST-MODIFIED:20260423T214456Z
UID:10009194-1782901800-1782907200@familyfirstrenton.org
SUMMARY:Fiestas: Early Literacy
DESCRIPTION:Hosted by KCLS\, Fiestas are free workshops that help children prepare for kindergarten and are conducted in Spanish. \nAt each Fiesta\, families will learn new songs\, reading techniques\, and do craft activities. In addition\, each family will receive a free children’s book in Spanish for each Fiesta they attend\, and there will be a pizza party at week 8. \nHere are the topics covered each week: \n1)The importance of bilingualism\n2)Speaking\n3)Playing\n4)Singing\n5)Letters and sounds\n6)Reading\n7)The school system in the United States\n8)Writing
URL:https://familyfirstrenton.org/schedule/fiestas-early-literacy/2026-07-01/
LOCATION:Family First Community Center: Community Meeting Room\, 16200 116th Ave SE\, Renton\, WA\, 98058\, United States
CATEGORIES:Families,Young Children
ATTACH;FMTTYPE=image/jpeg:https://familyfirstrenton.org/wp-content/uploads/2026/04/dnessa-franklin-JHru76ILeY-unsplash-scaled.jpeg
END:VEVENT
BEGIN:VEVENT
DTSTART;TZID=America/Los_Angeles:20260702T130000
DTEND;TZID=America/Los_Angeles:20260702T150000
DTSTAMP:20260424T033606
CREATED:20260114T204325Z
LAST-MODIFIED:20260422T235658Z
UID:10009181-1782997200-1783004400@familyfirstrenton.org
SUMMARY:Family Science Time
DESCRIPTION:Join the Environmental Science Center for our drop-in family science time. Each session features a different STEM topic with hands-on activities and crafts to keep your kids learning all year long! Stop by during any part of our event time to be a part of the fun. These programs are open to all ages\, but best recommended for families with scientists grades K-5. \nProgram Themes \n\nJanuary- weather science\nFebruary- bird science\nMarch- plant science\nApril- Earth Day science\nMay- gardening science\nJune- insect & pollinator science
URL:https://familyfirstrenton.org/schedule/family-science-time/2026-07-02/
LOCATION:Family First Community Center: Makerspace 1
CATEGORIES:Families,Adults and Seniors,Young Children
ATTACH;FMTTYPE=image/jpeg:https://familyfirstrenton.org/wp-content/uploads/2025/01/Image_20241213_112859_152-scaled-e1757538041404.jpeg
END:VEVENT
BEGIN:VEVENT
DTSTART;TZID=America/Los_Angeles:20260702T160000
DTEND;TZID=America/Los_Angeles:20260702T174500
DTSTAMP:20260424T033606
CREATED:20260319T175523Z
LAST-MODIFIED:20260407T163636Z
UID:10008771-1783008000-1783014300@familyfirstrenton.org
SUMMARY:Intergenerational Volleyball with the Family First Community Center (Modified Hours)
DESCRIPTION:Join us at the FFCC for a drop-in time with your friends and/or family!
URL:https://familyfirstrenton.org/schedule/intergenerational-volleyball-with-the-family-first-community-center/2026-07-02/
LOCATION:Family First Community Center: Gymnasium
CATEGORIES:Teens,Families,Adults and Seniors
ATTACH;FMTTYPE=image/jpeg:https://familyfirstrenton.org/wp-content/uploads/2023/12/23016-0023j.jpg
END:VEVENT
BEGIN:VEVENT
DTSTART;TZID=America/Los_Angeles:20260706T100000
DTEND;TZID=America/Los_Angeles:20260706T110000
DTSTAMP:20260424T033606
CREATED:20260407T165403Z
LAST-MODIFIED:20260407T165448Z
UID:10009005-1783332000-1783335600@familyfirstrenton.org
SUMMARY:Tot Time with The Family First Community Center (Modified Hours)
DESCRIPTION:Join us at the Family First Community Center for a drop-in tot time with toys\, puzzles\, and books provided. A great time to make new friends for you and your little one! *Dates subject to change to accommodate special programs.
URL:https://familyfirstrenton.org/schedule/tot-time-with-the-family-first-community-center-modified-hours/2026-07-06/
CATEGORIES:Families,Toddlers
ATTACH;FMTTYPE=image/jpeg:https://familyfirstrenton.org/wp-content/uploads/2023/05/20230616_DOUG_BALDWIN_FAMILY_CENTER-73-scaled.jpg
END:VEVENT
BEGIN:VEVENT
DTSTART;TZID=America/Los_Angeles:20260707T110000
DTEND;TZID=America/Los_Angeles:20260707T120000
DTSTAMP:20260424T033606
CREATED:20260423T203049Z
LAST-MODIFIED:20260423T203142Z
UID:10009189-1783422000-1783425600@familyfirstrenton.org
SUMMARY:Family Yoga
DESCRIPTION:Join Bernadette and Baily from King County Library System for Family Yoga\, a 4-week bilingual (Spanish/English) series. Do imaginative yoga poses inspired by animals and nature. Help young children develop motor skills\, balance\, and coordination! \nDrop-ins are accepted\, but pre-registration is highly encouraged. Sign up here.
URL:https://familyfirstrenton.org/schedule/family-yoga/2026-07-07/
LOCATION:Family First Community Center: Community Meeting Room\, 16200 116th Ave SE\, Renton\, WA\, 98058\, United States
CATEGORIES:Families,Toddlers,Young Children
ATTACH;FMTTYPE=image/jpeg:https://familyfirstrenton.org/wp-content/uploads/2023/07/kike-vega-F2qh3yjz6Jk-unsplash-scaled.jpg
END:VEVENT
BEGIN:VEVENT
DTSTART;TZID=America/Los_Angeles:20260707T160000
DTEND;TZID=America/Los_Angeles:20260707T174500
DTSTAMP:20260424T033606
CREATED:20260319T175523Z
LAST-MODIFIED:20260407T163636Z
UID:10008772-1783440000-1783446300@familyfirstrenton.org
SUMMARY:Intergenerational Volleyball with the Family First Community Center (Modified Hours)
DESCRIPTION:Join us at the FFCC for a drop-in time with your friends and/or family!
URL:https://familyfirstrenton.org/schedule/intergenerational-volleyball-with-the-family-first-community-center/2026-07-07/
LOCATION:Family First Community Center: Gymnasium
CATEGORIES:Teens,Families,Adults and Seniors
ATTACH;FMTTYPE=image/jpeg:https://familyfirstrenton.org/wp-content/uploads/2023/12/23016-0023j.jpg
END:VEVENT
BEGIN:VEVENT
DTSTART;TZID=America/Los_Angeles:20260708T100000
DTEND;TZID=America/Los_Angeles:20260708T110000
DTSTAMP:20260424T033606
CREATED:20260407T165403Z
LAST-MODIFIED:20260407T165448Z
UID:10009006-1783504800-1783508400@familyfirstrenton.org
SUMMARY:Tot Time with The Family First Community Center (Modified Hours)
DESCRIPTION:Join us at the Family First Community Center for a drop-in tot time with toys\, puzzles\, and books provided. A great time to make new friends for you and your little one! *Dates subject to change to accommodate special programs.
URL:https://familyfirstrenton.org/schedule/tot-time-with-the-family-first-community-center-modified-hours/2026-07-08/
CATEGORIES:Families,Toddlers
ATTACH;FMTTYPE=image/jpeg:https://familyfirstrenton.org/wp-content/uploads/2023/05/20230616_DOUG_BALDWIN_FAMILY_CENTER-73-scaled.jpg
END:VEVENT
BEGIN:VEVENT
DTSTART;TZID=America/Los_Angeles:20260708T103000
DTEND;TZID=America/Los_Angeles:20260708T120000
DTSTAMP:20260424T033606
CREATED:20260423T214456Z
LAST-MODIFIED:20260423T214456Z
UID:10009195-1783506600-1783512000@familyfirstrenton.org
SUMMARY:Fiestas: Early Literacy
DESCRIPTION:Hosted by KCLS\, Fiestas are free workshops that help children prepare for kindergarten and are conducted in Spanish. \nAt each Fiesta\, families will learn new songs\, reading techniques\, and do craft activities. In addition\, each family will receive a free children’s book in Spanish for each Fiesta they attend\, and there will be a pizza party at week 8. \nHere are the topics covered each week: \n1)The importance of bilingualism\n2)Speaking\n3)Playing\n4)Singing\n5)Letters and sounds\n6)Reading\n7)The school system in the United States\n8)Writing
URL:https://familyfirstrenton.org/schedule/fiestas-early-literacy/2026-07-08/
LOCATION:Family First Community Center: Community Meeting Room\, 16200 116th Ave SE\, Renton\, WA\, 98058\, United States
CATEGORIES:Families,Young Children
ATTACH;FMTTYPE=image/jpeg:https://familyfirstrenton.org/wp-content/uploads/2026/04/dnessa-franklin-JHru76ILeY-unsplash-scaled.jpeg
END:VEVENT
BEGIN:VEVENT
DTSTART;TZID=America/Los_Angeles:20260709T130000
DTEND;TZID=America/Los_Angeles:20260709T150000
DTSTAMP:20260424T033606
CREATED:20260114T204325Z
LAST-MODIFIED:20260422T235658Z
UID:10009182-1783602000-1783609200@familyfirstrenton.org
SUMMARY:Family Science Time
DESCRIPTION:Join the Environmental Science Center for our drop-in family science time. Each session features a different STEM topic with hands-on activities and crafts to keep your kids learning all year long! Stop by during any part of our event time to be a part of the fun. These programs are open to all ages\, but best recommended for families with scientists grades K-5. \nProgram Themes \n\nJanuary- weather science\nFebruary- bird science\nMarch- plant science\nApril- Earth Day science\nMay- gardening science\nJune- insect & pollinator science
URL:https://familyfirstrenton.org/schedule/family-science-time/2026-07-09/
LOCATION:Family First Community Center: Makerspace 1
CATEGORIES:Families,Adults and Seniors,Young Children
ATTACH;FMTTYPE=image/jpeg:https://familyfirstrenton.org/wp-content/uploads/2025/01/Image_20241213_112859_152-scaled-e1757538041404.jpeg
END:VEVENT
BEGIN:VEVENT
DTSTART;TZID=America/Los_Angeles:20260709T160000
DTEND;TZID=America/Los_Angeles:20260709T174500
DTSTAMP:20260424T033606
CREATED:20260319T175523Z
LAST-MODIFIED:20260407T163636Z
UID:10008773-1783612800-1783619100@familyfirstrenton.org
SUMMARY:Intergenerational Volleyball with the Family First Community Center (Modified Hours)
DESCRIPTION:Join us at the FFCC for a drop-in time with your friends and/or family!
URL:https://familyfirstrenton.org/schedule/intergenerational-volleyball-with-the-family-first-community-center/2026-07-09/
LOCATION:Family First Community Center: Gymnasium
CATEGORIES:Teens,Families,Adults and Seniors
ATTACH;FMTTYPE=image/jpeg:https://familyfirstrenton.org/wp-content/uploads/2023/12/23016-0023j.jpg
END:VEVENT
BEGIN:VEVENT
DTSTART;TZID=America/Los_Angeles:20260710T100000
DTEND;TZID=America/Los_Angeles:20260710T110000
DTSTAMP:20260424T033606
CREATED:20260407T165403Z
LAST-MODIFIED:20260407T165448Z
UID:10009007-1783677600-1783681200@familyfirstrenton.org
SUMMARY:Tot Time with The Family First Community Center (Modified Hours)
DESCRIPTION:Join us at the Family First Community Center for a drop-in tot time with toys\, puzzles\, and books provided. A great time to make new friends for you and your little one! *Dates subject to change to accommodate special programs.
URL:https://familyfirstrenton.org/schedule/tot-time-with-the-family-first-community-center-modified-hours/2026-07-10/
CATEGORIES:Families,Toddlers
ATTACH;FMTTYPE=image/jpeg:https://familyfirstrenton.org/wp-content/uploads/2023/05/20230616_DOUG_BALDWIN_FAMILY_CENTER-73-scaled.jpg
END:VEVENT
BEGIN:VEVENT
DTSTART;TZID=America/Los_Angeles:20260711T100000
DTEND;TZID=America/Los_Angeles:20260711T110000
DTSTAMP:20260424T033606
CREATED:20250910T210015Z
LAST-MODIFIED:20260422T235237Z
UID:10009178-1783764000-1783767600@familyfirstrenton.org
SUMMARY:Nature Storytime
DESCRIPTION:Join Katy K. from the Environmental Science Center for stories\, movement\, and science activities as we learn about the natural world around us. Themes rotate each month. \nThis program is for families and toddlers 5 and under. \nDrop-ins are accepted.
URL:https://familyfirstrenton.org/schedule/nature-storytime/2026-07-11/
LOCATION:Family First Community Center: Community Meeting Room\, 16200 116th Ave SE\, Renton\, WA\, 98058\, United States
CATEGORIES:Families,Toddlers
ATTACH;FMTTYPE=image/jpeg:https://familyfirstrenton.org/wp-content/uploads/2025/01/Image_20241213_112859_152-scaled-e1757538041404.jpeg
END:VEVENT
BEGIN:VEVENT
DTSTART;TZID=America/Los_Angeles:20260713T100000
DTEND;TZID=America/Los_Angeles:20260713T110000
DTSTAMP:20260424T033606
CREATED:20260407T165403Z
LAST-MODIFIED:20260407T165448Z
UID:10009008-1783936800-1783940400@familyfirstrenton.org
SUMMARY:Tot Time with The Family First Community Center (Modified Hours)
DESCRIPTION:Join us at the Family First Community Center for a drop-in tot time with toys\, puzzles\, and books provided. A great time to make new friends for you and your little one! *Dates subject to change to accommodate special programs.
URL:https://familyfirstrenton.org/schedule/tot-time-with-the-family-first-community-center-modified-hours/2026-07-13/
CATEGORIES:Families,Toddlers
ATTACH;FMTTYPE=image/jpeg:https://familyfirstrenton.org/wp-content/uploads/2023/05/20230616_DOUG_BALDWIN_FAMILY_CENTER-73-scaled.jpg
END:VEVENT
BEGIN:VEVENT
DTSTART;TZID=America/Los_Angeles:20260714T110000
DTEND;TZID=America/Los_Angeles:20260714T120000
DTSTAMP:20260424T033606
CREATED:20260423T203049Z
LAST-MODIFIED:20260423T203142Z
UID:10009190-1784026800-1784030400@familyfirstrenton.org
SUMMARY:Family Yoga
DESCRIPTION:Join Bernadette and Baily from King County Library System for Family Yoga\, a 4-week bilingual (Spanish/English) series. Do imaginative yoga poses inspired by animals and nature. Help young children develop motor skills\, balance\, and coordination! \nDrop-ins are accepted\, but pre-registration is highly encouraged. Sign up here.
URL:https://familyfirstrenton.org/schedule/family-yoga/2026-07-14/
LOCATION:Family First Community Center: Community Meeting Room\, 16200 116th Ave SE\, Renton\, WA\, 98058\, United States
CATEGORIES:Families,Toddlers,Young Children
ATTACH;FMTTYPE=image/jpeg:https://familyfirstrenton.org/wp-content/uploads/2023/07/kike-vega-F2qh3yjz6Jk-unsplash-scaled.jpg
END:VEVENT
BEGIN:VEVENT
DTSTART;TZID=America/Los_Angeles:20260714T160000
DTEND;TZID=America/Los_Angeles:20260714T174500
DTSTAMP:20260424T033606
CREATED:20260319T175523Z
LAST-MODIFIED:20260407T163636Z
UID:10008774-1784044800-1784051100@familyfirstrenton.org
SUMMARY:Intergenerational Volleyball with the Family First Community Center (Modified Hours)
DESCRIPTION:Join us at the FFCC for a drop-in time with your friends and/or family!
URL:https://familyfirstrenton.org/schedule/intergenerational-volleyball-with-the-family-first-community-center/2026-07-14/
LOCATION:Family First Community Center: Gymnasium
CATEGORIES:Teens,Families,Adults and Seniors
ATTACH;FMTTYPE=image/jpeg:https://familyfirstrenton.org/wp-content/uploads/2023/12/23016-0023j.jpg
END:VEVENT
BEGIN:VEVENT
DTSTART;TZID=America/Los_Angeles:20260715T100000
DTEND;TZID=America/Los_Angeles:20260715T110000
DTSTAMP:20260424T033606
CREATED:20260407T165403Z
LAST-MODIFIED:20260407T165448Z
UID:10009009-1784109600-1784113200@familyfirstrenton.org
SUMMARY:Tot Time with The Family First Community Center (Modified Hours)
DESCRIPTION:Join us at the Family First Community Center for a drop-in tot time with toys\, puzzles\, and books provided. A great time to make new friends for you and your little one! *Dates subject to change to accommodate special programs.
URL:https://familyfirstrenton.org/schedule/tot-time-with-the-family-first-community-center-modified-hours/2026-07-15/
CATEGORIES:Families,Toddlers
ATTACH;FMTTYPE=image/jpeg:https://familyfirstrenton.org/wp-content/uploads/2023/05/20230616_DOUG_BALDWIN_FAMILY_CENTER-73-scaled.jpg
END:VEVENT
BEGIN:VEVENT
DTSTART;TZID=America/Los_Angeles:20260715T103000
DTEND;TZID=America/Los_Angeles:20260715T120000
DTSTAMP:20260424T033606
CREATED:20260423T214456Z
LAST-MODIFIED:20260423T214456Z
UID:10009196-1784111400-1784116800@familyfirstrenton.org
SUMMARY:Fiestas: Early Literacy
DESCRIPTION:Hosted by KCLS\, Fiestas are free workshops that help children prepare for kindergarten and are conducted in Spanish. \nAt each Fiesta\, families will learn new songs\, reading techniques\, and do craft activities. In addition\, each family will receive a free children’s book in Spanish for each Fiesta they attend\, and there will be a pizza party at week 8. \nHere are the topics covered each week: \n1)The importance of bilingualism\n2)Speaking\n3)Playing\n4)Singing\n5)Letters and sounds\n6)Reading\n7)The school system in the United States\n8)Writing
URL:https://familyfirstrenton.org/schedule/fiestas-early-literacy/2026-07-15/
LOCATION:Family First Community Center: Community Meeting Room\, 16200 116th Ave SE\, Renton\, WA\, 98058\, United States
CATEGORIES:Families,Young Children
ATTACH;FMTTYPE=image/jpeg:https://familyfirstrenton.org/wp-content/uploads/2026/04/dnessa-franklin-JHru76ILeY-unsplash-scaled.jpeg
END:VEVENT
BEGIN:VEVENT
DTSTART;TZID=America/Los_Angeles:20260716T130000
DTEND;TZID=America/Los_Angeles:20260716T150000
DTSTAMP:20260424T033606
CREATED:20260114T204325Z
LAST-MODIFIED:20260422T235658Z
UID:10009183-1784206800-1784214000@familyfirstrenton.org
SUMMARY:Family Science Time
DESCRIPTION:Join the Environmental Science Center for our drop-in family science time. Each session features a different STEM topic with hands-on activities and crafts to keep your kids learning all year long! Stop by during any part of our event time to be a part of the fun. These programs are open to all ages\, but best recommended for families with scientists grades K-5. \nProgram Themes \n\nJanuary- weather science\nFebruary- bird science\nMarch- plant science\nApril- Earth Day science\nMay- gardening science\nJune- insect & pollinator science
URL:https://familyfirstrenton.org/schedule/family-science-time/2026-07-16/
LOCATION:Family First Community Center: Makerspace 1
CATEGORIES:Families,Adults and Seniors,Young Children
ATTACH;FMTTYPE=image/jpeg:https://familyfirstrenton.org/wp-content/uploads/2025/01/Image_20241213_112859_152-scaled-e1757538041404.jpeg
END:VEVENT
BEGIN:VEVENT
DTSTART;TZID=America/Los_Angeles:20260716T160000
DTEND;TZID=America/Los_Angeles:20260716T174500
DTSTAMP:20260424T033606
CREATED:20260319T175523Z
LAST-MODIFIED:20260407T163636Z
UID:10008775-1784217600-1784223900@familyfirstrenton.org
SUMMARY:Intergenerational Volleyball with the Family First Community Center (Modified Hours)
DESCRIPTION:Join us at the FFCC for a drop-in time with your friends and/or family!
URL:https://familyfirstrenton.org/schedule/intergenerational-volleyball-with-the-family-first-community-center/2026-07-16/
LOCATION:Family First Community Center: Gymnasium
CATEGORIES:Teens,Families,Adults and Seniors
ATTACH;FMTTYPE=image/jpeg:https://familyfirstrenton.org/wp-content/uploads/2023/12/23016-0023j.jpg
END:VEVENT
BEGIN:VEVENT
DTSTART;TZID=America/Los_Angeles:20260717T100000
DTEND;TZID=America/Los_Angeles:20260717T110000
DTSTAMP:20260424T033606
CREATED:20260407T165403Z
LAST-MODIFIED:20260407T165448Z
UID:10009010-1784282400-1784286000@familyfirstrenton.org
SUMMARY:Tot Time with The Family First Community Center (Modified Hours)
DESCRIPTION:Join us at the Family First Community Center for a drop-in tot time with toys\, puzzles\, and books provided. A great time to make new friends for you and your little one! *Dates subject to change to accommodate special programs.
URL:https://familyfirstrenton.org/schedule/tot-time-with-the-family-first-community-center-modified-hours/2026-07-17/
CATEGORIES:Families,Toddlers
ATTACH;FMTTYPE=image/jpeg:https://familyfirstrenton.org/wp-content/uploads/2023/05/20230616_DOUG_BALDWIN_FAMILY_CENTER-73-scaled.jpg
END:VEVENT
BEGIN:VEVENT
DTSTART;TZID=America/Los_Angeles:20260720T100000
DTEND;TZID=America/Los_Angeles:20260720T110000
DTSTAMP:20260424T033606
CREATED:20260407T165403Z
LAST-MODIFIED:20260407T165448Z
UID:10009011-1784541600-1784545200@familyfirstrenton.org
SUMMARY:Tot Time with The Family First Community Center (Modified Hours)
DESCRIPTION:Join us at the Family First Community Center for a drop-in tot time with toys\, puzzles\, and books provided. A great time to make new friends for you and your little one! *Dates subject to change to accommodate special programs.
URL:https://familyfirstrenton.org/schedule/tot-time-with-the-family-first-community-center-modified-hours/2026-07-20/
CATEGORIES:Families,Toddlers
ATTACH;FMTTYPE=image/jpeg:https://familyfirstrenton.org/wp-content/uploads/2023/05/20230616_DOUG_BALDWIN_FAMILY_CENTER-73-scaled.jpg
END:VEVENT
BEGIN:VEVENT
DTSTART;TZID=America/Los_Angeles:20260721T110000
DTEND;TZID=America/Los_Angeles:20260721T120000
DTSTAMP:20260424T033606
CREATED:20260423T203049Z
LAST-MODIFIED:20260423T203142Z
UID:10009191-1784631600-1784635200@familyfirstrenton.org
SUMMARY:Family Yoga
DESCRIPTION:Join Bernadette and Baily from King County Library System for Family Yoga\, a 4-week bilingual (Spanish/English) series. Do imaginative yoga poses inspired by animals and nature. Help young children develop motor skills\, balance\, and coordination! \nDrop-ins are accepted\, but pre-registration is highly encouraged. Sign up here.
URL:https://familyfirstrenton.org/schedule/family-yoga/2026-07-21/
LOCATION:Family First Community Center: Community Meeting Room\, 16200 116th Ave SE\, Renton\, WA\, 98058\, United States
CATEGORIES:Families,Toddlers,Young Children
ATTACH;FMTTYPE=image/jpeg:https://familyfirstrenton.org/wp-content/uploads/2023/07/kike-vega-F2qh3yjz6Jk-unsplash-scaled.jpg
END:VEVENT
BEGIN:VEVENT
DTSTART;TZID=America/Los_Angeles:20260721T160000
DTEND;TZID=America/Los_Angeles:20260721T174500
DTSTAMP:20260424T033606
CREATED:20260319T175523Z
LAST-MODIFIED:20260407T163636Z
UID:10008776-1784649600-1784655900@familyfirstrenton.org
SUMMARY:Intergenerational Volleyball with the Family First Community Center (Modified Hours)
DESCRIPTION:Join us at the FFCC for a drop-in time with your friends and/or family!
URL:https://familyfirstrenton.org/schedule/intergenerational-volleyball-with-the-family-first-community-center/2026-07-21/
LOCATION:Family First Community Center: Gymnasium
CATEGORIES:Teens,Families,Adults and Seniors
ATTACH;FMTTYPE=image/jpeg:https://familyfirstrenton.org/wp-content/uploads/2023/12/23016-0023j.jpg
END:VEVENT
BEGIN:VEVENT
DTSTART;TZID=America/Los_Angeles:20260722T100000
DTEND;TZID=America/Los_Angeles:20260722T110000
DTSTAMP:20260424T033606
CREATED:20260407T165403Z
LAST-MODIFIED:20260407T165448Z
UID:10009012-1784714400-1784718000@familyfirstrenton.org
SUMMARY:Tot Time with The Family First Community Center (Modified Hours)
DESCRIPTION:Join us at the Family First Community Center for a drop-in tot time with toys\, puzzles\, and books provided. A great time to make new friends for you and your little one! *Dates subject to change to accommodate special programs.
URL:https://familyfirstrenton.org/schedule/tot-time-with-the-family-first-community-center-modified-hours/2026-07-22/
CATEGORIES:Families,Toddlers
ATTACH;FMTTYPE=image/jpeg:https://familyfirstrenton.org/wp-content/uploads/2023/05/20230616_DOUG_BALDWIN_FAMILY_CENTER-73-scaled.jpg
END:VEVENT
BEGIN:VEVENT
DTSTART;TZID=America/Los_Angeles:20260722T103000
DTEND;TZID=America/Los_Angeles:20260722T120000
DTSTAMP:20260424T033606
CREATED:20260423T214456Z
LAST-MODIFIED:20260423T214456Z
UID:10009197-1784716200-1784721600@familyfirstrenton.org
SUMMARY:Fiestas: Early Literacy
DESCRIPTION:Hosted by KCLS\, Fiestas are free workshops that help children prepare for kindergarten and are conducted in Spanish. \nAt each Fiesta\, families will learn new songs\, reading techniques\, and do craft activities. In addition\, each family will receive a free children’s book in Spanish for each Fiesta they attend\, and there will be a pizza party at week 8. \nHere are the topics covered each week: \n1)The importance of bilingualism\n2)Speaking\n3)Playing\n4)Singing\n5)Letters and sounds\n6)Reading\n7)The school system in the United States\n8)Writing
URL:https://familyfirstrenton.org/schedule/fiestas-early-literacy/2026-07-22/
LOCATION:Family First Community Center: Community Meeting Room\, 16200 116th Ave SE\, Renton\, WA\, 98058\, United States
CATEGORIES:Families,Young Children
ATTACH;FMTTYPE=image/jpeg:https://familyfirstrenton.org/wp-content/uploads/2026/04/dnessa-franklin-JHru76ILeY-unsplash-scaled.jpeg
END:VEVENT
END:VCALENDAR