BEGIN:VCALENDAR
VERSION:2.0
PRODID:-//Family First Community Center - ECPv6.15.17//NONSGML v1.0//EN
CALSCALE:GREGORIAN
METHOD:PUBLISH
X-ORIGINAL-URL:https://familyfirstrenton.org
X-WR-CALDESC:Events for Family First Community Center
REFRESH-INTERVAL;VALUE=DURATION:PT1H
X-Robots-Tag:noindex
X-PUBLISHED-TTL:PT1H
BEGIN:VTIMEZONE
TZID:America/Los_Angeles
BEGIN:DAYLIGHT
TZOFFSETFROM:-0800
TZOFFSETTO:-0700
TZNAME:PDT
DTSTART:20250309T100000
END:DAYLIGHT
BEGIN:STANDARD
TZOFFSETFROM:-0700
TZOFFSETTO:-0800
TZNAME:PST
DTSTART:20251102T090000
END:STANDARD
BEGIN:DAYLIGHT
TZOFFSETFROM:-0800
TZOFFSETTO:-0700
TZNAME:PDT
DTSTART:20260308T100000
END:DAYLIGHT
BEGIN:STANDARD
TZOFFSETFROM:-0700
TZOFFSETTO:-0800
TZNAME:PST
DTSTART:20261101T090000
END:STANDARD
BEGIN:DAYLIGHT
TZOFFSETFROM:-0800
TZOFFSETTO:-0700
TZNAME:PDT
DTSTART:20270314T100000
END:DAYLIGHT
BEGIN:STANDARD
TZOFFSETFROM:-0700
TZOFFSETTO:-0800
TZNAME:PST
DTSTART:20271107T090000
END:STANDARD
END:VTIMEZONE
BEGIN:VEVENT
DTSTART;TZID=America/Los_Angeles:20260716T160000
DTEND;TZID=America/Los_Angeles:20260716T174500
DTSTAMP:20260423T093749
CREATED:20260319T175523Z
LAST-MODIFIED:20260407T163636Z
UID:10008775-1784217600-1784223900@familyfirstrenton.org
SUMMARY:Intergenerational Volleyball with the Family First Community Center (Modified Hours)
DESCRIPTION:Join us at the FFCC for a drop-in time with your friends and/or family!
URL:https://familyfirstrenton.org/schedule/intergenerational-volleyball-with-the-family-first-community-center/2026-07-16/
LOCATION:Family First Community Center: Gymnasium
CATEGORIES:Teens,Families,Adults and Seniors
ATTACH;FMTTYPE=image/jpeg:https://familyfirstrenton.org/wp-content/uploads/2023/12/23016-0023j.jpg
END:VEVENT
BEGIN:VEVENT
DTSTART;TZID=America/Los_Angeles:20260716T165000
DTEND;TZID=America/Los_Angeles:20260716T175000
DTSTAMP:20260423T093749
CREATED:20231120T161836Z
LAST-MODIFIED:20260422T230932Z
UID:10009121-1784220600-1784224200@familyfirstrenton.org
SUMMARY:Zumba Fitness Basics - Adults and Teens
DESCRIPTION:Stop on by for a series of Zumba Aerobic classes using all dance styles. Every class we will revisit the steps that we’ve covered and build onto a choreographed routine. Come join the fun!
URL:https://familyfirstrenton.org/schedule/zumba-fitness-basics-adults-and-teens/2026-07-16/
LOCATION:Family First Community Center: Gymnasium 1/2\, 16200 116th Ave SE\, Renton\, WA\, 98058
CATEGORIES:Teens,Adults and Seniors
ATTACH;FMTTYPE=image/jpeg:https://familyfirstrenton.org/wp-content/uploads/2023/11/IMG_1410-scaled.jpg
END:VEVENT
BEGIN:VEVENT
DTSTART;TZID=America/Los_Angeles:20260718T153000
DTEND;TZID=America/Los_Angeles:20260718T173000
DTSTAMP:20260423T093749
CREATED:20260114T202742Z
LAST-MODIFIED:20260205T005242Z
UID:10008270-1784388600-1784395800@familyfirstrenton.org
SUMMARY:Women's ONLY Open Gym (30 years and up) with The Family First Community Center
DESCRIPTION:Join us every Saturday for drop-in scrimmages with other women. Pick-up games to get you up and moving with some friendly competition.
URL:https://familyfirstrenton.org/schedule/womens-only-open-gym-30-years-and-up-with-the-family-first-community-center/2026-07-18/
LOCATION:Family First Community Center: Gymnasium
CATEGORIES:Adults and Seniors
ATTACH;FMTTYPE=image/jpeg:https://familyfirstrenton.org/wp-content/uploads/2023/06/FFCC-Gym-2023-scaled.jpg
END:VEVENT
BEGIN:VEVENT
DTSTART;TZID=America/Los_Angeles:20260720T113000
DTEND;TZID=America/Los_Angeles:20260720T121500
DTSTAMP:20260423T093749
CREATED:20240828T164758Z
LAST-MODIFIED:20260422T230411Z
UID:10009112-1784547000-1784549700@familyfirstrenton.org
SUMMARY:Zumba Fitness Basics - Seniors
DESCRIPTION:Stop on by for a series of Zumba Aerobic classes using all dance styles. Every class we will revisit the steps that we’ve covered and build onto a choreographed routine. Come join the fun!
URL:https://familyfirstrenton.org/schedule/zumba-fitness-basics-seniors/2026-07-20/
CATEGORIES:Adults and Seniors
ATTACH;FMTTYPE=image/jpeg:https://familyfirstrenton.org/wp-content/uploads/2023/11/IMG_1410-scaled.jpg
END:VEVENT
BEGIN:VEVENT
DTSTART;TZID=America/Los_Angeles:20260721T100000
DTEND;TZID=America/Los_Angeles:20260721T103000
DTSTAMP:20260423T093749
CREATED:20231218T232830Z
LAST-MODIFIED:20260422T233355Z
UID:10009146-1784628000-1784629800@familyfirstrenton.org
SUMMARY:Seated Stretching for Seniors
DESCRIPTION:Join Ricky Thatsanavongsa from Golden Sun Athletic Association LLC in the Dance Studio for Seated Stretching for Seniors! \nDrop-ins are accepted!
URL:https://familyfirstrenton.org/schedule/seated-stretching-for-seniors/2026-07-21/
LOCATION:Family First Community Center: Dance Studio
CATEGORIES:Adults and Seniors
ATTACH;FMTTYPE=image/jpeg:https://familyfirstrenton.org/wp-content/uploads/2023/06/FFCC-Dance-Studio-2023-scaled.jpg
END:VEVENT
BEGIN:VEVENT
DTSTART;TZID=America/Los_Angeles:20260721T100000
DTEND;TZID=America/Los_Angeles:20260721T120000
DTSTAMP:20260423T093749
CREATED:20260407T171855Z
LAST-MODIFIED:20260407T171855Z
UID:10009032-1784628000-1784635200@familyfirstrenton.org
SUMMARY:Pickleball with The Family First Community Center (Modified Hours)
DESCRIPTION:Community members can drop in to play pickleball and connect with other locals.
URL:https://familyfirstrenton.org/schedule/pickleball-with-the-family-first-community-center-modified-hours/2026-07-21/
LOCATION:Family First Community Center: Gymnasium 1/2\, 16200 116th Ave SE\, Renton\, WA\, 98058
CATEGORIES:Adults and Seniors
ATTACH;FMTTYPE=image/jpeg:https://familyfirstrenton.org/wp-content/uploads/2023/12/23016-0023j.jpg
END:VEVENT
BEGIN:VEVENT
DTSTART;TZID=America/Los_Angeles:20260721T110000
DTEND;TZID=America/Los_Angeles:20260721T120000
DTSTAMP:20260423T093749
CREATED:20260116T235513Z
LAST-MODIFIED:20260422T234345Z
UID:10009166-1784631600-1784635200@familyfirstrenton.org
SUMMARY:Soft Style Kung Fu for Seniors
DESCRIPTION:Join Ricky Thatsanavongsa from Golden Sun Athletics for Soft Style Kung Fu for Seniors! \nThis soft style Kung Fu for Seniors class includes Baat Ying Baat Faat\, Chinese martial arts\, to practice balance\, coordination\, and breathing exercises through traditional techniques. \nDrop-ins are accepted.
URL:https://familyfirstrenton.org/schedule/soft-style-kung-fu-for-seniors/2026-07-21/
LOCATION:Family First Community Center: Dance Studio
CATEGORIES:Adults and Seniors
ATTACH;FMTTYPE=image/jpeg:https://familyfirstrenton.org/wp-content/uploads/2023/12/IMG_9726-scaled.jpg
END:VEVENT
BEGIN:VEVENT
DTSTART;TZID=America/Los_Angeles:20260721T123000
DTEND;TZID=America/Los_Angeles:20260721T133000
DTSTAMP:20260423T093749
CREATED:20250428T175335Z
LAST-MODIFIED:20260422T231825Z
UID:10009132-1784637000-1784640600@familyfirstrenton.org
SUMMARY:Kung Fu Staff Class
DESCRIPTION:Join Sifu Ricky Thatsanavongsa for an introduction to the traditional Chinese staff. This class is designed for senior adults and emphasizes gentle movement\, proper alignment\, and functional mobility\, drawing from classical Kung Fu principles in a supportive\, friendly environment. \nStaff required for the participation of the classes. Staff rentals and purchases can be made directly with the program instructor ($50 for rental\, $130 for purchase). \nRegister and pay online at MyActiveCenter or in-person.
URL:https://familyfirstrenton.org/schedule/kung-fu-staff-class/2026-07-21/
LOCATION:Family First Community Center: Gymnasium 1/2\, 16200 116th Ave SE\, Renton\, WA\, 98058
CATEGORIES:Adults and Seniors
ATTACH;FMTTYPE=image/jpeg:https://familyfirstrenton.org/wp-content/uploads/2023/12/IMG_9726-scaled.jpg
END:VEVENT
BEGIN:VEVENT
DTSTART;TZID=America/Los_Angeles:20260721T160000
DTEND;TZID=America/Los_Angeles:20260721T174500
DTSTAMP:20260423T093749
CREATED:20260319T175523Z
LAST-MODIFIED:20260407T163636Z
UID:10008776-1784649600-1784655900@familyfirstrenton.org
SUMMARY:Intergenerational Volleyball with the Family First Community Center (Modified Hours)
DESCRIPTION:Join us at the FFCC for a drop-in time with your friends and/or family!
URL:https://familyfirstrenton.org/schedule/intergenerational-volleyball-with-the-family-first-community-center/2026-07-21/
LOCATION:Family First Community Center: Gymnasium
CATEGORIES:Teens,Families,Adults and Seniors
ATTACH;FMTTYPE=image/jpeg:https://familyfirstrenton.org/wp-content/uploads/2023/12/23016-0023j.jpg
END:VEVENT
BEGIN:VEVENT
DTSTART;TZID=America/Los_Angeles:20260722T100000
DTEND;TZID=America/Los_Angeles:20260722T113000
DTSTAMP:20260423T093749
CREATED:20250312T214444Z
LAST-MODIFIED:20260422T185824Z
UID:10009074-1784714400-1784719800@familyfirstrenton.org
SUMMARY:Acrylic Painting with Jordan Bye Fine Arts- Adults & Seniors
DESCRIPTION:Artists will learn basic art skills\, including composition and color theory. Both students with no previous art experience and a previous art interest are welcome! We will be painting a variety of styles\, from realism to abstract. Supplies are included in cost and classes will result in a finished painting each week. \nDrop-ins are accepted!
URL:https://familyfirstrenton.org/schedule/fine-arts-class-jordan-bye-2/2026-07-22/
LOCATION:Family First Community Center: Makerspace 1
CATEGORIES:Adults and Seniors
ATTACH;FMTTYPE=image/jpeg:https://familyfirstrenton.org/wp-content/uploads/2024/08/IMG_3959-scaled.jpeg
END:VEVENT
BEGIN:VEVENT
DTSTART;TZID=America/Los_Angeles:20260722T160000
DTEND;TZID=America/Los_Angeles:20260722T174500
DTSTAMP:20260423T093749
CREATED:20260407T171855Z
LAST-MODIFIED:20260407T171855Z
UID:10009033-1784736000-1784742300@familyfirstrenton.org
SUMMARY:Pickleball with The Family First Community Center (Modified Hours)
DESCRIPTION:Community members can drop in to play pickleball and connect with other locals.
URL:https://familyfirstrenton.org/schedule/pickleball-with-the-family-first-community-center-modified-hours/2026-07-22/
LOCATION:Family First Community Center: Gymnasium 1/2\, 16200 116th Ave SE\, Renton\, WA\, 98058
CATEGORIES:Adults and Seniors
ATTACH;FMTTYPE=image/jpeg:https://familyfirstrenton.org/wp-content/uploads/2023/12/23016-0023j.jpg
END:VEVENT
BEGIN:VEVENT
DTSTART;TZID=America/Los_Angeles:20260723T100000
DTEND;TZID=America/Los_Angeles:20260723T103000
DTSTAMP:20260423T093749
CREATED:20231218T232830Z
LAST-MODIFIED:20260422T233355Z
UID:10009147-1784800800-1784802600@familyfirstrenton.org
SUMMARY:Seated Stretching for Seniors
DESCRIPTION:Join Ricky Thatsanavongsa from Golden Sun Athletic Association LLC in the Dance Studio for Seated Stretching for Seniors! \nDrop-ins are accepted!
URL:https://familyfirstrenton.org/schedule/seated-stretching-for-seniors/2026-07-23/
LOCATION:Family First Community Center: Dance Studio
CATEGORIES:Adults and Seniors
ATTACH;FMTTYPE=image/jpeg:https://familyfirstrenton.org/wp-content/uploads/2023/06/FFCC-Dance-Studio-2023-scaled.jpg
END:VEVENT
BEGIN:VEVENT
DTSTART;TZID=America/Los_Angeles:20260723T100000
DTEND;TZID=America/Los_Angeles:20260723T120000
DTSTAMP:20260423T093749
CREATED:20260407T171855Z
LAST-MODIFIED:20260407T171855Z
UID:10009034-1784800800-1784808000@familyfirstrenton.org
SUMMARY:Pickleball with The Family First Community Center (Modified Hours)
DESCRIPTION:Community members can drop in to play pickleball and connect with other locals.
URL:https://familyfirstrenton.org/schedule/pickleball-with-the-family-first-community-center-modified-hours/2026-07-23/
LOCATION:Family First Community Center: Gymnasium 1/2\, 16200 116th Ave SE\, Renton\, WA\, 98058
CATEGORIES:Adults and Seniors
ATTACH;FMTTYPE=image/jpeg:https://familyfirstrenton.org/wp-content/uploads/2023/12/23016-0023j.jpg
END:VEVENT
BEGIN:VEVENT
DTSTART;TZID=America/Los_Angeles:20260723T110000
DTEND;TZID=America/Los_Angeles:20260723T120000
DTSTAMP:20260423T093749
CREATED:20260116T235513Z
LAST-MODIFIED:20260422T234345Z
UID:10009167-1784804400-1784808000@familyfirstrenton.org
SUMMARY:Soft Style Kung Fu for Seniors
DESCRIPTION:Join Ricky Thatsanavongsa from Golden Sun Athletics for Soft Style Kung Fu for Seniors! \nThis soft style Kung Fu for Seniors class includes Baat Ying Baat Faat\, Chinese martial arts\, to practice balance\, coordination\, and breathing exercises through traditional techniques. \nDrop-ins are accepted.
URL:https://familyfirstrenton.org/schedule/soft-style-kung-fu-for-seniors/2026-07-23/
LOCATION:Family First Community Center: Dance Studio
CATEGORIES:Adults and Seniors
ATTACH;FMTTYPE=image/jpeg:https://familyfirstrenton.org/wp-content/uploads/2023/12/IMG_9726-scaled.jpg
END:VEVENT
BEGIN:VEVENT
DTSTART;TZID=America/Los_Angeles:20260723T130000
DTEND;TZID=America/Los_Angeles:20260723T150000
DTSTAMP:20260423T093749
CREATED:20260114T204325Z
LAST-MODIFIED:20260422T235658Z
UID:10009184-1784811600-1784818800@familyfirstrenton.org
SUMMARY:Family Science Time
DESCRIPTION:Join the Environmental Science Center for our drop-in family science time. Each session features a different STEM topic with hands-on activities and crafts to keep your kids learning all year long! Stop by during any part of our event time to be a part of the fun. These programs are open to all ages\, but best recommended for families with scientists grades K-5. \nProgram Themes \n\nJanuary- weather science\nFebruary- bird science\nMarch- plant science\nApril- Earth Day science\nMay- gardening science\nJune- insect & pollinator science
URL:https://familyfirstrenton.org/schedule/family-science-time/2026-07-23/
LOCATION:Family First Community Center: Makerspace 1
CATEGORIES:Families,Adults and Seniors,Young Children
ATTACH;FMTTYPE=image/jpeg:https://familyfirstrenton.org/wp-content/uploads/2025/01/Image_20241213_112859_152-scaled-e1757538041404.jpeg
END:VEVENT
BEGIN:VEVENT
DTSTART;TZID=America/Los_Angeles:20260723T160000
DTEND;TZID=America/Los_Angeles:20260723T174500
DTSTAMP:20260423T093749
CREATED:20260319T175523Z
LAST-MODIFIED:20260407T163636Z
UID:10008777-1784822400-1784828700@familyfirstrenton.org
SUMMARY:Intergenerational Volleyball with the Family First Community Center (Modified Hours)
DESCRIPTION:Join us at the FFCC for a drop-in time with your friends and/or family!
URL:https://familyfirstrenton.org/schedule/intergenerational-volleyball-with-the-family-first-community-center/2026-07-23/
LOCATION:Family First Community Center: Gymnasium
CATEGORIES:Teens,Families,Adults and Seniors
ATTACH;FMTTYPE=image/jpeg:https://familyfirstrenton.org/wp-content/uploads/2023/12/23016-0023j.jpg
END:VEVENT
BEGIN:VEVENT
DTSTART;TZID=America/Los_Angeles:20260723T165000
DTEND;TZID=America/Los_Angeles:20260723T175000
DTSTAMP:20260423T093749
CREATED:20231120T161836Z
LAST-MODIFIED:20260422T230932Z
UID:10009122-1784825400-1784829000@familyfirstrenton.org
SUMMARY:Zumba Fitness Basics - Adults and Teens
DESCRIPTION:Stop on by for a series of Zumba Aerobic classes using all dance styles. Every class we will revisit the steps that we’ve covered and build onto a choreographed routine. Come join the fun!
URL:https://familyfirstrenton.org/schedule/zumba-fitness-basics-adults-and-teens/2026-07-23/
LOCATION:Family First Community Center: Gymnasium 1/2\, 16200 116th Ave SE\, Renton\, WA\, 98058
CATEGORIES:Teens,Adults and Seniors
ATTACH;FMTTYPE=image/jpeg:https://familyfirstrenton.org/wp-content/uploads/2023/11/IMG_1410-scaled.jpg
END:VEVENT
BEGIN:VEVENT
DTSTART;TZID=America/Los_Angeles:20260725T153000
DTEND;TZID=America/Los_Angeles:20260725T173000
DTSTAMP:20260423T093749
CREATED:20260114T202742Z
LAST-MODIFIED:20260205T005242Z
UID:10008271-1784993400-1785000600@familyfirstrenton.org
SUMMARY:Women's ONLY Open Gym (30 years and up) with The Family First Community Center
DESCRIPTION:Join us every Saturday for drop-in scrimmages with other women. Pick-up games to get you up and moving with some friendly competition.
URL:https://familyfirstrenton.org/schedule/womens-only-open-gym-30-years-and-up-with-the-family-first-community-center/2026-07-25/
LOCATION:Family First Community Center: Gymnasium
CATEGORIES:Adults and Seniors
ATTACH;FMTTYPE=image/jpeg:https://familyfirstrenton.org/wp-content/uploads/2023/06/FFCC-Gym-2023-scaled.jpg
END:VEVENT
BEGIN:VEVENT
DTSTART;TZID=America/Los_Angeles:20260727T113000
DTEND;TZID=America/Los_Angeles:20260727T121500
DTSTAMP:20260423T093749
CREATED:20240828T164758Z
LAST-MODIFIED:20260422T230411Z
UID:10009113-1785151800-1785154500@familyfirstrenton.org
SUMMARY:Zumba Fitness Basics - Seniors
DESCRIPTION:Stop on by for a series of Zumba Aerobic classes using all dance styles. Every class we will revisit the steps that we’ve covered and build onto a choreographed routine. Come join the fun!
URL:https://familyfirstrenton.org/schedule/zumba-fitness-basics-seniors/2026-07-27/
CATEGORIES:Adults and Seniors
ATTACH;FMTTYPE=image/jpeg:https://familyfirstrenton.org/wp-content/uploads/2023/11/IMG_1410-scaled.jpg
END:VEVENT
BEGIN:VEVENT
DTSTART;TZID=America/Los_Angeles:20260728T100000
DTEND;TZID=America/Los_Angeles:20260728T103000
DTSTAMP:20260423T093749
CREATED:20231218T232830Z
LAST-MODIFIED:20260422T233355Z
UID:10009148-1785232800-1785234600@familyfirstrenton.org
SUMMARY:Seated Stretching for Seniors
DESCRIPTION:Join Ricky Thatsanavongsa from Golden Sun Athletic Association LLC in the Dance Studio for Seated Stretching for Seniors! \nDrop-ins are accepted!
URL:https://familyfirstrenton.org/schedule/seated-stretching-for-seniors/2026-07-28/
LOCATION:Family First Community Center: Dance Studio
CATEGORIES:Adults and Seniors
ATTACH;FMTTYPE=image/jpeg:https://familyfirstrenton.org/wp-content/uploads/2023/06/FFCC-Dance-Studio-2023-scaled.jpg
END:VEVENT
BEGIN:VEVENT
DTSTART;TZID=America/Los_Angeles:20260728T100000
DTEND;TZID=America/Los_Angeles:20260728T120000
DTSTAMP:20260423T093749
CREATED:20260407T171855Z
LAST-MODIFIED:20260407T171855Z
UID:10009035-1785232800-1785240000@familyfirstrenton.org
SUMMARY:Pickleball with The Family First Community Center (Modified Hours)
DESCRIPTION:Community members can drop in to play pickleball and connect with other locals.
URL:https://familyfirstrenton.org/schedule/pickleball-with-the-family-first-community-center-modified-hours/2026-07-28/
LOCATION:Family First Community Center: Gymnasium 1/2\, 16200 116th Ave SE\, Renton\, WA\, 98058
CATEGORIES:Adults and Seniors
ATTACH;FMTTYPE=image/jpeg:https://familyfirstrenton.org/wp-content/uploads/2023/12/23016-0023j.jpg
END:VEVENT
BEGIN:VEVENT
DTSTART;TZID=America/Los_Angeles:20260728T110000
DTEND;TZID=America/Los_Angeles:20260728T120000
DTSTAMP:20260423T093749
CREATED:20260116T235513Z
LAST-MODIFIED:20260422T234345Z
UID:10009168-1785236400-1785240000@familyfirstrenton.org
SUMMARY:Soft Style Kung Fu for Seniors
DESCRIPTION:Join Ricky Thatsanavongsa from Golden Sun Athletics for Soft Style Kung Fu for Seniors! \nThis soft style Kung Fu for Seniors class includes Baat Ying Baat Faat\, Chinese martial arts\, to practice balance\, coordination\, and breathing exercises through traditional techniques. \nDrop-ins are accepted.
URL:https://familyfirstrenton.org/schedule/soft-style-kung-fu-for-seniors/2026-07-28/
LOCATION:Family First Community Center: Dance Studio
CATEGORIES:Adults and Seniors
ATTACH;FMTTYPE=image/jpeg:https://familyfirstrenton.org/wp-content/uploads/2023/12/IMG_9726-scaled.jpg
END:VEVENT
BEGIN:VEVENT
DTSTART;TZID=America/Los_Angeles:20260728T123000
DTEND;TZID=America/Los_Angeles:20260728T133000
DTSTAMP:20260423T093749
CREATED:20250428T175335Z
LAST-MODIFIED:20260422T231825Z
UID:10009133-1785241800-1785245400@familyfirstrenton.org
SUMMARY:Kung Fu Staff Class
DESCRIPTION:Join Sifu Ricky Thatsanavongsa for an introduction to the traditional Chinese staff. This class is designed for senior adults and emphasizes gentle movement\, proper alignment\, and functional mobility\, drawing from classical Kung Fu principles in a supportive\, friendly environment. \nStaff required for the participation of the classes. Staff rentals and purchases can be made directly with the program instructor ($50 for rental\, $130 for purchase). \nRegister and pay online at MyActiveCenter or in-person.
URL:https://familyfirstrenton.org/schedule/kung-fu-staff-class/2026-07-28/
LOCATION:Family First Community Center: Gymnasium 1/2\, 16200 116th Ave SE\, Renton\, WA\, 98058
CATEGORIES:Adults and Seniors
ATTACH;FMTTYPE=image/jpeg:https://familyfirstrenton.org/wp-content/uploads/2023/12/IMG_9726-scaled.jpg
END:VEVENT
BEGIN:VEVENT
DTSTART;TZID=America/Los_Angeles:20260728T160000
DTEND;TZID=America/Los_Angeles:20260728T174500
DTSTAMP:20260423T093749
CREATED:20260319T175523Z
LAST-MODIFIED:20260407T163636Z
UID:10008778-1785254400-1785260700@familyfirstrenton.org
SUMMARY:Intergenerational Volleyball with the Family First Community Center (Modified Hours)
DESCRIPTION:Join us at the FFCC for a drop-in time with your friends and/or family!
URL:https://familyfirstrenton.org/schedule/intergenerational-volleyball-with-the-family-first-community-center/2026-07-28/
LOCATION:Family First Community Center: Gymnasium
CATEGORIES:Teens,Families,Adults and Seniors
ATTACH;FMTTYPE=image/jpeg:https://familyfirstrenton.org/wp-content/uploads/2023/12/23016-0023j.jpg
END:VEVENT
BEGIN:VEVENT
DTSTART;TZID=America/Los_Angeles:20260729T100000
DTEND;TZID=America/Los_Angeles:20260729T113000
DTSTAMP:20260423T093749
CREATED:20250312T214444Z
LAST-MODIFIED:20260422T185824Z
UID:10009075-1785319200-1785324600@familyfirstrenton.org
SUMMARY:Acrylic Painting with Jordan Bye Fine Arts- Adults & Seniors
DESCRIPTION:Artists will learn basic art skills\, including composition and color theory. Both students with no previous art experience and a previous art interest are welcome! We will be painting a variety of styles\, from realism to abstract. Supplies are included in cost and classes will result in a finished painting each week. \nDrop-ins are accepted!
URL:https://familyfirstrenton.org/schedule/fine-arts-class-jordan-bye-2/2026-07-29/
LOCATION:Family First Community Center: Makerspace 1
CATEGORIES:Adults and Seniors
ATTACH;FMTTYPE=image/jpeg:https://familyfirstrenton.org/wp-content/uploads/2024/08/IMG_3959-scaled.jpeg
END:VEVENT
BEGIN:VEVENT
DTSTART;TZID=America/Los_Angeles:20260729T160000
DTEND;TZID=America/Los_Angeles:20260729T174500
DTSTAMP:20260423T093749
CREATED:20260407T171855Z
LAST-MODIFIED:20260407T171855Z
UID:10009036-1785340800-1785347100@familyfirstrenton.org
SUMMARY:Pickleball with The Family First Community Center (Modified Hours)
DESCRIPTION:Community members can drop in to play pickleball and connect with other locals.
URL:https://familyfirstrenton.org/schedule/pickleball-with-the-family-first-community-center-modified-hours/2026-07-29/
LOCATION:Family First Community Center: Gymnasium 1/2\, 16200 116th Ave SE\, Renton\, WA\, 98058
CATEGORIES:Adults and Seniors
ATTACH;FMTTYPE=image/jpeg:https://familyfirstrenton.org/wp-content/uploads/2023/12/23016-0023j.jpg
END:VEVENT
BEGIN:VEVENT
DTSTART;TZID=America/Los_Angeles:20260730T100000
DTEND;TZID=America/Los_Angeles:20260730T103000
DTSTAMP:20260423T093749
CREATED:20231218T232830Z
LAST-MODIFIED:20260422T233355Z
UID:10009149-1785405600-1785407400@familyfirstrenton.org
SUMMARY:Seated Stretching for Seniors
DESCRIPTION:Join Ricky Thatsanavongsa from Golden Sun Athletic Association LLC in the Dance Studio for Seated Stretching for Seniors! \nDrop-ins are accepted!
URL:https://familyfirstrenton.org/schedule/seated-stretching-for-seniors/2026-07-30/
LOCATION:Family First Community Center: Dance Studio
CATEGORIES:Adults and Seniors
ATTACH;FMTTYPE=image/jpeg:https://familyfirstrenton.org/wp-content/uploads/2023/06/FFCC-Dance-Studio-2023-scaled.jpg
END:VEVENT
BEGIN:VEVENT
DTSTART;TZID=America/Los_Angeles:20260730T100000
DTEND;TZID=America/Los_Angeles:20260730T120000
DTSTAMP:20260423T093749
CREATED:20260407T171855Z
LAST-MODIFIED:20260407T171855Z
UID:10009037-1785405600-1785412800@familyfirstrenton.org
SUMMARY:Pickleball with The Family First Community Center (Modified Hours)
DESCRIPTION:Community members can drop in to play pickleball and connect with other locals.
URL:https://familyfirstrenton.org/schedule/pickleball-with-the-family-first-community-center-modified-hours/2026-07-30/
LOCATION:Family First Community Center: Gymnasium 1/2\, 16200 116th Ave SE\, Renton\, WA\, 98058
CATEGORIES:Adults and Seniors
ATTACH;FMTTYPE=image/jpeg:https://familyfirstrenton.org/wp-content/uploads/2023/12/23016-0023j.jpg
END:VEVENT
BEGIN:VEVENT
DTSTART;TZID=America/Los_Angeles:20260730T110000
DTEND;TZID=America/Los_Angeles:20260730T120000
DTSTAMP:20260423T093749
CREATED:20260116T235513Z
LAST-MODIFIED:20260422T234345Z
UID:10009169-1785409200-1785412800@familyfirstrenton.org
SUMMARY:Soft Style Kung Fu for Seniors
DESCRIPTION:Join Ricky Thatsanavongsa from Golden Sun Athletics for Soft Style Kung Fu for Seniors! \nThis soft style Kung Fu for Seniors class includes Baat Ying Baat Faat\, Chinese martial arts\, to practice balance\, coordination\, and breathing exercises through traditional techniques. \nDrop-ins are accepted.
URL:https://familyfirstrenton.org/schedule/soft-style-kung-fu-for-seniors/2026-07-30/
LOCATION:Family First Community Center: Dance Studio
CATEGORIES:Adults and Seniors
ATTACH;FMTTYPE=image/jpeg:https://familyfirstrenton.org/wp-content/uploads/2023/12/IMG_9726-scaled.jpg
END:VEVENT
BEGIN:VEVENT
DTSTART;TZID=America/Los_Angeles:20260730T130000
DTEND;TZID=America/Los_Angeles:20260730T150000
DTSTAMP:20260423T093749
CREATED:20260114T204325Z
LAST-MODIFIED:20260422T235658Z
UID:10009185-1785416400-1785423600@familyfirstrenton.org
SUMMARY:Family Science Time
DESCRIPTION:Join the Environmental Science Center for our drop-in family science time. Each session features a different STEM topic with hands-on activities and crafts to keep your kids learning all year long! Stop by during any part of our event time to be a part of the fun. These programs are open to all ages\, but best recommended for families with scientists grades K-5. \nProgram Themes \n\nJanuary- weather science\nFebruary- bird science\nMarch- plant science\nApril- Earth Day science\nMay- gardening science\nJune- insect & pollinator science
URL:https://familyfirstrenton.org/schedule/family-science-time/2026-07-30/
LOCATION:Family First Community Center: Makerspace 1
CATEGORIES:Families,Adults and Seniors,Young Children
ATTACH;FMTTYPE=image/jpeg:https://familyfirstrenton.org/wp-content/uploads/2025/01/Image_20241213_112859_152-scaled-e1757538041404.jpeg
END:VEVENT
END:VCALENDAR